
BEGIN:VCALENDAR
VERSION:2.0
PRODID:-//Alzheimers Society of Toronto - ECPv6.15.17.1//NONSGML v1.0//EN
CALSCALE:GREGORIAN
METHOD:PUBLISH
X-WR-CALNAME:Alzheimers Society of Toronto
X-ORIGINAL-URL:https://alz.to
X-WR-CALDESC:Events for Alzheimers Society of Toronto
REFRESH-INTERVAL;VALUE=DURATION:PT1H
X-Robots-Tag:noindex
X-PUBLISHED-TTL:PT1H
BEGIN:VTIMEZONE
TZID:America/Toronto
BEGIN:DAYLIGHT
TZOFFSETFROM:-0500
TZOFFSETTO:-0400
TZNAME:EDT
DTSTART:20240310T070000
END:DAYLIGHT
BEGIN:STANDARD
TZOFFSETFROM:-0400
TZOFFSETTO:-0500
TZNAME:EST
DTSTART:20241103T060000
END:STANDARD
BEGIN:DAYLIGHT
TZOFFSETFROM:-0500
TZOFFSETTO:-0400
TZNAME:EDT
DTSTART:20250309T070000
END:DAYLIGHT
BEGIN:STANDARD
TZOFFSETFROM:-0400
TZOFFSETTO:-0500
TZNAME:EST
DTSTART:20251102T060000
END:STANDARD
BEGIN:DAYLIGHT
TZOFFSETFROM:-0500
TZOFFSETTO:-0400
TZNAME:EDT
DTSTART:20260308T070000
END:DAYLIGHT
BEGIN:STANDARD
TZOFFSETFROM:-0400
TZOFFSETTO:-0500
TZNAME:EST
DTSTART:20261101T060000
END:STANDARD
END:VTIMEZONE
BEGIN:VEVENT
DTSTART;TZID=America/Toronto:20251208T090000
DTEND;TZID=America/Toronto:20251208T170000
DTSTAMP:20260421T071439
CREATED:20251009T132921Z
LAST-MODIFIED:20251122T170948Z
UID:10003364-1765184400-1765213200@alz.to
SUMMARY:Gentle Persuasive Approaches (GPA) Training
DESCRIPTION:Training for personal support workers or front-line health-care providers. \nGPA Basics is a 4 module evidence-based education session designed for team members who care for older adults who display responsive behaviours associated with dementia. The GPA curriculum will educate staff on how to use a person-centred\, compassionate and gentle persuasive approach and to respond respectfully\, with confidence and skill to responsive behaviour associated with dementia. \nLearning Objectives: \n\nExplain the relationship between the disease process and a person’s behaviour response\nApply emotional\, environmental\, and interpersonal communication strategies to prevent and diffuse responsive behaviours\nDemonstrate suitable and respectful techniques to use in situations of risk\n\n  \nDate and Time: \nMonday\, December 8th from 9:00am to 5:00pm\n(You must attend the full day to complete the training) \nCost: $87 \n  \nThis is an In-Person workshop at our Alzheimer Society of Toronto head office.\nAddress: 20 Eglinton Ave West\, 16th Floor\, Toronto   M4R 1K8\n(Northwest corner of Yonge and Eglinton\, across the street from Yonge and Eglinton subway station. Our office tower is to the left of Metro Grocery) \n  \nRegistration is required. [When registering\, please ensure the email provided is one you have regular access to. In the unlikely event of cancellations or other changes\, we will reach out to you via email]\nRegistration deadline is Friday\, December 5th\, 2025
URL:https://alz.to/calendar/gentle-persuasive-approaches-gpa-training-23/
LOCATION:Alzheimer Society of Toronto Head Office\, 20 Eglinton Ave West\, 16th floor\, Toronto\, Ontario\, M4R 1K8\, Canada
CATEGORIES:Certificate Program,Gentle Persuasive Approaches,Health Care Professionals
ATTACH;FMTTYPE=image/jpeg:https://alz.to/wp-content/uploads/2024/10/Palliative_Care800X600.jpg
ORGANIZER;CN="Education Team at Alzheimer Society of Toronto":MAILTO:education@alz.to
END:VEVENT
BEGIN:VEVENT
DTSTART;TZID=America/Toronto:20251213T090000
DTEND;TZID=America/Toronto:20251213T120000
DTSTAMP:20260421T071439
CREATED:20251001T130007Z
LAST-MODIFIED:20250814T181143Z
UID:10003024-1765616400-1765627200@alz.to
SUMMARY:Palliative Care in Dementia Program
DESCRIPTION:PRE-REQUISITE: You must be a FRONTLINE HEALTHCARE PROVIDER and have attended either: \n\nDementia Foundations\nDementia 101 self paced module on AlzEducate\nDementia Overview – live session delivered via Zoom or AlzEducate (check our events calendar for dates)\nExperience working with people with dementia\n\n  \nDescription\nThis training program is aimed at enhancing the knowledge of frontline staff in caring for people with dementia using a palliative care approach. This program focuses on promoting quality of life and comfort for individuals living with dementias and their families\, with particular emphasis on late stage and end of life. Participants will explore their own beliefs around dying and how it impacts care as well as examine what a palliative care approach means through a dementia lens. \nLearning Objectives: \n\nReflect on different values & beliefs on dying and how it impacts care\nDefine palliative care\nDescribe dementia as a terminal condition and its symptoms in late/end of life stages\nReview Dementia-Specific Palliative Care Goals/Values that provide comfort and support quality of life in advanced and end-of-life dementia\nRelate concepts of culture\, spirituality and communication and their significance in delivering person-centered care\nAddressing unattended grief as a healthcare provider and its impact on delivering person-centered care\n\n  \nDate and Time: \nSaturday\, December 13th from 9:00am to 12:00pm \n\nPlease Read Before Registering\nAt the Alzheimer Society of Toronto\, we are committed to providing accessible education opportunities to health care professionals. When participants are unable to attend and do not cancel their registration\, it limits access for others.\nIf you are unable to attend a session you’ve registered for\, please notify us as soon as possible! This allows us to offer the spot to someone else.\nPlease note that repeated absences without notice will result in restrictions on future registrations.\nBy registering for this session\, you are agreeing to the statement above\n\nClick the link below to register: \nhttps://us06web.zoom.us/meeting/register/sLfVMQ85QyiW9L1EO9t5PA \n  \nProgram will be presented online using Zoom. Registration is required.
URL:https://alz.to/calendar/palliative-care-in-dementia-program-6/
CATEGORIES:Certificate Program,Health Care Professionals,Palliative Care
ATTACH;FMTTYPE=image/jpeg:https://alz.to/wp-content/uploads/2024/10/AdobeStock_438621431-scaled.jpeg
ORGANIZER;CN="Education Team at Alzheimer Society of Toronto":MAILTO:education@alz.to
LOCATION:https://alz.to/calendar/palliative-care-in-dementia-program-6/
END:VEVENT
BEGIN:VEVENT
DTSTART;TZID=America/Toronto:20251213T090000
DTEND;TZID=America/Toronto:20251213T170000
DTSTAMP:20260421T071439
CREATED:20251001T130043Z
LAST-MODIFIED:20250814T180816Z
UID:10002809-1765616400-1765645200@alz.to
SUMMARY:Gentle Persuasive Approaches (GPA) Training
DESCRIPTION:Training for personal support workers or front-line health-care providers. \nGPA Basics is a 4 module evidence-based education session designed for team members who care for older adults who display responsive behaviours associated with dementia. The GPA curriculum will educate staff on how to use a person-centred\, compassionate and gentle persuasive approach and to respond respectfully\, with confidence and skill to responsive behaviour associated with dementia. \nLearning Objectives: \n\nExplain the relationship between the disease process and a person’s behaviour response\nApply emotional\, environmental\, and interpersonal communication strategies to prevent and diffuse responsive behaviours\nDemonstrate suitable and respectful techniques to use in situations of risk\n\n  \nDate and Time: \nSaturday\, December 13th from 9:00am to 5:00pm\n(You must attend the full day to complete the training) \nCost: $87 \n  \nThis is an In-Person workshop at our Alzheimer Society of Toronto head office.\nAddress: 20 Eglinton Ave West\, 16th Floor\, Toronto   M4R 1K8\n(Northwest corner of Yonge and Eglinton\, across the street from Yonge and Eglinton subway station. Our office tower is to the left of Metro Grocery) \n  \nRegistration is required. [When registering\, please ensure the email provided is one you have regular access to. In the unlikely event of cancellations or other changes\, we will reach out to you via email]\nRegistration deadline is Wednesday\, December 10th\, 2025
URL:https://alz.to/calendar/gentle-persuasive-approaches-gpa-training-21/
LOCATION:Alzheimer Society of Toronto Head Office\, 20 Eglinton Ave West\, 16th floor\, Toronto\, Ontario\, M4R 1K8\, Canada
CATEGORIES:Certificate Program,Gentle Persuasive Approaches,Health Care Professionals
ATTACH;FMTTYPE=image/jpeg:https://alz.to/wp-content/uploads/2024/10/Palliative_Care800X600.jpg
ORGANIZER;CN="Education Team at Alzheimer Society of Toronto":MAILTO:education@alz.to
END:VEVENT
BEGIN:VEVENT
DTSTART;TZID=America/Toronto:20251218T090000
DTEND;TZID=America/Toronto:20251218T160000
DTSTAMP:20260421T071439
CREATED:20251001T130016Z
LAST-MODIFIED:20251003T132706Z
UID:10003023-1766048400-1766073600@alz.to
SUMMARY:U-First!® (for Health Care Professionals)
DESCRIPTION:U-First!® for Health Care Professionals supports health care and other service providers who work with people living with dementia or other cognitive impairments. U-First!® builds on existing curriculum and encourages learners to make lifelong learning a goal. The vision is to provide every member of the care team with consistent education on key skills and best care practices. It sets the stage for common knowledge\, language for communicating with all members of the care team (including informal care partners)\, and a comprehensive approach to care. \nThis program is for personal support workers and other front-line health care workers (including dietary\, rehabilitation and social service staff\, activationists\, nurses\, and health care students). \nWe highly recommend that you take Dementia Foundations prior to registering to this course. \n\n  \nDate and Time: \nThursday\, December 18th from 9:00am to 4:00pm \nCost: $80 \n  \nThis is an In-Person workshop at the Alzheimer Society of Toronto (Head office)\nAddress: 20 Eglinton Avenue West\, 16th Floor\, Toronto\, Ontario   M4R 1K8 \n  \nRegistration is required. [When registering\, please ensure the email provided is one you have regular access to. In the unlikely event of cancellations or other changes\, we will reach out to you via email]\nRegistration deadline is Monday\, December 15th\, 2025
URL:https://alz.to/calendar/u-first-for-health-care-professionals-6/
LOCATION:Alzheimer Society of Toronto Head Office\, 20 Eglinton Ave West\, 16th floor\, Toronto\, Ontario\, M4R 1K8\, Canada
CATEGORIES:Certificate Program,Health Care Professionals,U-First
ATTACH;FMTTYPE=image/jpeg:https://alz.to/wp-content/uploads/2024/10/u-first.jpg
ORGANIZER;CN="Education Team at Alzheimer Society of Toronto":MAILTO:education@alz.to
END:VEVENT
END:VCALENDAR