
BEGIN:VCALENDAR
VERSION:2.0
PRODID:-//Alzheimers Society of Toronto - ECPv6.15.17.1//NONSGML v1.0//EN
CALSCALE:GREGORIAN
METHOD:PUBLISH
X-WR-CALNAME:Alzheimers Society of Toronto
X-ORIGINAL-URL:https://alz.to
X-WR-CALDESC:Events for Alzheimers Society of Toronto
REFRESH-INTERVAL;VALUE=DURATION:PT1H
X-Robots-Tag:noindex
X-PUBLISHED-TTL:PT1H
BEGIN:VTIMEZONE
TZID:America/Toronto
BEGIN:DAYLIGHT
TZOFFSETFROM:-0500
TZOFFSETTO:-0400
TZNAME:EDT
DTSTART:20250309T070000
END:DAYLIGHT
BEGIN:STANDARD
TZOFFSETFROM:-0400
TZOFFSETTO:-0500
TZNAME:EST
DTSTART:20251102T060000
END:STANDARD
BEGIN:DAYLIGHT
TZOFFSETFROM:-0500
TZOFFSETTO:-0400
TZNAME:EDT
DTSTART:20260308T070000
END:DAYLIGHT
BEGIN:STANDARD
TZOFFSETFROM:-0400
TZOFFSETTO:-0500
TZNAME:EST
DTSTART:20261101T060000
END:STANDARD
BEGIN:DAYLIGHT
TZOFFSETFROM:-0500
TZOFFSETTO:-0400
TZNAME:EDT
DTSTART:20270314T070000
END:DAYLIGHT
BEGIN:STANDARD
TZOFFSETFROM:-0400
TZOFFSETTO:-0500
TZNAME:EST
DTSTART:20271107T060000
END:STANDARD
END:VTIMEZONE
BEGIN:VEVENT
DTSTART;TZID=America/Toronto:20260423T190000
DTEND;TZID=America/Toronto:20260423T200000
DTSTAMP:20260423T135311
CREATED:20260130T150031Z
LAST-MODIFIED:20260130T150136Z
UID:10003801-1776970800-1776974400@alz.to
SUMMARY:EASE Session 3: Tips in Supporting People with Dementia
DESCRIPTION:The E.A.S.E program is a 4-session program developed for PSWs currently working with persons living with dementia.\nThe program will engage PSWs in dementia education\, giving practical tools to improve the level of care and support provided to persons living with dementia and the PSW – a real-life approach. PSW’s will leave each session with tools/ideas to use right away on the job. \nNOTE: Each session is a stand-alone. A separate registration is required for each session. \n  \nDates:\nThursdays\, April 9th\, 16th\, 23rd\, and 30th \nTime:\n7pm – 8pm \n  \nSession 3 – Tips in Supporting People with Dementia\nIt is empowering to have a tool belt of resources at our fingertips. In this session we explore various methods we can use to provide a positive approach to interaction.
URL:https://alz.to/calendar/ease-session-3-tips-in-supporting-people-with-dementia-3/
CATEGORIES:EASE,Health Care Professionals
ATTACH;FMTTYPE=image/jpeg:https://alz.to/wp-content/uploads/2024/10/Palliative_Care800X600.jpg
ORGANIZER;CN="Education Team at Alzheimer Society of Toronto":MAILTO:education@alz.to
LOCATION:https://alz.to/calendar/ease-session-3-tips-in-supporting-people-with-dementia-3/
END:VEVENT
BEGIN:VEVENT
DTSTART;TZID=America/Toronto:20260430T190000
DTEND;TZID=America/Toronto:20260430T200000
DTSTAMP:20260423T135311
CREATED:20260130T150503Z
LAST-MODIFIED:20260130T150546Z
UID:10003802-1777575600-1777579200@alz.to
SUMMARY:EASE Session 4: T.R.U.S.T. in Dementia Care
DESCRIPTION:The E.A.S.E program is a 4-session program developed for PSWs currently working with persons living with dementia.\nThe program will engage PSWs in dementia education\, giving practical tools to improve the level of care and support provided to persons living with dementia and the PSW – a real-life approach. PSW’s will leave each session with tools/ideas to use right away on the job. \nNOTE: Each session is a stand-alone. A separate registration is required for each session. \n  \nDates:\nThursdays\, April 9th\, 16th\, 23rd\, and 30th \nTime:\n7pm – 8pm \n  \nSession 4 – T.R.U.S.T. in Dementia Care\nTRUST (The Recognition and Understanding of Sensitive Topics) in Dementia Care is a workshop for frontline health care professionals who work directly with persons living with dementia. Participants will be able to understand factors that lead to responsive behaviours\, recognize the emotional impact responsive behaviours have on healthcare workers\, and identify strategies and tools to build resiliency to cope with hurtful actions and comments.
URL:https://alz.to/calendar/ease-session-4-t-r-u-s-t-in-dementia-care/
CATEGORIES:EASE,Health Care Professionals
ATTACH;FMTTYPE=image/jpeg:https://alz.to/wp-content/uploads/2024/10/Palliative_Care800X600.jpg
ORGANIZER;CN="Education Team at Alzheimer Society of Toronto":MAILTO:education@alz.to
LOCATION:https://alz.to/calendar/ease-session-4-t-r-u-s-t-in-dementia-care/
END:VEVENT
END:VCALENDAR