
BEGIN:VCALENDAR
VERSION:2.0
PRODID:-//Alzheimers Society of Toronto - ECPv6.15.17.1//NONSGML v1.0//EN
CALSCALE:GREGORIAN
METHOD:PUBLISH
X-ORIGINAL-URL:https://alz.to
X-WR-CALDESC:Events for Alzheimers Society of Toronto
REFRESH-INTERVAL;VALUE=DURATION:PT1H
X-Robots-Tag:noindex
X-PUBLISHED-TTL:PT1H
BEGIN:VTIMEZONE
TZID:America/Toronto
BEGIN:DAYLIGHT
TZOFFSETFROM:-0500
TZOFFSETTO:-0400
TZNAME:EDT
DTSTART:20240310T070000
END:DAYLIGHT
BEGIN:STANDARD
TZOFFSETFROM:-0400
TZOFFSETTO:-0500
TZNAME:EST
DTSTART:20241103T060000
END:STANDARD
BEGIN:DAYLIGHT
TZOFFSETFROM:-0500
TZOFFSETTO:-0400
TZNAME:EDT
DTSTART:20250309T070000
END:DAYLIGHT
BEGIN:STANDARD
TZOFFSETFROM:-0400
TZOFFSETTO:-0500
TZNAME:EST
DTSTART:20251102T060000
END:STANDARD
BEGIN:DAYLIGHT
TZOFFSETFROM:-0500
TZOFFSETTO:-0400
TZNAME:EDT
DTSTART:20260308T070000
END:DAYLIGHT
BEGIN:STANDARD
TZOFFSETFROM:-0400
TZOFFSETTO:-0500
TZNAME:EST
DTSTART:20261101T060000
END:STANDARD
END:VTIMEZONE
BEGIN:VEVENT
DTSTART;TZID=America/Toronto:20251218T090000
DTEND;TZID=America/Toronto:20251218T160000
DTSTAMP:20260423T063640
CREATED:20251001T130016Z
LAST-MODIFIED:20251003T132706Z
UID:10003023-1766048400-1766073600@alz.to
SUMMARY:U-First!® (for Health Care Professionals)
DESCRIPTION:U-First!® for Health Care Professionals supports health care and other service providers who work with people living with dementia or other cognitive impairments. U-First!® builds on existing curriculum and encourages learners to make lifelong learning a goal. The vision is to provide every member of the care team with consistent education on key skills and best care practices. It sets the stage for common knowledge\, language for communicating with all members of the care team (including informal care partners)\, and a comprehensive approach to care. \nThis program is for personal support workers and other front-line health care workers (including dietary\, rehabilitation and social service staff\, activationists\, nurses\, and health care students). \nWe highly recommend that you take Dementia Foundations prior to registering to this course. \n\n  \nDate and Time: \nThursday\, December 18th from 9:00am to 4:00pm \nCost: $80 \n  \nThis is an In-Person workshop at the Alzheimer Society of Toronto (Head office)\nAddress: 20 Eglinton Avenue West\, 16th Floor\, Toronto\, Ontario   M4R 1K8 \n  \nRegistration is required. [When registering\, please ensure the email provided is one you have regular access to. In the unlikely event of cancellations or other changes\, we will reach out to you via email]\nRegistration deadline is Monday\, December 15th\, 2025
URL:https://alz.to/calendar/u-first-for-health-care-professionals-6/
LOCATION:Alzheimer Society of Toronto Head Office\, 20 Eglinton Ave West\, 16th floor\, Toronto\, Ontario\, M4R 1K8\, Canada
CATEGORIES:Certificate Program,Health Care Professionals,U-First
ATTACH;FMTTYPE=image/jpeg:https://alz.to/wp-content/uploads/2024/10/u-first.jpg
ORGANIZER;CN="Education Team at Alzheimer Society of Toronto":MAILTO:education@alz.to
END:VEVENT
END:VCALENDAR