
BEGIN:VCALENDAR
VERSION:2.0
PRODID:-//Alzheimers Society of Toronto - ECPv6.15.17.1//NONSGML v1.0//EN
CALSCALE:GREGORIAN
METHOD:PUBLISH
X-WR-CALNAME:Alzheimers Society of Toronto
X-ORIGINAL-URL:https://alz.to
X-WR-CALDESC:Events for Alzheimers Society of Toronto
REFRESH-INTERVAL;VALUE=DURATION:PT1H
X-Robots-Tag:noindex
X-PUBLISHED-TTL:PT1H
BEGIN:VTIMEZONE
TZID:America/Toronto
BEGIN:DAYLIGHT
TZOFFSETFROM:-0500
TZOFFSETTO:-0400
TZNAME:EDT
DTSTART:20230312T070000
END:DAYLIGHT
BEGIN:STANDARD
TZOFFSETFROM:-0400
TZOFFSETTO:-0500
TZNAME:EST
DTSTART:20231105T060000
END:STANDARD
BEGIN:DAYLIGHT
TZOFFSETFROM:-0500
TZOFFSETTO:-0400
TZNAME:EDT
DTSTART:20240310T070000
END:DAYLIGHT
BEGIN:STANDARD
TZOFFSETFROM:-0400
TZOFFSETTO:-0500
TZNAME:EST
DTSTART:20241103T060000
END:STANDARD
BEGIN:DAYLIGHT
TZOFFSETFROM:-0500
TZOFFSETTO:-0400
TZNAME:EDT
DTSTART:20250309T070000
END:DAYLIGHT
BEGIN:STANDARD
TZOFFSETFROM:-0400
TZOFFSETTO:-0500
TZNAME:EST
DTSTART:20251102T060000
END:STANDARD
BEGIN:DAYLIGHT
TZOFFSETFROM:-0500
TZOFFSETTO:-0400
TZNAME:EDT
DTSTART:20260308T070000
END:DAYLIGHT
BEGIN:STANDARD
TZOFFSETFROM:-0400
TZOFFSETTO:-0500
TZNAME:EST
DTSTART:20261101T060000
END:STANDARD
END:VTIMEZONE
BEGIN:VEVENT
DTSTART;TZID=America/Toronto:20250327T170000
DTEND;TZID=America/Toronto:20250327T200000
DTSTAMP:20260423T165929
CREATED:20250101T140054Z
LAST-MODIFIED:20250115T175843Z
UID:10001748-1743094800-1743105600@alz.to
SUMMARY:U-First! (for Health Care Professionals) [Half Days] – Special Funding
DESCRIPTION:U-First!® for Health Care Professionals supports health care and other service providers who work with people living with dementia or other cognitive impairments. U-First!® builds on existing curriculum and encourages learners to make lifelong learning a goal. The vision is to provide every member of the care team with consistent education on key skills and best care practices. It sets the stage for common knowledge\, language for communicating with all members of the care team (including informal care partners)\, and a comprehensive approach to care. \nThis program is for personal support workers and other front-line health care workers (including dietary\, rehabilitation and social service staff\, activationists\, nurses\, and health care students). \nWe highly recommend that you take Dementia Foundations prior to registering to this course. \n\n  \nDate and Time: \nThursday\, March 20th and 27th from 5:00pm to 8:00pm\n(Participants must attend both days in full to receive certification) \n  \nCost: Free\nThanks to funding provided through our Unforgettable Gala Fund A Need\, we are able to provide this training at no cost to you. \n  \nProgram is presented via Zoom \nRegistration is required.\nRegistration deadline is Monday\, March 10th\, 2025
URL:https://alz.to/calendar/u-first-for-health-care-professionals-half-days-special-funding/2025-03-27/
CATEGORIES:Certificate Program,Health Care Professionals,U-First
ATTACH;FMTTYPE=image/jpeg:https://alz.to/wp-content/uploads/2024/10/u-first.jpg
ORGANIZER;CN="Education Team at Alzheimer Society of Toronto":MAILTO:education@alz.to
LOCATION:https://alz.to/calendar/u-first-for-health-care-professionals-half-days-special-funding/2025-03-27/
END:VEVENT
BEGIN:VEVENT
DTSTART;TZID=America/Toronto:20250320T170000
DTEND;TZID=America/Toronto:20250320T200000
DTSTAMP:20260423T165929
CREATED:20250101T140054Z
LAST-MODIFIED:20250115T175843Z
UID:10001747-1742490000-1742500800@alz.to
SUMMARY:U-First! (for Health Care Professionals) [Half Days] – Special Funding
DESCRIPTION:U-First!® for Health Care Professionals supports health care and other service providers who work with people living with dementia or other cognitive impairments. U-First!® builds on existing curriculum and encourages learners to make lifelong learning a goal. The vision is to provide every member of the care team with consistent education on key skills and best care practices. It sets the stage for common knowledge\, language for communicating with all members of the care team (including informal care partners)\, and a comprehensive approach to care. \nThis program is for personal support workers and other front-line health care workers (including dietary\, rehabilitation and social service staff\, activationists\, nurses\, and health care students). \nWe highly recommend that you take Dementia Foundations prior to registering to this course. \n\n  \nDate and Time: \nThursday\, March 20th and 27th from 5:00pm to 8:00pm\n(Participants must attend both days in full to receive certification) \n  \nCost: Free\nThanks to funding provided through our Unforgettable Gala Fund A Need\, we are able to provide this training at no cost to you. \n  \nProgram is presented via Zoom \nRegistration is required.\nRegistration deadline is Monday\, March 10th\, 2025
URL:https://alz.to/calendar/u-first-for-health-care-professionals-half-days-special-funding/2025-03-20/
CATEGORIES:Certificate Program,Health Care Professionals,U-First
ATTACH;FMTTYPE=image/jpeg:https://alz.to/wp-content/uploads/2024/10/u-first.jpg
ORGANIZER;CN="Education Team at Alzheimer Society of Toronto":MAILTO:education@alz.to
LOCATION:https://alz.to/calendar/u-first-for-health-care-professionals-half-days-special-funding/2025-03-20/
END:VEVENT
BEGIN:VEVENT
DTSTART;TZID=America/Toronto:20250307T090000
DTEND;TZID=America/Toronto:20250307T160000
DTSTAMP:20260423T165929
CREATED:20250211T163656Z
LAST-MODIFIED:20250211T163656Z
UID:10001979-1741338000-1741363200@alz.to
SUMMARY:U-First!® (for Health Care Professionals) – Special Funding
DESCRIPTION:U-First!® for Health Care Professionals supports health care and other service providers who work with people living with dementia or other cognitive impairments. U-First!® builds on existing curriculum and encourages learners to make lifelong learning a goal. The vision is to provide every member of the care team with consistent education on key skills and best care practices. It sets the stage for common knowledge\, language for communicating with all members of the care team (including informal care partners)\, and a comprehensive approach to care. \nThis program is for personal support workers and other front-line health care workers (including dietary\, rehabilitation and social service staff\, activationists\, nurses\, and health care students). \nWe highly recommend that you take Dementia Foundations prior to registering to this course. \n\n  \nDate and Time: \nFriday\, March 7th from 9:00am to 4:00pm \n  \nCost: Free\nThanks to funding provided through our Unforgettable Gala Fund A Need\, we are able to provide this training at no cost to you. \n  \nProgram is presented In-Person at our AST Head Office.\nLocation: 20 Eglinton Avenue West\, 16th Floor\, Toronto\, M4R 1K8\n(Northwest corner of Yonge and Eglinton\, across the street from Yonge and Eglinton subway station. Our office tower is to the left of Metro Grocery) \nRegistration is required.\nRegistration deadline is Monday\, March 3rd\, 2025 \n 
URL:https://alz.to/calendar/u-first-for-health-care-professionals-special-funding-7/
LOCATION:Alzheimer Society of Toronto Head Office\, 20 Eglinton Ave West\, 16th floor\, Toronto\, Ontario\, M4R 1K8\, Canada
CATEGORIES:Certificate Program,Health Care Professionals,U-First
ATTACH;FMTTYPE=image/jpeg:https://alz.to/wp-content/uploads/2024/10/u-first.jpg
END:VEVENT
BEGIN:VEVENT
DTSTART;TZID=America/Toronto:20250220T090000
DTEND;TZID=America/Toronto:20250220T160000
DTSTAMP:20260423T165929
CREATED:20241202T143644Z
LAST-MODIFIED:20241217T205305Z
UID:10001606-1740042000-1740067200@alz.to
SUMMARY:U-First! (for Health Care Professionals) – Special Funding
DESCRIPTION:U-First!® for Health Care Professionals supports health care and other service providers who work with people living with dementia or other cognitive impairments. U-First!® builds on existing curriculum and encourages learners to make lifelong learning a goal. The vision is to provide every member of the care team with consistent education on key skills and best care practices. It sets the stage for common knowledge\, language for communicating with all members of the care team (including informal care partners)\, and a comprehensive approach to care. \nThis program is for personal support workers and other front-line health care workers (including dietary\, rehabilitation and social service staff\, activationists\, nurses\, and health care students). \nWe highly recommend that you take Dementia Foundations prior to registering to this course. \n\n  \nDate and Time: \nThursday\, February 20th from 9:00am to 4:00pm \n  \nCost: Free\nThanks to funding provided through our Unforgettable Gala Fund A Need\, we are able to provide this training at no cost to you. \n  \nProgram is presented In-Person at our AST Head Office.\nLocation: 20 Eglinton Avenue West\, 16th Floor\, Toronto\, M4R 1K8\n(Northwest corner of Yonge and Eglinton\, across the street from Yonge and Eglinton subway station. Our office tower is to the left of Metro Grocery) \nRegistration is required.\nRegistration deadline is Monday\, February 17th\, 2025 \n 
URL:https://alz.to/calendar/u-first-for-health-care-professionals-special-funding-5/
LOCATION:Alzheimer Society of Toronto Head Office\, 20 Eglinton Ave West\, 16th floor\, Toronto\, Ontario\, M4R 1K8\, Canada
CATEGORIES:Certificate Program,Health Care Professionals,U-First
ATTACH;FMTTYPE=image/jpeg:https://alz.to/wp-content/uploads/2024/10/u-first.jpg
END:VEVENT
BEGIN:VEVENT
DTSTART;TZID=America/Toronto:20250125T090000
DTEND;TZID=America/Toronto:20250125T160000
DTSTAMP:20260423T165929
CREATED:20241111T164414Z
LAST-MODIFIED:20241113T195815Z
UID:10001229-1737795600-1737820800@alz.to
SUMMARY:U-First! (for Health Care Professionals) – Special Funding
DESCRIPTION:U-First!® for Health Care Professionals supports health care and other service providers who work with people living with dementia or other cognitive impairments. U-First!® builds on existing curriculum and encourages learners to make lifelong learning a goal. The vision is to provide every member of the care team with consistent education on key skills and best care practices. It sets the stage for common knowledge\, language for communicating with all members of the care team (including informal care partners)\, and a comprehensive approach to care. \nThis program is for personal support workers and other front-line health care workers (including dietary\, rehabilitation and social service staff\, activationists\, nurses\, and health care students). \nWe highly recommend that you take Dementia Foundations prior to registering to this course. \n\n  \nDate and Time: \nSaturday\, January 25th from 9:00am to 4:00pm \n  \nCost: Free\nThanks to funding provided through our Unforgettable Gala Fund A Need\, we are able to provide this training at no cost to you. \n  \nProgram is presented In-Person at our AST Head Office.\nLocation: 20 Eglinton Avenue West\, 16th Floor\, Toronto\, M4R 1K8\n(Northwest corner of Yonge and Eglinton\, across the street from Yonge and Eglinton subway station. Our office tower is to the left of Metro Grocery) \nRegistration is required.\nRegistration deadline is Wednesday\, January 22nd\, 2025 \n 
URL:https://alz.to/calendar/u-first-for-health-care-professionals-special-funding-2/
LOCATION:Alzheimer Society of Toronto Head Office\, 20 Eglinton Ave West\, 16th floor\, Toronto\, Ontario\, M4R 1K8\, Canada
CATEGORIES:Certificate Program,Health Care Professionals,U-First
ATTACH;FMTTYPE=image/jpeg:https://alz.to/wp-content/uploads/2024/10/u-first.jpg
END:VEVENT
BEGIN:VEVENT
DTSTART;TZID=America/Toronto:20250113T090000
DTEND;TZID=America/Toronto:20250113T160000
DTSTAMP:20260423T165929
CREATED:20241111T164541Z
LAST-MODIFIED:20241114T004530Z
UID:10001230-1736758800-1736784000@alz.to
SUMMARY:U-First! (for Health Care Professionals) – Special Funding
DESCRIPTION:U-First!® for Health Care Professionals supports health care and other service providers who work with people living with dementia or other cognitive impairments. U-First!® builds on existing curriculum and encourages learners to make lifelong learning a goal. The vision is to provide every member of the care team with consistent education on key skills and best care practices. It sets the stage for common knowledge\, language for communicating with all members of the care team (including informal care partners)\, and a comprehensive approach to care. \nThis program is for personal support workers and other front-line health care workers (including dietary\, rehabilitation and social service staff\, activationists\, nurses\, and health care students). \nWe highly recommend that you take Dementia Foundations prior to registering to this course. \n\n  \nDate and Time: \nMonday\, January 13th from 9:00am to 4:00pm \n  \nCost: Free\nThanks to funding provided through our Unforgettable Gala Fund A Need\, we are able to provide this training at no cost to you. \n  \nProgram is presented In-Person at our AST Head Office.\nLocation: 20 Eglinton Avenue West\, 16th Floor\, Toronto\, M4R 1K8\n(Northwest corner of Yonge and Eglinton\, across the street from Yonge and Eglinton subway station. Our office tower is to the left of Metro Grocery) \nRegistration is required.\nRegistration deadline is Thursday\, January 9th\, 2025 \n 
URL:https://alz.to/calendar/u-first-for-health-care-professionals-special-funding-3/
LOCATION:Alzheimer Society of Toronto Head Office\, 20 Eglinton Ave West\, 16th floor\, Toronto\, Ontario\, M4R 1K8\, Canada
CATEGORIES:Certificate Program,Health Care Professionals,U-First
ATTACH;FMTTYPE=image/jpeg:https://alz.to/wp-content/uploads/2024/10/u-first.jpg
END:VEVENT
BEGIN:VEVENT
DTSTART;TZID=America/Toronto:20241207T080000
DTEND;TZID=America/Toronto:20241207T150000
DTSTAMP:20260423T165929
CREATED:20241108T142044Z
LAST-MODIFIED:20241113T195910Z
UID:10001227-1733558400-1733583600@alz.to
SUMMARY:U-First! (for Health Care Professionals) – Special Funding
DESCRIPTION:U-First!® for Health Care Professionals supports health care and other service providers who work with people living with dementia or other cognitive impairments. U-First!® builds on existing curriculum and encourages learners to make lifelong learning a goal. The vision is to provide every member of the care team with consistent education on key skills and best care practices. It sets the stage for common knowledge\, language for communicating with all members of the care team (including informal care partners)\, and a comprehensive approach to care. \nThis program is for personal support workers and other front-line health care workers (including dietary\, rehabilitation and social service staff\, activationists\, nurses\, and health care students). \nWe highly recommend that you take Dementia Foundations prior to registering to this course. \n\n  \nDate and Time: \nSaturday\, December 7th from 8:00am to 3:00pm \n  \nCost: Free\nThanks to funding provided through our Unforgettable Gala Fund A Need\, we are able to provide this training at no cost to you. \nPlease enter your complete address (including apartment number if applicable) when you register. Course materials will be mailed to you ahead of time. A ten dollar fee will be applied if materials have to be reshipped due to an incomplete address \n  \nProgram is presented using Zoom.\nRegistration is required.\nRegistration deadline is Thursday\, November 28th\, 2024 \n 
URL:https://alz.to/calendar/u-first-for-health-care-professionals-special-funding/
CATEGORIES:Certificate Program,Health Care Professionals,U-First
ATTACH;FMTTYPE=image/jpeg:https://alz.to/wp-content/uploads/2024/10/u-first.jpg
LOCATION:https://alz.to/calendar/u-first-for-health-care-professionals-special-funding/
END:VEVENT
END:VCALENDAR