
BEGIN:VCALENDAR
VERSION:2.0
PRODID:-//Alzheimers Society of Toronto - ECPv6.15.17.1//NONSGML v1.0//EN
CALSCALE:GREGORIAN
METHOD:PUBLISH
X-WR-CALNAME:Alzheimers Society of Toronto
X-ORIGINAL-URL:https://alz.to
X-WR-CALDESC:Events for Alzheimers Society of Toronto
REFRESH-INTERVAL;VALUE=DURATION:PT1H
X-Robots-Tag:noindex
X-PUBLISHED-TTL:PT1H
BEGIN:VTIMEZONE
TZID:America/Toronto
BEGIN:DAYLIGHT
TZOFFSETFROM:-0500
TZOFFSETTO:-0400
TZNAME:EDT
DTSTART:20240310T070000
END:DAYLIGHT
BEGIN:STANDARD
TZOFFSETFROM:-0400
TZOFFSETTO:-0500
TZNAME:EST
DTSTART:20241103T060000
END:STANDARD
BEGIN:DAYLIGHT
TZOFFSETFROM:-0500
TZOFFSETTO:-0400
TZNAME:EDT
DTSTART:20250309T070000
END:DAYLIGHT
BEGIN:STANDARD
TZOFFSETFROM:-0400
TZOFFSETTO:-0500
TZNAME:EST
DTSTART:20251102T060000
END:STANDARD
BEGIN:DAYLIGHT
TZOFFSETFROM:-0500
TZOFFSETTO:-0400
TZNAME:EDT
DTSTART:20260308T070000
END:DAYLIGHT
BEGIN:STANDARD
TZOFFSETFROM:-0400
TZOFFSETTO:-0500
TZNAME:EST
DTSTART:20261101T060000
END:STANDARD
END:VTIMEZONE
BEGIN:VEVENT
DTSTART;TZID=America/Toronto:20250602T150000
DTEND;TZID=America/Toronto:20250602T163000
DTSTAMP:20260421T183247
CREATED:20250411T192933Z
LAST-MODIFIED:20250411T192933Z
UID:10002668-1748876400-1748881800@alz.to
SUMMARY:Living with Mild Cognitive Impairment (MCI)
DESCRIPTION:This workshop is for people living with Mild Cognitive Impairment (MCI) and/or care partners of people living with MCI. The focus of the session will be on providing an overview of MCI and the differences between normal aging\, MCI and dementia.\n  \nLearning Objectives: \n\n\nIncrease knowledge of MCI and the differences between normal aging\, MCI and dementia\nExplore how MCI impacts individuals and families\nLearn how to optimize cognitive health\nDevelop an understanding of supportive services in the community\n\n\n  \nWorkshop will be presented online using Zoom.\nRegistration is required to receive the Zoom link to participate.
URL:https://alz.to/calendar/living-with-mild-cognitive-impairment-mci/
LOCATION:https://alz.to/calendar/living-with-mild-cognitive-impairment-mci/
CATEGORIES:Learn,Workshops
ATTACH;FMTTYPE=image/jpeg:https://alz.to/wp-content/uploads/2024/08/Family_Dynamics_of_Caregiving800X600.jpg
ORGANIZER;CN="Alzheimer Society of Toronto":MAILTO:info@alz.to
END:VEVENT
BEGIN:VEVENT
DTSTART;TZID=America/Toronto:20250603T090000
DTEND;TZID=America/Toronto:20250603T103000
DTSTAMP:20260421T183247
CREATED:20250416T175540Z
LAST-MODIFIED:20250502T191155Z
UID:10002697-1748941200-1748946600@alz.to
SUMMARY:End of Life Care
DESCRIPTION:This workshop is for care partners of persons in the late stage of dementia. It provides an opportunity to discuss issues regarding changes in the late stage\, approaching the End-of-Life\, making difficult decisions for this stage\, grief and the need to take care of yourself.\n  \n\nFor Family and Friends of people living with dementia.\n  \n\n\nWorkshop will be presented online via Zoom.\nRegistration is required to participate.
URL:https://alz.to/calendar/end-of-life-care-2/
LOCATION:https://alz.to/calendar/end-of-life-care-2/
CATEGORIES:Learn,Workshops
ATTACH;FMTTYPE=image/jpeg:https://alz.to/wp-content/uploads/2024/10/AdobeStock_438621431-scaled.jpeg
ORGANIZER;CN="Alzheimer Society of Toronto":MAILTO:info@alz.to
END:VEVENT
BEGIN:VEVENT
DTSTART;TZID=America/Toronto:20250605T100000
DTEND;TZID=America/Toronto:20250605T113000
DTSTAMP:20260421T183247
CREATED:20250416T182042Z
LAST-MODIFIED:20250416T182042Z
UID:10002700-1749117600-1749123000@alz.to
SUMMARY:Self-Care (for Care Partners)
DESCRIPTION:This interactive workshop is designed to help family members and friends caring for people living with dementia. \nThe following topics will be covered: \n\nWhat is self-care?\nCommon barriers preventing caregivers from practicing self-care\nThe benefits of self-care habits\nStrategies\, approaches and ideas on incorporating self-care into our daily schedule\nEmotional hygiene and how to practice it\nCreating a self-care plan and sticking to it\n\n  \nWorkshop will be presented using Zoom.\nRegistration is required to receive the Zoom link to participate.
URL:https://alz.to/calendar/self-care-for-care-partners-3/
LOCATION:https://alz.to/calendar/self-care-for-care-partners-3/
CATEGORIES:Learn,Workshops
ATTACH;FMTTYPE=image/jpeg:https://alz.to/wp-content/uploads/2024/10/Drop_in_Long-Term_Care_Home_Caregiver_Support_Group-1.jpg
END:VEVENT
BEGIN:VEVENT
DTSTART;TZID=America/Toronto:20250610T140000
DTEND;TZID=America/Toronto:20250610T153000
DTSTAMP:20260421T183247
CREATED:20250416T182857Z
LAST-MODIFIED:20250416T182857Z
UID:10002702-1749564000-1749569400@alz.to
SUMMARY:Unpacking Denial in Dementia
DESCRIPTION:The focus of the session will be on exploring the concept of denial and anosognosia\, how it impacts persons with dementia and their care partners\, and strategies for assisting families. \nLearning Objectives: \n\nExplore the concept of denial and anosognosia\nIdentify how denial impacts persons with dementia and their care partners\nExplore behaviours and strategies for responding\nDevelop an understanding of supportive services in the community\n\n\nThis workshop is for care partners of a person living with dementia\n  \n\n\n\nWorkshop will be presented online using Zoom.\nRegistration is required to receive the Zoom link to participate.
URL:https://alz.to/calendar/unpacking-denial-in-dementia-2/
LOCATION:https://alz.to/calendar/unpacking-denial-in-dementia-2/
CATEGORIES:Learn,Workshops
ORGANIZER;CN="Alzheimer Society of Toronto":MAILTO:info@alz.to
END:VEVENT
BEGIN:VEVENT
DTSTART;TZID=America/Toronto:20250612T100000
DTEND;TZID=America/Toronto:20250612T113000
DTSTAMP:20260421T183247
CREATED:20250416T180809Z
LAST-MODIFIED:20250416T180809Z
UID:10002698-1749722400-1749727800@alz.to
SUMMARY:Finding Joy and Humour in Caregiving
DESCRIPTION:This educational workshop is for care partners of individuals living with dementia with a focus on looking at the lighter side of caregiving. \nLearning Objectives: \n\nExplore looking and living beyond the diagnosis\nCreate opportunities for joy and look at the lighter side of caregiving\nEvaluate the benefits of humour and having a positive outlook\nAssess the strategies and approaches for incorporating joy and humour into caregiving\n\n  \nWorkshop will be presented online using Zoom.\nRegistration is required to receive the Zoom link to participate.
URL:https://alz.to/calendar/finding-joy-and-humour-in-caregiving/
LOCATION:https://alz.to/calendar/finding-joy-and-humour-in-caregiving/
CATEGORIES:Learn,Workshops
ATTACH;FMTTYPE=image/jpeg:https://alz.to/wp-content/uploads/2024/09/tributeGiving.jpg
ORGANIZER;CN="Alzheimer Society of Toronto":MAILTO:info@alz.to
END:VEVENT
BEGIN:VEVENT
DTSTART;TZID=America/Toronto:20250617T100000
DTEND;TZID=America/Toronto:20250617T113000
DTSTAMP:20260421T183247
CREATED:20250416T175902Z
LAST-MODIFIED:20250416T175902Z
UID:10002671-1750154400-1750159800@alz.to
SUMMARY:Advanced Care Planning
DESCRIPTION:This workshop will review the importance of Advance Care Planning\, and the steps involved in the process\, in the case where one becomes mentally incapable of making their health care decisions. \n  \nLearning Objectives: \n\nUnderstand what is Advance Care Planning and why it is important\nLearn about the steps involved in Advance Care Planning\nUnderstand what is a Substitute Decision Maker and how to appoint a Power of Attorney\nRecognize what does capacity and incapacity mean in Ontario\n\n  \nWorkshop will be presented online using Zoom.\nRegistration is required to receive the Zoom link to participate.
URL:https://alz.to/calendar/advanced-care-planning/
LOCATION:https://alz.to/calendar/advanced-care-planning/
CATEGORIES:Learn,Workshops
ATTACH;FMTTYPE=image/jpeg:https://alz.to/wp-content/uploads/2024/10/404706d7a5e9c09761325981ac54af36.jpg
ORGANIZER;CN="Alzheimer Society of Toronto":MAILTO:info@alz.to
END:VEVENT
BEGIN:VEVENT
DTSTART;TZID=America/Toronto:20250620T103000
DTEND;TZID=America/Toronto:20250620T113000
DTSTAMP:20260421T183247
CREATED:20250207T172617Z
LAST-MODIFIED:20250509T122257Z
UID:10001910-1750415400-1750419000@alz.to
SUMMARY:Brain Health
DESCRIPTION:Join us at the Toronto Public Library – Jane/Sheppard Branch for our Brain Health education session. \n  \nGoals of this presentation include understanding the risk factors associated with developing dementia​\, recognizing how lifestyle plays a role in your risk of developing dementia​\, and taking action to support brain health. \n  \nThis program is Drop-In. No registration needed. \nTo learn more\, click here
URL:https://alz.to/calendar/living-safely-in-the-community/
LOCATION:Toronto Public Library – Jane/Sheppard Branch\, 1906 Sheppard Avenue West\, Toronto\, Ontario\, M3L 1Y7\, Canada
CATEGORIES:Learn,Workshops in the City
ATTACH;FMTTYPE=image/png:https://alz.to/wp-content/uploads/2024/10/Screenshot-2024-10-15-204444.png
ORGANIZER;CN="Alzheimer Society of Toronto":MAILTO:info@alz.to
END:VEVENT
BEGIN:VEVENT
DTSTART;TZID=America/Toronto:20250623T110000
DTEND;TZID=America/Toronto:20250623T130000
DTSTAMP:20260421T183247
CREATED:20250416T184307Z
LAST-MODIFIED:20250416T184307Z
UID:10002699-1750676400-1750683600@alz.to
SUMMARY:Putting You First for Care Partners
DESCRIPTION:This interactive 2-hour workshop will help participants reflect on all aspects of their well-being.\nThrough this guided reflection process\, participants will identify opportunities for change and start creating a plan to attaining better balance in their lives.\n\n \n\nWorkshop will be presented online using Zoom.\nRegistration is required to receive the Zoom link to participate.
URL:https://alz.to/calendar/putting-you-first-for-care-partners-3/
LOCATION:https://alz.to/calendar/putting-you-first-for-care-partners-3/
CATEGORIES:Learn,Workshops
ATTACH;FMTTYPE=image/jpeg:https://alz.to/wp-content/uploads/2024/10/BW___Dancing-800px.jpg
ORGANIZER;CN="Alzheimer Society of Toronto":MAILTO:info@alz.to
END:VEVENT
BEGIN:VEVENT
DTSTART;TZID=America/Toronto:20250623T140000
DTEND;TZID=America/Toronto:20250623T150000
DTSTAMP:20260421T183247
CREATED:20250508T163307Z
LAST-MODIFIED:20250508T163307Z
UID:10002810-1750687200-1750690800@alz.to
SUMMARY:Brain Health
DESCRIPTION:Join us at the Toronto Public Library – Maryvale Branch for our Brain Health education session. \n  \nGoals of this presentation include understanding the risk factors associated with developing dementia​\, recognizing how lifestyle plays a role in your risk of developing dementia​\, and taking action to support brain health. \n  \nThis program is Drop-In. No registration needed. \nTo learn more\, click here
URL:https://alz.to/calendar/brain-health-6/
LOCATION:Toronto Public Library – Maryvale Branch\, 85 Ellesmere Road\, Unit 22\, Toronto\, Ontario\, M1R 4B9\, Canada
CATEGORIES:Learn,Workshops in the City
ATTACH;FMTTYPE=image/jpeg:https://alz.to/wp-content/uploads/2024/10/PSW-EducationNight-5422-1.jpg
ORGANIZER;CN="Alzheimer Society of Toronto":MAILTO:info@alz.to
END:VEVENT
BEGIN:VEVENT
DTSTART;TZID=America/Toronto:20250626T100000
DTEND;TZID=America/Toronto:20250626T113000
DTSTAMP:20260421T183247
CREATED:20250416T182633Z
LAST-MODIFIED:20250416T182633Z
UID:10002701-1750932000-1750937400@alz.to
SUMMARY:Reframing Guilt and Anger in Caregiving
DESCRIPTION:This workshop is to help care partners recognize and identify the causes of guilt and anger in caregiving and develop coping strategies to reframe guilt\, anger and build resilience.\n\nFor Family and Friends of people living with dementia\n  \n\n\nWorkshop will be presented online using Zoom.\nRegistration is required to receive the Zoom link to participate.
URL:https://alz.to/calendar/reframing-guilt-and-anger-in-caregiving-2/
LOCATION:https://alz.to/calendar/reframing-guilt-and-anger-in-caregiving-2/
CATEGORIES:Learn,Workshops
ATTACH;FMTTYPE=image/jpeg:https://alz.to/wp-content/uploads/2024/08/Spousal_SG_sm.jpg
ORGANIZER;CN="Alzheimer Society of Toronto":MAILTO:info@alz.to
END:VEVENT
BEGIN:VEVENT
DTSTART;TZID=America/Toronto:20250626T140000
DTEND;TZID=America/Toronto:20250626T150000
DTSTAMP:20260421T183247
CREATED:20250228T153744Z
LAST-MODIFIED:20250421T131417Z
UID:10002023-1750946400-1750950000@alz.to
SUMMARY:Working in Long Term Care Series: Session 3 - Personal Care
DESCRIPTION:Session 3 of 3 in the Working in Long Term Care Series \nEnhance your knowledge in supporting personal care activities for persons living with dementia.\n\nLearning Objectives:\n\n\nDefine Behavioural and Psychological Symptoms of Dementia (BPSDs)\nDiscuss the connection between personal care and responsive behaviours.\nRecognize that behaviour has meaning specific to the individual.\nUse communication techniques including validation to reduce responsive behaviour during personal care\n\n\n  \nTo register for this webinar\, visit:\nwww.alzeducate.ca \nYou must login/create an account in order to participate. \nTo find the session: \n\nHover over “Education”  and select the intended audience.\nSelect webinars\, then “Upcoming live webinars”.\nSelect your chosen topic\, then click “Enrol me” to register.
URL:https://alz.to/calendar/working-in-long-term-care-series-session-3-personal-care-2/
LOCATION:Alzeducate
CATEGORIES:Learn,Webinars
ATTACH;FMTTYPE=image/jpeg:https://alz.to/wp-content/uploads/2024/08/drop_in_adult_child_program_support_group.jpg
ORGANIZER;CN="Alzheimer Society of Toronto":MAILTO:info@alz.to
END:VEVENT
END:VCALENDAR