
BEGIN:VCALENDAR
VERSION:2.0
PRODID:-//Alzheimers Society of Toronto - ECPv6.15.17.1//NONSGML v1.0//EN
CALSCALE:GREGORIAN
METHOD:PUBLISH
X-WR-CALNAME:Alzheimers Society of Toronto
X-ORIGINAL-URL:https://alz.to
X-WR-CALDESC:Events for Alzheimers Society of Toronto
REFRESH-INTERVAL;VALUE=DURATION:PT1H
X-Robots-Tag:noindex
X-PUBLISHED-TTL:PT1H
BEGIN:VTIMEZONE
TZID:America/Toronto
BEGIN:DAYLIGHT
TZOFFSETFROM:-0500
TZOFFSETTO:-0400
TZNAME:EDT
DTSTART:20240310T070000
END:DAYLIGHT
BEGIN:STANDARD
TZOFFSETFROM:-0400
TZOFFSETTO:-0500
TZNAME:EST
DTSTART:20241103T060000
END:STANDARD
BEGIN:DAYLIGHT
TZOFFSETFROM:-0500
TZOFFSETTO:-0400
TZNAME:EDT
DTSTART:20250309T070000
END:DAYLIGHT
BEGIN:STANDARD
TZOFFSETFROM:-0400
TZOFFSETTO:-0500
TZNAME:EST
DTSTART:20251102T060000
END:STANDARD
BEGIN:DAYLIGHT
TZOFFSETFROM:-0500
TZOFFSETTO:-0400
TZNAME:EDT
DTSTART:20260308T070000
END:DAYLIGHT
BEGIN:STANDARD
TZOFFSETFROM:-0400
TZOFFSETTO:-0500
TZNAME:EST
DTSTART:20261101T060000
END:STANDARD
END:VTIMEZONE
BEGIN:VEVENT
DTSTART;TZID=America/Toronto:20251002T100000
DTEND;TZID=America/Toronto:20251002T113000
DTSTAMP:20260422T045104
CREATED:20250801T130014Z
LAST-MODIFIED:20250807T222917Z
UID:10003069-1759399200-1759404600@alz.to
SUMMARY:Dementia Overview for Care Partners
DESCRIPTION:This workshop will provide care partners with an overview of Alzheimer’s disease focusing on the importance of early diagnosis and illustrates the progression of the disease. \nThis session is intended for care partners to a person living with dementia. \nTopics: \n\nGain a greater understanding of the process of diagnosis and medications available\nDevelop a better\, over-all understanding of dementia\nIncrease your knowledge of the stages and progression of Alzheimer’s disease\nBetter the caregiver’s insight into the person with dementia (PWD)\nLearn about community services and supports\n\n  \nWorkshop will be presented using Zoom.\nRegistration is required to receive the Zoom link to participate.
URL:https://alz.to/calendar/dementia-overview-for-care-partners-4/
LOCATION:https://alz.to/calendar/dementia-overview-for-care-partners-4/
CATEGORIES:Learn,Workshops
ATTACH;FMTTYPE=image/jpeg:https://alz.to/wp-content/uploads/2024/08/Webinar800X600.jpg
ORGANIZER;CN="Alzheimer Society of Toronto":MAILTO:info@alz.to
END:VEVENT
BEGIN:VEVENT
DTSTART;TZID=America/Toronto:20251008T100000
DTEND;TZID=America/Toronto:20251008T113000
DTSTAMP:20260422T045104
CREATED:20250801T130006Z
LAST-MODIFIED:20251003T185327Z
UID:10003070-1759917600-1759923000@alz.to
SUMMARY:Learning to Live with Ambiguous Loss and Grief
DESCRIPTION:Explore the concept of ambiguous loss\, develop coping strategies and gain understanding of feelings of grief when caring for a person with dementia. \nThis session is for care partners of persons living with dementia in the mid-to-late stages. \nLearning Objectives: \n\nDescribe the concept of Ambiguous Loss\nRecognize the uniqueness and complexity of Ambiguous Loss\nExplore concepts for learning to live with Ambiguous Loss\nDevelop an understanding of supportive services in the community\n\n  \nWorkshop will be presented using Zoom.\nRegistration is required to receive the Zoom link to participate.
URL:https://alz.to/calendar/learning-to-live-with-ambiguous-loss-and-grief-4/
LOCATION:https://alz.to/calendar/learning-to-live-with-ambiguous-loss-and-grief-4/
CATEGORIES:Learn,Workshops
ATTACH;FMTTYPE=image/jpeg:https://alz.to/wp-content/uploads/2024/08/Family_Dynamics_of_Caregiving800X600.jpg
ORGANIZER;CN="Alzheimer Society of Toronto":MAILTO:info@alz.to
END:VEVENT
BEGIN:VEVENT
DTSTART;TZID=America/Toronto:20251009T150000
DTEND;TZID=America/Toronto:20251009T163000
DTSTAMP:20260422T045104
CREATED:20250801T130050Z
LAST-MODIFIED:20250807T223039Z
UID:10003071-1760022000-1760027400@alz.to
SUMMARY:Understanding Behaviours and Supportive Communication
DESCRIPTION:This workshop provides an overview of behaviours in dementia and communicating in a supportive manner. It will focus on providing participants with the knowledge of how behaviours and communication can change over the course of the disease and ways to supportively communicate with a person living with dementia. \nFor care partners to a person living with dementia. \n  \nLearning Objectives: \n\nRecognize that behaviour is a form of communication\nDescribe how dementia impacts communication\nRecall communication strategies that can be used to support people living with dementia\nDiscuss the meaning of behaviours in dementia and ways to offer support\n\n  \nWorkshop will be presented online via Zoom.\nRegistration is required to receive the Zoom link to participate.
URL:https://alz.to/calendar/understanding-behaviours-and-supportive-communication-5/
LOCATION:https://alz.to/calendar/understanding-behaviours-and-supportive-communication-5/
CATEGORIES:Learn,Workshops
ATTACH;FMTTYPE=image/jpeg:https://alz.to/wp-content/uploads/2024/10/Drop_in_Long-Term_Care_Home_Caregiver_Support_Group-1.jpg
END:VEVENT
BEGIN:VEVENT
DTSTART;TZID=America/Toronto:20251016T100000
DTEND;TZID=America/Toronto:20251016T113000
DTSTAMP:20260422T045104
CREATED:20250801T130031Z
LAST-MODIFIED:20250807T223121Z
UID:10003072-1760608800-1760614200@alz.to
SUMMARY:Self-Care (for Care Partners)
DESCRIPTION:This interactive workshop is designed to help family members and friends caring for people living with dementia. \nThe following topics will be covered: \n\nWhat is self-care?\nCommon barriers preventing caregivers from practicing self-care\nThe benefits of self-care habits\nStrategies\, approaches and ideas on incorporating self-care into our daily schedule\nEmotional hygiene and how to practice it\nCreating a self-care plan and sticking to it\n\n  \nWorkshop will be presented using Zoom.\nRegistration is required to receive the Zoom link to participate.
URL:https://alz.to/calendar/self-care-for-care-partners-5/
LOCATION:https://alz.to/calendar/self-care-for-care-partners-5/
CATEGORIES:Learn,Workshops
ATTACH;FMTTYPE=image/jpeg:https://alz.to/wp-content/uploads/2024/10/Drop_in_Long-Term_Care_Home_Caregiver_Support_Group-1.jpg
END:VEVENT
BEGIN:VEVENT
DTSTART;TZID=America/Toronto:20251023T100000
DTEND;TZID=America/Toronto:20251023T110000
DTSTAMP:20260422T045104
CREATED:20250818T133644Z
LAST-MODIFIED:20250818T133644Z
UID:10002976-1761213600-1761217200@alz.to
SUMMARY:Working in Long Term Care Series: Session 1 - Adjusting to Long Term Care
DESCRIPTION:Session 1 of 3 in the Working in Long Term Care Series \nThis session will cover strategies to support persons living with dementia and their family or care partner(s).\nThis webinar looks to address the challenges that come with the adjustment to moving to Long Term Care\, to reflect on the importance of validating feelings\, and learn strategies that support communication with the family members of people living with dementia. \n  \nTo register for this webinar\, visit:\nwww.alzeducate.ca \nYou must login/create an account in order to participate. \nTo find the session: \n\nHover over “Education”  and select the intended audience.\nSelect webinars\, then “Upcoming live webinars”.\nSelect your chosen topic\, then click “Enrol me” to register.
URL:https://alz.to/calendar/working-in-long-term-care-series-session-1-adjusting-to-long-term-care-3/
LOCATION:Alzeducate
CATEGORIES:Learn,Webinars
ATTACH;FMTTYPE=image/jpeg:https://alz.to/wp-content/uploads/2024/08/drop_in_adult_child_program_support_group.jpg
ORGANIZER;CN="Alzheimer Society of Toronto":MAILTO:info@alz.to
END:VEVENT
BEGIN:VEVENT
DTSTART;TZID=America/Toronto:20251027T100000
DTEND;TZID=America/Toronto:20251027T120000
DTSTAMP:20260422T045104
CREATED:20250801T130002Z
LAST-MODIFIED:20250807T223344Z
UID:10003074-1761559200-1761566400@alz.to
SUMMARY:Coping with Death and Grief
DESCRIPTION:Losing someone who had dementia can be a unique and complex experience for those who cared for them. \nThis presentation will explore these issues\, identify various approaches to grief\, and suggest ways for care partners to cope with loss. \n  \nWorkshop will be presented using Zoom.\nRegistration is required to receive the Zoom link to participate.
URL:https://alz.to/calendar/coping-with-death-and-grief-4/
LOCATION:https://alz.to/calendar/coping-with-death-and-grief-4/
CATEGORIES:Learn,Workshops
ATTACH;FMTTYPE=image/jpeg:https://alz.to/wp-content/uploads/2024/10/Ambiguous_Loss800X600.jpg
END:VEVENT
BEGIN:VEVENT
DTSTART;TZID=America/Toronto:20251029T143000
DTEND;TZID=America/Toronto:20251029T160000
DTSTAMP:20260422T045104
CREATED:20250801T130048Z
LAST-MODIFIED:20250807T223422Z
UID:10003075-1761748200-1761753600@alz.to
SUMMARY:Enhancing Family Dynamics
DESCRIPTION:This workshop is for care partners of individuals living with dementia. The focus of the session will be on exploring significant sources of conflict for families dealing with dementia and strategies for assisting families\, building on strengths and resilience. \nFor Family and Friends of people living with dementia. \n  \nLearning Objectives: \n\nIdentify family dynamics and their effects on families\nExplore significant sources of conflict for families dealing with dementia\nExplore strategies for assisting families\, building on strength and resilience\nDevelop an understanding of supportive services in the community\n\n  \nWorkshop will be presented online via Zoom.\nRegistration is required to receive the Zoom link to participate.
URL:https://alz.to/calendar/enhancing-family-dynamics-3/
LOCATION:https://alz.to/calendar/enhancing-family-dynamics-3/
CATEGORIES:Learn,Workshops
ATTACH;FMTTYPE=image/jpeg:https://alz.to/wp-content/uploads/2024/09/about_header.jpg
ORGANIZER;CN="Alzheimer Society of Toronto":MAILTO:info@alz.to
END:VEVENT
BEGIN:VEVENT
DTSTART;TZID=America/Toronto:20251029T190000
DTEND;TZID=America/Toronto:20251029T200000
DTSTAMP:20260422T045104
CREATED:20251002T190346Z
LAST-MODIFIED:20251002T191343Z
UID:10003318-1761764400-1761768000@alz.to
SUMMARY:Understanding Behaviours of Dementia
DESCRIPTION:Join us at the Toronto Public Library – Don Mills Branch for our Understanding Behaviours of Dementia education session. \nThis session is designed to help participants better understand why people living with dementia express changes in their behaviour.\nTips for those supporting the individual experiencing them will be explored. \n  \nRegistration is appreciated. Please call the branch at 416-395-5710 to register \nTo learn more\, click here \n 
URL:https://alz.to/calendar/understanding-behaviours-of-dementia/
LOCATION:Toronto Public Library – Don Mills\, 888 Lawrence Avenue East\, Toronto\, Ontario\, M3C 1P6\, Canada
CATEGORIES:Learn,Workshops in the City
ATTACH;FMTTYPE=image/png:https://alz.to/wp-content/uploads/2024/10/Screenshot-2024-10-15-204444.png
ORGANIZER;CN="Alzheimer Society of Toronto":MAILTO:info@alz.to
END:VEVENT
BEGIN:VEVENT
DTSTART;TZID=America/Toronto:20251030T140000
DTEND;TZID=America/Toronto:20251030T153000
DTSTAMP:20260422T045104
CREATED:20250801T130050Z
LAST-MODIFIED:20250820T144849Z
UID:10003073-1761832800-1761838200@alz.to
SUMMARY:Unpacking Denial in Dementia
DESCRIPTION:The focus of the session will be on exploring the concept of denial and anosognosia\, how it impacts persons with dementia and their care partners\, and strategies for assisting families. \nLearning Objectives: \n\nExplore the concept of denial and anosognosia\nIdentify how denial impacts persons with dementia and their care partners\nExplore behaviours and strategies for responding\nDevelop an understanding of supportive services in the community\n\n\nThis workshop is for care partners of a person living with dementia\n  \n\n\n\nWorkshop will be presented online using Zoom.\nRegistration is required to receive the Zoom link to participate.
URL:https://alz.to/calendar/unpacking-denial-in-dementia-4/
LOCATION:https://alz.to/calendar/unpacking-denial-in-dementia-4/
CATEGORIES:Learn,Workshops
ORGANIZER;CN="Alzheimer Society of Toronto":MAILTO:info@alz.to
END:VEVENT
END:VCALENDAR