
BEGIN:VCALENDAR
VERSION:2.0
PRODID:-//Alzheimers Society of Toronto - ECPv6.15.17.1//NONSGML v1.0//EN
CALSCALE:GREGORIAN
METHOD:PUBLISH
X-ORIGINAL-URL:https://alz.to
X-WR-CALDESC:Events for Alzheimers Society of Toronto
REFRESH-INTERVAL;VALUE=DURATION:PT1H
X-Robots-Tag:noindex
X-PUBLISHED-TTL:PT1H
BEGIN:VTIMEZONE
TZID:America/Toronto
BEGIN:DAYLIGHT
TZOFFSETFROM:-0500
TZOFFSETTO:-0400
TZNAME:EDT
DTSTART:20240310T070000
END:DAYLIGHT
BEGIN:STANDARD
TZOFFSETFROM:-0400
TZOFFSETTO:-0500
TZNAME:EST
DTSTART:20241103T060000
END:STANDARD
BEGIN:DAYLIGHT
TZOFFSETFROM:-0500
TZOFFSETTO:-0400
TZNAME:EDT
DTSTART:20250309T070000
END:DAYLIGHT
BEGIN:STANDARD
TZOFFSETFROM:-0400
TZOFFSETTO:-0500
TZNAME:EST
DTSTART:20251102T060000
END:STANDARD
BEGIN:DAYLIGHT
TZOFFSETFROM:-0500
TZOFFSETTO:-0400
TZNAME:EDT
DTSTART:20260308T070000
END:DAYLIGHT
BEGIN:STANDARD
TZOFFSETFROM:-0400
TZOFFSETTO:-0500
TZNAME:EST
DTSTART:20261101T060000
END:STANDARD
END:VTIMEZONE
BEGIN:VEVENT
DTSTART;TZID=America/Toronto:20251103T150000
DTEND;TZID=America/Toronto:20251103T163000
DTSTAMP:20260422T032411
CREATED:20250901T130019Z
LAST-MODIFIED:20250716T190725Z
UID:10003076-1762182000-1762187400@alz.to
SUMMARY:Dementia Overview for Care Partners
DESCRIPTION:This workshop will provide care partners with an overview of Alzheimer’s disease focusing on the importance of early diagnosis and illustrates the progression of the disease. \nThis session is intended for care partners to a person living with dementia. \nTopics: \n\nGain a greater understanding of the process of diagnosis and medications available\nDevelop a better\, over-all understanding of dementia\nIncrease your knowledge of the stages and progression of Alzheimer’s disease\nBetter the caregiver’s insight into the person with dementia (PWD)\nLearn about community services and supports\n\n  \nWorkshop will be presented using Zoom.\nRegistration is required to receive the Zoom link to participate.
URL:https://alz.to/calendar/dementia-overview-for-care-partners-5/
LOCATION:https://alz.to/calendar/dementia-overview-for-care-partners-5/
CATEGORIES:Learn,Workshops
ATTACH;FMTTYPE=image/jpeg:https://alz.to/wp-content/uploads/2024/08/Webinar800X600.jpg
ORGANIZER;CN="Alzheimer Society of Toronto":MAILTO:info@alz.to
END:VEVENT
BEGIN:VEVENT
DTSTART;TZID=America/Toronto:20251104T110000
DTEND;TZID=America/Toronto:20251104T120000
DTSTAMP:20260422T032411
CREATED:20251023T185927Z
LAST-MODIFIED:20251023T195401Z
UID:10003386-1762254000-1762257600@alz.to
SUMMARY:Exploring Nature-Based Virtual Reality to Support Mood and Wellbeing in Alzheimer’s Disease
DESCRIPTION:Summary: \nThis webinar will explore how nature-based virtual reality (VR) and other technology-based approaches are being used as non-pharmacological interventions to support people living with Alzheimer’s disease who experience behavioural and psychological symptoms\, such as depression or agitation. Attendees will learn how immersive\, nature-inspired experiences can improve mood\, reduce stress\, and enhance quality of life for people living with dementia and their care partners. \nThe session will then introduce a new study at the Centre for Addiction and Mental Health (CAMH)\, led by Dr. Harmehr Sekhon\, that is investigating whether an at-home\, nature-based VR program can help manage depression in Alzheimer’s disease. The study also explores how these tools may help people maintain independence and age in place longer. \nThis webinar is presented in plain language and will include time for audience questions. \nFor more information on the study\, visit: https://tdra.utoronto.ca/study/vrn-ad \nPresented in partnership with the Toronto Dementia Research Alliance and the Alzheimer Society of Toronto. \n  \nAbout the Presenter \nDr. Harmehr Sekhon is an Assistant Professor at McGill University and an Associate Scientist at St. Mary’s Research Centre. She completed her Ph.D. in geriatrics at McGill and postdoctoral training in Geriatric Psychiatry at McLean Hospital\, McGill University\, and the Centre for Addiction and Mental Health (CAMH). She is the Director of the GeriTech Innovation Research Lab\, which includes a team of eight members working on novel technology-based interventions to support healthy aging across the care continuum. \nHer research focuses on developing and testing innovative digital health technologies—such as virtual reality\, telehealth\, and robotics—to improve diagnosis\, treatment\, and quality of life for older adults living with dementia and other mental health challenges. To date\, she has published 50 scientific papers and holds an H-index of 20.
URL:https://alz.to/calendar/exploring-nature-based-virtual-reality-to-support-mood-and-wellbeing-in-alzheimers-disease/
LOCATION:https://alz.to/calendar/exploring-nature-based-virtual-reality-to-support-mood-and-wellbeing-in-alzheimers-disease/
CATEGORIES:Learn,Webinars
ATTACH;FMTTYPE=image/jpeg:https://alz.to/wp-content/uploads/2025/10/AdobeStock_1563049094-small.jpg
ORGANIZER;CN="Alzheimer Society of Toronto":MAILTO:info@alz.to
END:VEVENT
BEGIN:VEVENT
DTSTART;TZID=America/Toronto:20251106T100000
DTEND;TZID=America/Toronto:20251106T110000
DTSTAMP:20260422T032411
CREATED:20250919T175434Z
LAST-MODIFIED:20250919T175434Z
UID:10002977-1762423200-1762426800@alz.to
SUMMARY:Working in Long Term Care Series: Session 2 - Oral Care
DESCRIPTION:Session 2 of 3 in the Working in Long Term Care Series \nLearn the importance of oral health in overall wellbeing & health\, best practice guidelines and practical strategies for providing oral care in each stage of dementia. \n  \nTo register for this webinar\, visit:\nwww.alzeducate.ca \nYou must login/create an account in order to participate. \nTo find the session: \n\nHover over “Education”  and select the intended audience.\nSelect webinars\, then “Upcoming live webinars”.\nSelect your chosen topic\, then click “Enrol me” to register.
URL:https://alz.to/calendar/working-in-long-term-care-series-session-2-oral-care-3/
LOCATION:Alzeducate
CATEGORIES:Learn,Webinars
ATTACH;FMTTYPE=image/jpeg:https://alz.to/wp-content/uploads/2024/08/drop_in_adult_child_program_support_group.jpg
ORGANIZER;CN="Alzheimer Society of Toronto":MAILTO:info@alz.to
END:VEVENT
BEGIN:VEVENT
DTSTART;TZID=America/Toronto:20251106T180000
DTEND;TZID=America/Toronto:20251106T200000
DTSTAMP:20260422T032411
CREATED:20250801T130001Z
LAST-MODIFIED:20250807T173425Z
UID:10003103-1762452000-1762459200@alz.to
SUMMARY:U-First!® for Care Partners
DESCRIPTION:U-First!® for Care Partners is an interactive education program for informal care partners (family\, friends\, neighbours) who are providing direct unpaid support to someone experiencing behaviour changes as a result of dementia or other cognitive impairment. \nThis education program focuses on: \n\nEnhancing the well-being of care partners and of the person they are supporting who is experiencing behaviour changes\nReducing responsive behaviours by using the U-First!® framework\nImproving collaboration among all team members through a common knowledge\, language and approach to care\n\n  \nMandatory Session Dates:\nThursday\, November 6th from 6:00pm-8:00pm\nThursday\, November 13th from 6:00pm-8:00pm\nThursday\, November 20th from 6:00pm-8:00pm \nOptional Session Date:\nThursday\, November 27th from 6:00pm-8:00pm \n  \nWhat’s the cost for the program?\nThere is no cost for participants of the U-First!® for Care Partners. \n  \nPlease note that there will be an additional screening of all interested participants to ensure there is a fit between the program and participant.\nScreening will commence in October\, and you can expect a screening call 2-4 weeks before the first session. Sign-up early as registration spots are limited. \n  \nRegistration closes October 19th\, 2025. \n***(THIS PROGRAM IS FOR INFORMAL CAREGIVERS/PARTNERS/FAMILY/FRIENDS ONLY. If you are a Health Care Provider (PSW\, nurse\, paid private caregiver\, etc) please click here for the U-First! for Health Care Providers courses)***
URL:https://alz.to/calendar/u-first-for-care-partners-4/2025-11-06/
LOCATION:https://alz.to/calendar/u-first-for-care-partners-4/2025-11-06/
CATEGORIES:Workshops
ATTACH;FMTTYPE=image/jpeg:https://alz.to/wp-content/uploads/2024/10/u-first.jpg
ORGANIZER;CN="Alzheimer Society of Toronto":MAILTO:info@alz.to
END:VEVENT
BEGIN:VEVENT
DTSTART;TZID=America/Toronto:20251110T150000
DTEND;TZID=America/Toronto:20251110T163000
DTSTAMP:20260422T032411
CREATED:20250901T130022Z
LAST-MODIFIED:20250716T190945Z
UID:10003077-1762786800-1762792200@alz.to
SUMMARY:Care Partner Stress and Building Resilience
DESCRIPTION:This workshop is to help care partners identify their sources of stress and develop coping strategies. The focus of the session will be on exploring the concept of resilience and ways to build care partner resilience.\n \nLearning Objectives:\n\n\nExplore the different types of stress care partners may experience and develop coping strategies to deal with the stress\nIncrease awareness of the importance of self-care for the care partner\nDevelop an understanding of supportive services in the community and where to seek those services\nDescribe the concept of resilience and why it is important for care partners\n\n\n \n \nWorkshop will be presented online using Zoom.\nRegistration is required to receive the Zoom link to participate.
URL:https://alz.to/calendar/care-partner-stress-and-building-resilience-4/
LOCATION:https://alz.to/calendar/care-partner-stress-and-building-resilience-4/
CATEGORIES:Learn,Workshops
ATTACH;FMTTYPE=image/jpeg:https://alz.to/wp-content/uploads/2024/08/Spousal_SG_sm.jpg
ORGANIZER;CN="Alzheimer Society of Toronto":MAILTO:info@alz.to
END:VEVENT
BEGIN:VEVENT
DTSTART;TZID=America/Toronto:20251111T130000
DTEND;TZID=America/Toronto:20251111T150000
DTSTAMP:20260422T032411
CREATED:20250901T130012Z
LAST-MODIFIED:20251015T145106Z
UID:10003078-1762866000-1762873200@alz.to
SUMMARY:Putting You First for Care Partners
DESCRIPTION:This interactive 2-hour workshop will help participants reflect on all aspects of their well-being.\nThrough this guided reflection process\, participants will identify opportunities for change and start creating a plan to attaining better balance in their lives.\n\n \n\nWorkshop will be presented online using Zoom.\nRegistration is required to receive the Zoom link to participate.
URL:https://alz.to/calendar/putting-you-first-for-care-partners-4/
LOCATION:https://alz.to/calendar/putting-you-first-for-care-partners-4/
CATEGORIES:Learn,Workshops
ATTACH;FMTTYPE=image/jpeg:https://alz.to/wp-content/uploads/2024/10/BW___Dancing-800px.jpg
ORGANIZER;CN="Alzheimer Society of Toronto":MAILTO:info@alz.to
END:VEVENT
BEGIN:VEVENT
DTSTART;TZID=America/Toronto:20251113T180000
DTEND;TZID=America/Toronto:20251113T200000
DTSTAMP:20260422T032411
CREATED:20250801T130001Z
LAST-MODIFIED:20250807T173425Z
UID:10003104-1763056800-1763064000@alz.to
SUMMARY:U-First!® for Care Partners
DESCRIPTION:U-First!® for Care Partners is an interactive education program for informal care partners (family\, friends\, neighbours) who are providing direct unpaid support to someone experiencing behaviour changes as a result of dementia or other cognitive impairment. \nThis education program focuses on: \n\nEnhancing the well-being of care partners and of the person they are supporting who is experiencing behaviour changes\nReducing responsive behaviours by using the U-First!® framework\nImproving collaboration among all team members through a common knowledge\, language and approach to care\n\n  \nMandatory Session Dates:\nThursday\, November 6th from 6:00pm-8:00pm\nThursday\, November 13th from 6:00pm-8:00pm\nThursday\, November 20th from 6:00pm-8:00pm \nOptional Session Date:\nThursday\, November 27th from 6:00pm-8:00pm \n  \nWhat’s the cost for the program?\nThere is no cost for participants of the U-First!® for Care Partners. \n  \nPlease note that there will be an additional screening of all interested participants to ensure there is a fit between the program and participant.\nScreening will commence in October\, and you can expect a screening call 2-4 weeks before the first session. Sign-up early as registration spots are limited. \n  \nRegistration closes October 19th\, 2025. \n***(THIS PROGRAM IS FOR INFORMAL CAREGIVERS/PARTNERS/FAMILY/FRIENDS ONLY. If you are a Health Care Provider (PSW\, nurse\, paid private caregiver\, etc) please click here for the U-First! for Health Care Providers courses)***
URL:https://alz.to/calendar/u-first-for-care-partners-4/2025-11-13/
LOCATION:https://alz.to/calendar/u-first-for-care-partners-4/2025-11-13/
CATEGORIES:Workshops
ATTACH;FMTTYPE=image/jpeg:https://alz.to/wp-content/uploads/2024/10/u-first.jpg
ORGANIZER;CN="Alzheimer Society of Toronto":MAILTO:info@alz.to
END:VEVENT
BEGIN:VEVENT
DTSTART;TZID=America/Toronto:20251115T140000
DTEND;TZID=America/Toronto:20251115T150000
DTSTAMP:20260422T032411
CREATED:20251023T201434Z
LAST-MODIFIED:20251024T132231Z
UID:10003365-1763215200-1763218800@alz.to
SUMMARY:Dementia Overview
DESCRIPTION:This presentation will discuss the difference between changes that come with normal aging and when something is not normal\, reversible causes for these changes\, and a general understanding of dementia. It also will cover the different types of dementia\, progression\, and knowledge of dementia symptoms and their impact on the person living with dementia. \nThis session will be presented in person at Etobicoke Civic Centre\, 399 The West Mall\, Etobicoke\, On M9C 2Y2 and is hosted by CECHi \nRegistration is required. \nIf interested\, please register at https://www.EtobicokeHub.org/events \nNote: Free Parking on site is available.
URL:https://alz.to/calendar/dementia-overview-3/
LOCATION:Etobicoke Civic Centre\, 399 The West Mall\, Etobicoke\, Ontario\, M9C 2Y2\, Canada
CATEGORIES:Learn,Workshops in the City
ATTACH;FMTTYPE=image/png:https://alz.to/wp-content/uploads/2024/10/Screenshot-2024-10-15-204444.png
ORGANIZER;CN="Alzheimer Society of Toronto":MAILTO:info@alz.to
END:VEVENT
BEGIN:VEVENT
DTSTART;TZID=America/Toronto:20251119T100000
DTEND;TZID=America/Toronto:20251119T113000
DTSTAMP:20260422T032411
CREATED:20250901T130028Z
LAST-MODIFIED:20250716T191542Z
UID:10003079-1763546400-1763551800@alz.to
SUMMARY:Finding Joy and Humour in Caregiving
DESCRIPTION:This educational workshop is for care partners of individuals living with dementia with a focus on looking at the lighter side of caregiving. \nLearning Objectives: \n\nExplore looking and living beyond the diagnosis\nCreate opportunities for joy and look at the lighter side of caregiving\nEvaluate the benefits of humour and having a positive outlook\nAssess the strategies and approaches for incorporating joy and humour into caregiving\n\n  \nWorkshop will be presented online using Zoom.\nRegistration is required to receive the Zoom link to participate.
URL:https://alz.to/calendar/finding-joy-and-humour-in-caregiving-3/
LOCATION:https://alz.to/calendar/finding-joy-and-humour-in-caregiving-3/
CATEGORIES:Learn,Workshops
ATTACH;FMTTYPE=image/jpeg:https://alz.to/wp-content/uploads/2024/09/tributeGiving.jpg
ORGANIZER;CN="Alzheimer Society of Toronto":MAILTO:info@alz.to
END:VEVENT
BEGIN:VEVENT
DTSTART;TZID=America/Toronto:20251120T100000
DTEND;TZID=America/Toronto:20251120T110000
DTSTAMP:20260422T032411
CREATED:20250919T175433Z
LAST-MODIFIED:20250919T175433Z
UID:10002978-1763632800-1763636400@alz.to
SUMMARY:Working in Long Term Care Series: Session 3 - Personal Care
DESCRIPTION:Session 3 of 3 in the Working in Long Term Care Series \nEnhance your knowledge in supporting personal care activities for persons living with dementia.\n\nLearning Objectives:\n\n\nDefine Behavioural and Psychological Symptoms of Dementia (BPSDs)\nDiscuss the connection between personal care and responsive behaviours.\nRecognize that behaviour has meaning specific to the individual.\nUse communication techniques including validation to reduce responsive behaviour during personal care\n\n\n  \nTo register for this webinar\, visit:\nwww.alzeducate.ca \nYou must login/create an account in order to participate. \nTo find the session: \n\nHover over “Education”  and select the intended audience.\nSelect webinars\, then “Upcoming live webinars”.\nSelect your chosen topic\, then click “Enrol me” to register.
URL:https://alz.to/calendar/working-in-long-term-care-series-session-3-personal-care-3/
LOCATION:Alzeducate
CATEGORIES:Learn,Webinars
ATTACH;FMTTYPE=image/jpeg:https://alz.to/wp-content/uploads/2024/08/drop_in_adult_child_program_support_group.jpg
ORGANIZER;CN="Alzheimer Society of Toronto":MAILTO:info@alz.to
END:VEVENT
BEGIN:VEVENT
DTSTART;TZID=America/Toronto:20251120T180000
DTEND;TZID=America/Toronto:20251120T200000
DTSTAMP:20260422T032411
CREATED:20250801T130001Z
LAST-MODIFIED:20250807T173425Z
UID:10003105-1763661600-1763668800@alz.to
SUMMARY:U-First!® for Care Partners
DESCRIPTION:U-First!® for Care Partners is an interactive education program for informal care partners (family\, friends\, neighbours) who are providing direct unpaid support to someone experiencing behaviour changes as a result of dementia or other cognitive impairment. \nThis education program focuses on: \n\nEnhancing the well-being of care partners and of the person they are supporting who is experiencing behaviour changes\nReducing responsive behaviours by using the U-First!® framework\nImproving collaboration among all team members through a common knowledge\, language and approach to care\n\n  \nMandatory Session Dates:\nThursday\, November 6th from 6:00pm-8:00pm\nThursday\, November 13th from 6:00pm-8:00pm\nThursday\, November 20th from 6:00pm-8:00pm \nOptional Session Date:\nThursday\, November 27th from 6:00pm-8:00pm \n  \nWhat’s the cost for the program?\nThere is no cost for participants of the U-First!® for Care Partners. \n  \nPlease note that there will be an additional screening of all interested participants to ensure there is a fit between the program and participant.\nScreening will commence in October\, and you can expect a screening call 2-4 weeks before the first session. Sign-up early as registration spots are limited. \n  \nRegistration closes October 19th\, 2025. \n***(THIS PROGRAM IS FOR INFORMAL CAREGIVERS/PARTNERS/FAMILY/FRIENDS ONLY. If you are a Health Care Provider (PSW\, nurse\, paid private caregiver\, etc) please click here for the U-First! for Health Care Providers courses)***
URL:https://alz.to/calendar/u-first-for-care-partners-4/2025-11-20/
LOCATION:https://alz.to/calendar/u-first-for-care-partners-4/2025-11-20/
CATEGORIES:Workshops
ATTACH;FMTTYPE=image/jpeg:https://alz.to/wp-content/uploads/2024/10/u-first.jpg
ORGANIZER;CN="Alzheimer Society of Toronto":MAILTO:info@alz.to
END:VEVENT
BEGIN:VEVENT
DTSTART;TZID=America/Toronto:20251124T120000
DTEND;TZID=America/Toronto:20251124T130000
DTSTAMP:20260422T032411
CREATED:20250901T130027Z
LAST-MODIFIED:20250709T154929Z
UID:10003022-1763985600-1763989200@alz.to
SUMMARY:Young Onset Dementia
DESCRIPTION:Enhance your knowledge of young onset dementia\, the unique challenges faced by the person and their families and opportunities to support someone who is living with young onset dementia. \n  \nWorkshop will be presented using Zoom. [When registering\, please ensure the email provided is one you have regular access to. In the unlikely event of cancellations or other changes\, we will reach out to you via email] \nRegistration is required to receive the Zoom link.
URL:https://alz.to/calendar/young-onset-dementia/
LOCATION:https://alz.to/calendar/young-onset-dementia/
CATEGORIES:Health Care Professionals,Learn,Workshops
ORGANIZER;CN="Alzheimer Society of Toronto":MAILTO:info@alz.to
END:VEVENT
BEGIN:VEVENT
DTSTART;TZID=America/Toronto:20251125T100000
DTEND;TZID=America/Toronto:20251125T113000
DTSTAMP:20260422T032411
CREATED:20250901T130028Z
LAST-MODIFIED:20250716T191743Z
UID:10003080-1764064800-1764070200@alz.to
SUMMARY:Advanced Care Planning
DESCRIPTION:This workshop will review the importance of Advance Care Planning\, and the steps involved in the process\, in the case where one becomes mentally incapable of making their health care decisions. \n  \nLearning Objectives: \n\nUnderstand what is Advance Care Planning and why it is important\nLearn about the steps involved in Advance Care Planning\nUnderstand what is a Substitute Decision Maker and how to appoint a Power of Attorney\nRecognize what does capacity and incapacity mean in Ontario\n\n  \nWorkshop will be presented online using Zoom.\nRegistration is required to receive the Zoom link to participate.
URL:https://alz.to/calendar/advanced-care-planning-3/
LOCATION:https://alz.to/calendar/advanced-care-planning-3/
CATEGORIES:Learn,Workshops
ATTACH;FMTTYPE=image/jpeg:https://alz.to/wp-content/uploads/2024/10/404706d7a5e9c09761325981ac54af36.jpg
ORGANIZER;CN="Alzheimer Society of Toronto":MAILTO:info@alz.to
END:VEVENT
BEGIN:VEVENT
DTSTART;TZID=America/Toronto:20251127T103000
DTEND;TZID=America/Toronto:20251127T233000
DTSTAMP:20260422T032411
CREATED:20251103T202626Z
LAST-MODIFIED:20251103T215145Z
UID:10003405-1764239400-1764286200@alz.to
SUMMARY:Music in Dementia
DESCRIPTION:This session is geared towards care partners and will explore the following: \n\nAn overview of dementia\nThe connection between music and dementia\nThe benefits of personalized music for people living with dementia\nAn overview of the Alzheimer’s Society Music Project to help individuals with dementia reconnect with the soundtrack of their lives.\n\n  \n 
URL:https://alz.to/calendar/music-in-dementia/
LOCATION:https://alz.to/calendar/music-in-dementia/
CATEGORIES:Learn,Music,Workshops
ATTACH;FMTTYPE=image/jpeg:https://alz.to/wp-content/uploads/2025/11/Music-Project-1-scaled.jpeg
ORGANIZER;CN="Alzheimer Society of Toronto":MAILTO:info@alz.to
END:VEVENT
BEGIN:VEVENT
DTSTART;TZID=America/Toronto:20251127T180000
DTEND;TZID=America/Toronto:20251127T200000
DTSTAMP:20260422T032411
CREATED:20250801T130001Z
LAST-MODIFIED:20250807T173425Z
UID:10003106-1764266400-1764273600@alz.to
SUMMARY:U-First!® for Care Partners
DESCRIPTION:U-First!® for Care Partners is an interactive education program for informal care partners (family\, friends\, neighbours) who are providing direct unpaid support to someone experiencing behaviour changes as a result of dementia or other cognitive impairment. \nThis education program focuses on: \n\nEnhancing the well-being of care partners and of the person they are supporting who is experiencing behaviour changes\nReducing responsive behaviours by using the U-First!® framework\nImproving collaboration among all team members through a common knowledge\, language and approach to care\n\n  \nMandatory Session Dates:\nThursday\, November 6th from 6:00pm-8:00pm\nThursday\, November 13th from 6:00pm-8:00pm\nThursday\, November 20th from 6:00pm-8:00pm \nOptional Session Date:\nThursday\, November 27th from 6:00pm-8:00pm \n  \nWhat’s the cost for the program?\nThere is no cost for participants of the U-First!® for Care Partners. \n  \nPlease note that there will be an additional screening of all interested participants to ensure there is a fit between the program and participant.\nScreening will commence in October\, and you can expect a screening call 2-4 weeks before the first session. Sign-up early as registration spots are limited. \n  \nRegistration closes October 19th\, 2025. \n***(THIS PROGRAM IS FOR INFORMAL CAREGIVERS/PARTNERS/FAMILY/FRIENDS ONLY. If you are a Health Care Provider (PSW\, nurse\, paid private caregiver\, etc) please click here for the U-First! for Health Care Providers courses)***
URL:https://alz.to/calendar/u-first-for-care-partners-4/2025-11-27/
LOCATION:https://alz.to/calendar/u-first-for-care-partners-4/2025-11-27/
CATEGORIES:Workshops
ATTACH;FMTTYPE=image/jpeg:https://alz.to/wp-content/uploads/2024/10/u-first.jpg
ORGANIZER;CN="Alzheimer Society of Toronto":MAILTO:info@alz.to
END:VEVENT
END:VCALENDAR