
BEGIN:VCALENDAR
VERSION:2.0
PRODID:-//Alzheimers Society of Toronto - ECPv6.15.17.1//NONSGML v1.0//EN
CALSCALE:GREGORIAN
METHOD:PUBLISH
X-WR-CALNAME:Alzheimers Society of Toronto
X-ORIGINAL-URL:https://alz.to
X-WR-CALDESC:Events for Alzheimers Society of Toronto
REFRESH-INTERVAL;VALUE=DURATION:PT1H
X-Robots-Tag:noindex
X-PUBLISHED-TTL:PT1H
BEGIN:VTIMEZONE
TZID:America/Toronto
BEGIN:DAYLIGHT
TZOFFSETFROM:-0500
TZOFFSETTO:-0400
TZNAME:EDT
DTSTART:20250309T070000
END:DAYLIGHT
BEGIN:STANDARD
TZOFFSETFROM:-0400
TZOFFSETTO:-0500
TZNAME:EST
DTSTART:20251102T060000
END:STANDARD
BEGIN:DAYLIGHT
TZOFFSETFROM:-0500
TZOFFSETTO:-0400
TZNAME:EDT
DTSTART:20260308T070000
END:DAYLIGHT
BEGIN:STANDARD
TZOFFSETFROM:-0400
TZOFFSETTO:-0500
TZNAME:EST
DTSTART:20261101T060000
END:STANDARD
BEGIN:DAYLIGHT
TZOFFSETFROM:-0500
TZOFFSETTO:-0400
TZNAME:EDT
DTSTART:20270314T070000
END:DAYLIGHT
BEGIN:STANDARD
TZOFFSETFROM:-0400
TZOFFSETTO:-0500
TZNAME:EST
DTSTART:20271107T060000
END:STANDARD
END:VTIMEZONE
BEGIN:VEVENT
DTSTART;TZID=America/Toronto:20260105T140000
DTEND;TZID=America/Toronto:20260105T160000
DTSTAMP:20260421T082449
CREATED:20251105T161739Z
LAST-MODIFIED:20260105T165637Z
UID:10003417-1767621600-1767628800@alz.to
SUMMARY:Coping with Death and Grief
DESCRIPTION:Losing someone who had dementia can be a unique and complex experience for those who cared for them. This presentation will explore these issues\, identify various approaches to grief\, and suggest ways for care partners to cope with loss. \n  \nThis workshop will incorporate a support group element. \n  \nPlease note this workshop is only for informal care partners (friends\, family\, etc) of a person living with dementia. This workshop is NOT for healthcare professionals. \n\nWorkshop will be presented using Zoom\, registration required to receive link.
URL:https://alz.to/calendar/coping-with-death-and-grief-5/
LOCATION:https://alz.to/calendar/coping-with-death-and-grief-5/
CATEGORIES:Learn,Workshops
ATTACH;FMTTYPE=image/jpeg:https://alz.to/wp-content/uploads/2024/10/Ambiguous_Loss800X600.jpg
END:VEVENT
BEGIN:VEVENT
DTSTART;TZID=America/Toronto:20260106T130000
DTEND;TZID=America/Toronto:20260106T143000
DTSTAMP:20260421T082449
CREATED:20251105T161139Z
LAST-MODIFIED:20260105T165052Z
UID:10003416-1767704400-1767709800@alz.to
SUMMARY:Dementia Overview for Care Partners
DESCRIPTION:This workshop is an introduction to dementia\, the different types of dementia\, symptoms and progression of dementia\, and the varying ways to support a person with dementia. \n  \nLearning Objectives: \n  \n\nUnderstanding dementia as an umbrella term\, and the most common types of dementia\nReviewing dementia warning signs and the 8 A’s of dementia\nCreating an understanding of ways to support a person with dementia through timely diagnosis\, medications and quality-of-life activities\nLearn about community services and supports\n\n  \nPlease note this workshop is only for informal care partners (friends\, family\, etc) of a person living with dementia. This workshop is NOT for healthcare professionals. \n\nWorkshop will be presented using Zoom\, registration required to receive link.
URL:https://alz.to/calendar/dementia-overview-for-care-partners-8/
LOCATION:https://alz.to/calendar/dementia-overview-for-care-partners-8/
CATEGORIES:Learn,Workshops
ATTACH;FMTTYPE=image/jpeg:https://alz.to/wp-content/uploads/2024/08/Webinar800X600.jpg
ORGANIZER;CN="Alzheimer Society of Toronto":MAILTO:info@alz.to
END:VEVENT
BEGIN:VEVENT
DTSTART;TZID=America/Toronto:20260107T100000
DTEND;TZID=America/Toronto:20260107T113000
DTSTAMP:20260421T082449
CREATED:20251105T154320Z
LAST-MODIFIED:20260105T165410Z
UID:10003411-1767780000-1767785400@alz.to
SUMMARY:Understanding Behaviours and Supportive Communication
DESCRIPTION:This workshop provides an overview of behaviours in dementia and communicating in a supportive manner. It will focus on providing participants with the knowledge of how behaviours and communication can change over the course of the disease and ways to supportively communicate with a person living with dementia. \n  \nLearning Objectives: \n\nLearning how dementia impacts communication\nRecognizing that behaviour is a form of communication\nDiscussing how to identify the meaning of behaviours in dementia and ways to offer support\n\n  \nPlease note this workshop is only for informal care partners (friends\, family\, etc) of a person living with dementia. This workshop is NOT for healthcare professionals. \n\nWorkshop will be presented using Zoom\, registration required to receive link. \n 
URL:https://alz.to/calendar/understanding-behaviours-and-supportive-communication-7/
LOCATION:https://alz.to/calendar/understanding-behaviours-and-supportive-communication-7/
CATEGORIES:Learn,Workshops
ATTACH;FMTTYPE=image/jpeg:https://alz.to/wp-content/uploads/2024/10/Drop_in_Long-Term_Care_Home_Caregiver_Support_Group-1.jpg
ORGANIZER;CN="Alzheimer Society of Toronto":MAILTO:info@alz.to
END:VEVENT
BEGIN:VEVENT
DTSTART;TZID=America/Toronto:20260108T100000
DTEND;TZID=America/Toronto:20260108T110000
DTSTAMP:20260421T082449
CREATED:20251126T201912Z
LAST-MODIFIED:20251211T190835Z
UID:10003579-1767866400-1767870000@alz.to
SUMMARY:UHN Caregiver Talks: The latest news in the treatment of Alzheimer's disease
DESCRIPTION:Description: \nJoin us for an update on new Alzheimer’s treatments and how they may impact everyday life for individuals and families affected by the disease. We’ll cover what’s new\, what’s promising\, and what these developments mean for care today and in the future. \nPresented in partnership with the University Health Network Krembil Memory Clinic and the Alzheimer Society of Toronto. \n  \nAbout the Presenter \nDr. Tartaglia is a cognitive neurologist at the UHN Memory Clinic where she sees patients with neurodegenerative diseases and those with concussions who have persisting symptoms. She is a scientist and Associate Professor at the University of Toronto. She holds the Marion and Gerald Soloway Chair in Brain Injury and Concussion Research. She uses a multi-modal approach that combines imaging and biofluid biomarkers to better diagnose and understand the pathological substrates that cause cognitive\, behavioral and motoric dysfunction. The goal of her research program is to develop biomarkers for early detection of disease to bring precision medicine and targeted\, early treatments to her patients. \n 
URL:https://alz.to/calendar/uhn-caregiver-talks-the-latest-news-in-the-treatment-of-alzheimers-disease/
LOCATION:https://alz.to/calendar/uhn-caregiver-talks-the-latest-news-in-the-treatment-of-alzheimers-disease/
CATEGORIES:Webinars
ATTACH;FMTTYPE=image/jpeg:https://alz.to/wp-content/uploads/2025/03/AdobeStock_1269275805-scaled.jpeg
ORGANIZER;CN="Alzheimer Society of Toronto":MAILTO:info@alz.to
END:VEVENT
BEGIN:VEVENT
DTSTART;TZID=America/Toronto:20260108T100000
DTEND;TZID=America/Toronto:20260108T113000
DTSTAMP:20260421T082449
CREATED:20251105T154810Z
LAST-MODIFIED:20260105T165943Z
UID:10003412-1767866400-1767871800@alz.to
SUMMARY:Unpacking Denial in Dementia
DESCRIPTION:The focus of the session will be on exploring the concept of denial and anosognosia\, how it impacts persons with dementia and their care partners\, and strategies for assisting families. \n  \nLearning Objectives: \n\nExploring the concept of denial and anosognosia\, particularly\, how they differ\nIdentifying how denial impacts persons with dementia and their care partners\nStrategies for supporting someone through denial or anosognosia\n\n  \nPlease note this workshop is only for informal care partners (friends\, family\, etc) of a person living with dementia. This workshop is NOT for healthcare professionals. \n  \nWorkshop will be presented using Zoom\, registration required to receive link.
URL:https://alz.to/calendar/unpacking-denial-in-dementia-5/
LOCATION:https://alz.to/calendar/unpacking-denial-in-dementia-5/
CATEGORIES:Learn,Workshops
ORGANIZER;CN="Alzheimer Society of Toronto":MAILTO:info@alz.to
END:VEVENT
BEGIN:VEVENT
DTSTART;TZID=America/Toronto:20260112T130000
DTEND;TZID=America/Toronto:20260112T140000
DTSTAMP:20260421T082449
CREATED:20251201T164320Z
LAST-MODIFIED:20251201T164320Z
UID:10003595-1768222800-1768226400@alz.to
SUMMARY:Dementia Overview
DESCRIPTION:Join us at the Toronto Public Library – Barbara Frum Branch for our Dementia Overview education session. \nThis presentation will discuss the difference between changes that come with typical aging and when something is not typical\, reversible causes for these changes\, and a general understanding of dementia. It also will cover the different types of dementia\, progression\, and knowledge of dementia symptoms and their impact on the person living with dementia. \nEvent Details:\nDate: Monday\, January 12\nTime: 1:00 PM – 2:00 PM\nLocation: Room B\, Barbara Frum Library\n20 Covington Rd.\, Toronto\, ON\, M6A 3C1 \n  \nAdditional Information: \n\nAll sessions are drop-in. No registration required.\nIf you identify as a person with a disability or as a person who is Deaf and require an accessibility accommodation to participate in this program\, please contact Accessibility Services by email at accessibleservices@tpl.ca\, or by voicemail at 416-393-7099\, to make a request.\nPlease contact us at least three weeks in advance.
URL:https://alz.to/calendar/dementia-overview-4/
LOCATION:Barbara Frum Library\, 20 Covington Rd\, Toronto\, Ontario\, M6A 3C1\, Canada
CATEGORIES:Learn,Workshops in the City
ATTACH;FMTTYPE=image/jpeg:https://alz.to/wp-content/uploads/2024/08/Going_the_Second_Mile_resized-e1727393431674.jpg
ORGANIZER;CN="Alzheimer Society of Toronto":MAILTO:info@alz.to
END:VEVENT
BEGIN:VEVENT
DTSTART;TZID=America/Toronto:20260115T133000
DTEND;TZID=America/Toronto:20260115T150000
DTSTAMP:20260421T082449
CREATED:20251105T155405Z
LAST-MODIFIED:20260105T165527Z
UID:10003413-1768483800-1768489200@alz.to
SUMMARY:Learning to Live with Ambiguous Loss and Grief
DESCRIPTION:Explore the concept of ambiguous loss\, develop coping strategies and gain understanding of feelings of grief when caring for a person with dementia. \n  \nLearning Objectives: \n\nDescribing the concept of Ambiguous Loss\nRecognizing the uniqueness and complexity of Ambiguous Loss\nExploring concepts for learning to live with Ambiguous Loss\nDeveloping an understanding of supportive services in the community\n\n  \nPlease note this workshop is only for informal care partners (friends\, family\, etc) of a person living with dementia. This workshop is NOT for healthcare professionals. \n\nWorkshop will be presented using Zoom\, registration required to receive link.
URL:https://alz.to/calendar/learning-to-live-with-ambiguous-loss-and-grief-5/
LOCATION:https://alz.to/calendar/learning-to-live-with-ambiguous-loss-and-grief-5/
CATEGORIES:Learn,Workshops
ATTACH;FMTTYPE=image/jpeg:https://alz.to/wp-content/uploads/2024/08/Family_Dynamics_of_Caregiving800X600.jpg
ORGANIZER;CN="Alzheimer Society of Toronto":MAILTO:info@alz.to
END:VEVENT
BEGIN:VEVENT
DTSTART;TZID=America/Toronto:20260119T130000
DTEND;TZID=America/Toronto:20260119T140000
DTSTAMP:20260421T082449
CREATED:20251201T164733Z
LAST-MODIFIED:20251201T164733Z
UID:10003596-1768827600-1768831200@alz.to
SUMMARY:Brain Health
DESCRIPTION:Join us at the Toronto Public Library – Barbara Frum Branch for our Brain Health education session. \nThis presentation will discuss the difference between changes that come with typical aging and when something is not typical\, reversible causes for these changes\, and a general understanding of dementia. It also will cover the different types of dementia\, progression\, and knowledge of dementia symptoms and their impact on the person living with dementia. \nEvent Details:\nDate: Monday\, January 19\nTime: 1:00 PM – 2:00 PM\nLocation: Room B\, Barbara Frum Library\n20 Covington Rd.\, Toronto\, ON\, M6A 3C1 \n  \nAdditional Information: \n\nAll sessions are drop-in. No registration required.\nIf you identify as a person with a disability or as a person who is Deaf and require an accessibility accommodation to participate in this program\, please contact Accessibility Services by email at accessibleservices@tpl.ca\, or by voicemail at 416-393-7099\, to make a request.\nPlease contact us at least three weeks in advance.
URL:https://alz.to/calendar/brain-health-7/
LOCATION:Barbara Frum Library\, 20 Covington Rd\, Toronto\, Ontario\, M6A 3C1\, Canada
CATEGORIES:Learn,Workshops in the City
ATTACH;FMTTYPE=image/png:https://alz.to/wp-content/uploads/2024/10/Screenshot-2024-10-15-204444.png
ORGANIZER;CN="Alzheimer Society of Toronto":MAILTO:info@alz.to
END:VEVENT
BEGIN:VEVENT
DTSTART;TZID=America/Toronto:20260120T100000
DTEND;TZID=America/Toronto:20260120T113000
DTSTAMP:20260421T082449
CREATED:20251201T173058Z
LAST-MODIFIED:20260105T163806Z
UID:10003598-1768903200-1768908600@alz.to
SUMMARY:Reframing Guilt and Anger in Caregiving
DESCRIPTION:This workshop focuses on recognizing and identifying the causes of guilt and anger in caregiving\, and developing coping strategies to reframe guilt\, anger and build resilience. \n  \nLearning Objectives: \n\nExploring the nature of emotions\nCreating space for difficult emotions such as anger and guilt in caregiving\nStrategies to cope with challenging emotions\n\n  \nPlease note this workshop is only for informal care partners (friends\, family\, etc) of a person living with dementia. This workshop is NOT for healthcare professionals. \n  \nWorkshop will be presented using Zoom\, registration required to receive link.
URL:https://alz.to/calendar/reframing-guilt-and-anger-in-caregiving-5/
LOCATION:https://alz.to/calendar/reframing-guilt-and-anger-in-caregiving-5/
CATEGORIES:Learn,Workshops
ATTACH;FMTTYPE=image/jpeg:https://alz.to/wp-content/uploads/2024/08/Spousal_SG_sm.jpg
ORGANIZER;CN="Alzheimer Society of Toronto":MAILTO:info@alz.to
END:VEVENT
BEGIN:VEVENT
DTSTART;TZID=America/Toronto:20260120T173000
DTEND;TZID=America/Toronto:20260120T183000
DTSTAMP:20260421T082449
CREATED:20260109T131944Z
LAST-MODIFIED:20260109T132555Z
UID:10003728-1768930200-1768933800@alz.to
SUMMARY:The Squeezed Generation: Balancing Dementia Caregiving with Everything Else
DESCRIPTION:This event is hosted by the Toronto Public Library.\nExplore the challenges of dementia caregiving as well as practical strategies to foster resilience\, connection and joy. \n  \nIn 2020\, Canadian care partners provided an average of 26 hours of care per week for their loved ones living with dementia. Many care partners juggle parenting with caring for someone living with dementia\, as well as their other responsibilities. \nIn recognition of Alzheimer’s Awareness Month\, this virtual program will discuss the challenges of being part of this ‘squeezed generation’ as well as some practical strategies to foster resilience\, connection and joy. \n  \nYou’ll hear from Amy Coupal\, CEO of the Ontario Caregiver Organization\, and Dr. Adriana Shnall\, Program Director of the Koschitzky Centre for Innovations in Caregiving at Baycrest. \nYou’ll also hear from the Alzheimer Society of Toronto about their services geared towards care partners\, as well as a TPL librarian\, who will discuss their favourite book from the Dementia Friendly Picture Books List\, created by TPL librarians and the Alzheimer Society of Toronto. \nThis program will be recorded. \n  \nRegistration: This virtual event is free to join; register on Eventbrite for a reminder. Once registered\, you’ll receive an email with details on how to join the session. We can’t wait to see you there! \nAccessibility: If you identify as a person with a disability and require an accessibility accommodation to participate in this program\, please contact Accessibility Services by email\, accessibleservices@tpl.ca\, or voicemail\, 416-393-7099\, to make a request. Please contact us at least three weeks in advance. \n  \nClick Here to register for the event.
URL:https://alz.to/calendar/the-squeezed-generation-balancing-dementia-caregiving-with-everything-else/
LOCATION:https://alz.to/calendar/the-squeezed-generation-balancing-dementia-caregiving-with-everything-else/
CATEGORIES:Learn
ATTACH;FMTTYPE=image/jpeg:https://alz.to/wp-content/uploads/2026/01/Squeezed-Generation-Picture.jpg
ORGANIZER;CN="Alzheimer Society of Toronto":MAILTO:info@alz.to
END:VEVENT
BEGIN:VEVENT
DTSTART;TZID=America/Toronto:20260122T100000
DTEND;TZID=America/Toronto:20260122T113000
DTSTAMP:20260421T082449
CREATED:20251105T155850Z
LAST-MODIFIED:20260105T165824Z
UID:10003414-1769076000-1769081400@alz.to
SUMMARY:Enhancing Family Dynamics
DESCRIPTION:The focus of the session will be on exploring significant sources of conflict for families dealing with dementia and strategies for assisting families\, building on strengths and resilience. \n  \nLearning Objectives: \n\nIdentifying family dynamics and their effects on families\nExploring significant sources of conflict for families dealing with dementia\nReviewing strategies for assisting families\, building on strength and resilience\n\n  \nPlease note this workshop is only for informal care partners (friends\, family\, etc) of a person living with dementia. This workshop is NOT for healthcare professionals. \n\nWorkshop will be presented using Zoom\, registration required to receive link.
URL:https://alz.to/calendar/enhancing-family-dynamics-4/
LOCATION:https://alz.to/calendar/enhancing-family-dynamics-4/
CATEGORIES:Learn,Workshops
ATTACH;FMTTYPE=image/jpeg:https://alz.to/wp-content/uploads/2024/09/about_header.jpg
ORGANIZER;CN="Alzheimer Society of Toronto":MAILTO:info@alz.to
END:VEVENT
BEGIN:VEVENT
DTSTART;TZID=America/Toronto:20260126T130000
DTEND;TZID=America/Toronto:20260126T140000
DTSTAMP:20260421T082449
CREATED:20251201T164906Z
LAST-MODIFIED:20251201T164906Z
UID:10003597-1769432400-1769436000@alz.to
SUMMARY:Living Safely in the Community
DESCRIPTION:Join us at the Toronto Public Library – Barbara Frum Branch for our Living Safely in the Community education session. \nThis presentation will discuss the difference between changes that come with typical aging and when something is not typical\, reversible causes for these changes\, and a general understanding of dementia. It also will cover the different types of dementia\, progression\, and knowledge of dementia symptoms and their impact on the person living with dementia. \nEvent Details:\nDate: Monday\, January 26\nTime: 1:00 PM – 2:00 PM\nLocation: Room B\, Barbara Frum Library\n20 Covington Rd.\, Toronto\, ON\, M6A 3C1 \n  \nAdditional Information: \n\nAll sessions are drop-in. No registration required.\nIf you identify as a person with a disability or as a person who is Deaf and require an accessibility accommodation to participate in this program\, please contact Accessibility Services by email at accessibleservices@tpl.ca\, or by voicemail at 416-393-7099\, to make a request.\nPlease contact us at least three weeks in advance.
URL:https://alz.to/calendar/living-safely-in-the-community-2/
LOCATION:Barbara Frum Library\, 20 Covington Rd\, Toronto\, Ontario\, M6A 3C1\, Canada
CATEGORIES:Learn,Workshops in the City
ATTACH;FMTTYPE=image/png:https://alz.to/wp-content/uploads/2024/10/Screenshot-2024-10-15-204444.png
ORGANIZER;CN="Alzheimer Society of Toronto":MAILTO:info@alz.to
END:VEVENT
BEGIN:VEVENT
DTSTART;TZID=America/Toronto:20260129T120000
DTEND;TZID=America/Toronto:20260129T130000
DTSTAMP:20260421T082449
CREATED:20260108T143359Z
LAST-MODIFIED:20260113T214050Z
UID:10003663-1769688000-1769691600@alz.to
SUMMARY:Disease-Modifying Therapies for Alzheimer's Disease in Canada: What They Mean for People Living with Dementia and their Families
DESCRIPTION:To mark Alzheimer’s Awareness Month\, the Alzheimer Society of Toronto and the Toronto Dementia Research Alliance (TDRA) invite you to a virtual panel focused on new disease-modifying therapies (DMTs) for Alzheimer’s disease in Canada\, including recently approved treatments such as lecanemab. \nSummary: \nMost current treatments for Alzheimer’s disease help manage symptoms but do not slow the disease itself. Disease-modifying therapies are different. They aim to slow the disease by targeting changes in the brain\, such as the buildup of amyloid. \nThese treatments bring new hope\, but they also raise important questions. Who may be eligible? What tests are needed? How will people access these treatments in Canada? What benefits and risks should families understand? \nDuring this panel\, experts and people with lived experience will discuss: \n– What disease-modifying therapies are and how they work \n– Who these treatments may be for and how eligibility is decided \n– What testing and monitoring are needed \n– How access and funding may work across Canada \n– What slowing disease progression may look like in daily life \nThis event will be presented in plain language and will include time for audience questions. \nPresented in partnership with the Toronto Dementia Research Alliance and the Alzheimer Society of Toronto. \n  \nAbout the Presenters \nDr. Carmela Tartaglia \nDr. Carmela Tartaglia is a Cognitive Neurologist who cares for people with neurodegenerative diseases. She is Co-Director and Medical Lead of the Toronto Western Hospital Memory Clinic and a Professor of Medicine at the University of Toronto. \nShe is also the Executive Director of the Toronto Dementia Research Alliance (TDRA). Dr. Tartaglia has helped lead projects such as the Toronto Cognitive Assessment (TorCA) and research using brain imaging and biomarkers to support earlier and more accurate diagnosis. Her work focuses on improving access to timely and targeted care for people living with cognitive disorders. \nChad Mitchell \nChad Mitchell is a health policy expert and Senior Associate at Global Public Affairs. He has more than 20 years of experience working in Canada’s health system on drug policy\, health technology review\, and health system planning. \nHe has held senior leadership roles with the pan-Canadian Pharmaceutical Alliance and the Canadian Agency for Drugs and Technologies in Health (CADTH). Chad works with governments and health organizations to support fair access to new treatments across Canada. \nCara Sullivan \nCara is a retired high school English teacher and a member of TDRA’s Lived Experience Advisory Partners Council. She became engaged in Alzheimer’s research in 2016 after supporting a family member as part of a caregiving team\, with support from the Alzheimer Society of Toronto and the Alzheimer Society of Grey-Bruce. Cara has participated in several clinical trials with the Toronto Memory Program and CAMH and has a strong interest in risk reduction and brain health. She is currently the study partner for a family member who recently completed two years in the AHEAD Alzheimer’s prevention study at Sunnybrook Hospital. \nPaul Lea \nPaul is a member of TDRA’s Lived Experience Advisory Partners (LEAP) Council. He experienced a major stroke in 2008 and was diagnosed with vascular dementia in 2009. After connecting with the Alzheimer Society of Toronto in 2015\, Paul became an active advocate and spokesperson\, raising awareness about stigma\, prevention\, and the need for better supports for people living with dementia. He continues to challenge himself cognitively and has developed effective strategies to adapt to the changes associated with vascular dementia. \n 
URL:https://alz.to/calendar/disease-modifying-therapies-for-alzheimers-disease-in-canada-what-they-mean-for-people-living-with-dementia-and-their-families/
LOCATION:https://alz.to/calendar/disease-modifying-therapies-for-alzheimers-disease-in-canada-what-they-mean-for-people-living-with-dementia-and-their-families/
CATEGORIES:Learn,Webinars
ATTACH;FMTTYPE=image/png:https://alz.to/wp-content/uploads/2026/01/Webinar-photo.png
ORGANIZER;CN="Alzheimer Society of Toronto":MAILTO:info@alz.to
END:VEVENT
END:VCALENDAR