
BEGIN:VCALENDAR
VERSION:2.0
PRODID:-//Alzheimers Society of Toronto - ECPv6.15.17.1//NONSGML v1.0//EN
CALSCALE:GREGORIAN
METHOD:PUBLISH
X-WR-CALNAME:Alzheimers Society of Toronto
X-ORIGINAL-URL:https://alz.to
X-WR-CALDESC:Events for Alzheimers Society of Toronto
REFRESH-INTERVAL;VALUE=DURATION:PT1H
X-Robots-Tag:noindex
X-PUBLISHED-TTL:PT1H
BEGIN:VTIMEZONE
TZID:America/Toronto
BEGIN:DAYLIGHT
TZOFFSETFROM:-0500
TZOFFSETTO:-0400
TZNAME:EDT
DTSTART:20230312T070000
END:DAYLIGHT
BEGIN:STANDARD
TZOFFSETFROM:-0400
TZOFFSETTO:-0500
TZNAME:EST
DTSTART:20231105T060000
END:STANDARD
BEGIN:DAYLIGHT
TZOFFSETFROM:-0500
TZOFFSETTO:-0400
TZNAME:EDT
DTSTART:20240310T070000
END:DAYLIGHT
BEGIN:STANDARD
TZOFFSETFROM:-0400
TZOFFSETTO:-0500
TZNAME:EST
DTSTART:20241103T060000
END:STANDARD
BEGIN:DAYLIGHT
TZOFFSETFROM:-0500
TZOFFSETTO:-0400
TZNAME:EDT
DTSTART:20250309T070000
END:DAYLIGHT
BEGIN:STANDARD
TZOFFSETFROM:-0400
TZOFFSETTO:-0500
TZNAME:EST
DTSTART:20251102T060000
END:STANDARD
END:VTIMEZONE
BEGIN:VEVENT
DTSTART;TZID=America/Toronto:20241210T140000
DTEND;TZID=America/Toronto:20241210T150000
DTSTAMP:20260422T031017
CREATED:20241202T200809Z
LAST-MODIFIED:20241202T201005Z
UID:10001626-1733839200-1733842800@alz.to
SUMMARY:Lewy Body Dementia and Parkinson's Disease Dementia
DESCRIPTION:This webinar will provide an overview of these two rarer types of dementia.\nIt will provide attendees the opportunity to understand the unique symptoms\, criteria for diagnosis and support needs for both the person living with these brain changes and their care partners. \n  \nTo register for this webinar\, visit:\nwww.alzeducate.ca \nYou must login/create an account in order to participate. \nTo find the session: \n\nHover over “Education”  and select the intended audience.\nSelect webinars\, then “Upcoming live webinars”.\nSelect your chosen topic\, then click “Enrol me” to register.
URL:https://alz.to/calendar/lewy-body-dementia-and-parkinsons-disease-dementia/
LOCATION:Alzeducate
CATEGORIES:Webinars
ATTACH;FMTTYPE=image/jpeg:https://alz.to/wp-content/uploads/2024/08/drop_in_adult_child_program_support_group.jpg
ORGANIZER;CN="Alzheimer Society of Toronto":MAILTO:info@alz.to
END:VEVENT
BEGIN:VEVENT
DTSTART;TZID=America/Toronto:20241210T100000
DTEND;TZID=America/Toronto:20241210T113000
DTSTAMP:20260422T031017
CREATED:20241112T182930Z
LAST-MODIFIED:20241128T142510Z
UID:10001514-1733824800-1733830200@alz.to
SUMMARY:BSO Self-Care Series - Session 1: Self-Care for Professionals Toolkit
DESCRIPTION:This 4-session series explores the different issues Frontline Health Care Providers may experience when providing care to People Living with Dementia. In this series of workshops\, participants will receive information on a variety of self care topics in addition to learning tips and strategies on how to work better as a team with the aim of enhancing client care. \n\nThese workshops will be online using Zoom.\n\n \nSession 1: Self-Care for Professionals Toolkit\nTuesday\, December 10th\, from 10:00am to 11:30am\nThis session will discuss the concept of Self Care and the important role it plays in managing the day-to-day stress associated with a Health Care Professional’s occupation.\nThis session will provide practical strategies for self care and encourage participants to create their own self care plan with examples of activities provided throughout.\n\n  \nOther sessions in the series:\nSession 2: Navigating Difficult Conversations\nTuesday\, January 14th\, from 10:00am to 11:30am\nSession 3: Putting You First \nTuesday\, February 11th\, from 10:00am to 11:30am\nSession 4: Grief and Loss\nTuesday\, March 11th\, from 10:00am to 11:30am\n  \nPlease refer to our event calendar to sign up for the sessions of interest.\nRegistration is required to receive the Zoom link.
URL:https://alz.to/calendar/bso-self-care-series-session-1-self-care-for-professionals-toolkit/
CATEGORIES:Health Care Professionals,Learn,Workshops
ORGANIZER;CN="Alzheimer Society of Toronto":MAILTO:info@alz.to
LOCATION:https://alz.to/calendar/bso-self-care-series-session-1-self-care-for-professionals-toolkit/
END:VEVENT
BEGIN:VEVENT
DTSTART;TZID=America/Toronto:20241209T170000
DTEND;TZID=America/Toronto:20241209T190000
DTSTAMP:20260422T031017
CREATED:20240823T084419Z
LAST-MODIFIED:20241113T195930Z
UID:10000661-1733763600-1733770800@alz.to
SUMMARY:U-First!® for Care Partners
DESCRIPTION:What is U-First!®  for Care Partners? \nU-First!® for Care Partners is a new education program for family and friends who are providing direct support to someone experiencing behaviour changes as a result of dementia or other cognitive impairment. \nThis 6 hour education program will help you to: \n\nEnhance well-being of care partners and of the person they are supporting who is experiencing behaviour changes\nReduce responsive behaviours by using the U-First!® framework\nImprove collaboration among all team members through a common knowledge\, language and approach to care.\n\nMandatory Session Dates:\nMonday\, November 18th from 5:00pm-7:00pm\nMonday\, November 25th from 5:00pm-7:00pm\nMonday\, December 2nd from 5:00pm-7:00pm \nOptional Session Date:\nMonday\, December 9th from 5:00pm-7:00pm \nWho should attend? \nU-First!® for Care Partners is for family and friends of people experiencing behaviour changes as a result of dementia or other cognitive impairment who provide direct support for that person in an unpaid role. \nWhat’s involved in the program? \n\nInteractive learning approach that has participants reflect on their experiences\, engage with new content\, practice using a variety of methods including case studies and plan for how they will implement what they have learned.\nLearners receive a Participant Workbook and a U-First!® Wheel to use during the program and keep as useful resources for applying their learning.\nLearners will also be invited to take part in an evaluation to better understand the effectiveness and outcomes of the program.  In addition\, a sample of participants will be invited to take part in an interview with the Evaluator. All learners will be invited to participate in evaluation activities but will not be excluded from the program if they choose not to participate in the evaluation.\n\nWhat’s the cost for the program? \nThere is no cost for participants of U-First!® for Care Partners. \nPlease note that there will be additional screening of all interested participants to ensure there is a fit between the program and participant. \nRegistration closes October 20th\, 2024.
URL:https://alz.to/calendar/u-first-for-care-partners-zoom-2/2024-12-09/
LOCATION:https://alz.to/calendar/u-first-for-care-partners-zoom-2/2024-12-09/
CATEGORIES:Workshops
ATTACH;FMTTYPE=image/jpeg:https://alz.to/wp-content/uploads/2024/08/Workshop_3__800X600.jpg
END:VEVENT
BEGIN:VEVENT
DTSTART;TZID=America/Toronto:20241203T133000
DTEND;TZID=America/Toronto:20241203T150000
DTSTAMP:20260422T031017
CREATED:20241020T005324Z
LAST-MODIFIED:20241113T195913Z
UID:10001022-1733232600-1733238000@alz.to
SUMMARY:Understanding Behaviours and Supportive Communication
DESCRIPTION:This workshop provides an overview of behaviours in dementia and communicating in a supportive manner. It will focus on providing participants with the knowledge of how behaviours and communication can change over the course of the disease and ways to supportively communicate with a person living with dementia. \nFor family caregivers related to a person living with dementia. \nLearning Objectives: \n\nRecognize that behaviour is a form of communication\nDescribe how dementia impacts communication\nRecall communication strategies that can be used to support people living with dementia\nDiscuss the meaning of behaviours in dementia and ways to offer support\n\nWorkshop will be presented online via Zoom.\nRegistration is required to participate.
URL:https://alz.to/calendar/understanding-behaviours-and-supportive-communication/
CATEGORIES:Workshops
ATTACH;FMTTYPE=image/jpeg:https://alz.to/wp-content/uploads/2024/10/Drop_in_Long-Term_Care_Home_Caregiver_Support_Group-1.jpg
LOCATION:https://alz.to/calendar/understanding-behaviours-and-supportive-communication/
END:VEVENT
BEGIN:VEVENT
DTSTART;TZID=America/Toronto:20241202T170000
DTEND;TZID=America/Toronto:20241202T190000
DTSTAMP:20260422T031017
CREATED:20240823T084419Z
LAST-MODIFIED:20241113T195930Z
UID:10000660-1733158800-1733166000@alz.to
SUMMARY:U-First!® for Care Partners
DESCRIPTION:What is U-First!®  for Care Partners? \nU-First!® for Care Partners is a new education program for family and friends who are providing direct support to someone experiencing behaviour changes as a result of dementia or other cognitive impairment. \nThis 6 hour education program will help you to: \n\nEnhance well-being of care partners and of the person they are supporting who is experiencing behaviour changes\nReduce responsive behaviours by using the U-First!® framework\nImprove collaboration among all team members through a common knowledge\, language and approach to care.\n\nMandatory Session Dates:\nMonday\, November 18th from 5:00pm-7:00pm\nMonday\, November 25th from 5:00pm-7:00pm\nMonday\, December 2nd from 5:00pm-7:00pm \nOptional Session Date:\nMonday\, December 9th from 5:00pm-7:00pm \nWho should attend? \nU-First!® for Care Partners is for family and friends of people experiencing behaviour changes as a result of dementia or other cognitive impairment who provide direct support for that person in an unpaid role. \nWhat’s involved in the program? \n\nInteractive learning approach that has participants reflect on their experiences\, engage with new content\, practice using a variety of methods including case studies and plan for how they will implement what they have learned.\nLearners receive a Participant Workbook and a U-First!® Wheel to use during the program and keep as useful resources for applying their learning.\nLearners will also be invited to take part in an evaluation to better understand the effectiveness and outcomes of the program.  In addition\, a sample of participants will be invited to take part in an interview with the Evaluator. All learners will be invited to participate in evaluation activities but will not be excluded from the program if they choose not to participate in the evaluation.\n\nWhat’s the cost for the program? \nThere is no cost for participants of U-First!® for Care Partners. \nPlease note that there will be additional screening of all interested participants to ensure there is a fit between the program and participant. \nRegistration closes October 20th\, 2024.
URL:https://alz.to/calendar/u-first-for-care-partners-zoom-2/2024-12-02/
LOCATION:https://alz.to/calendar/u-first-for-care-partners-zoom-2/2024-12-02/
CATEGORIES:Workshops
ATTACH;FMTTYPE=image/jpeg:https://alz.to/wp-content/uploads/2024/08/Workshop_3__800X600.jpg
END:VEVENT
BEGIN:VEVENT
DTSTART;TZID=America/Toronto:20241125T170000
DTEND;TZID=America/Toronto:20241125T190000
DTSTAMP:20260422T031017
CREATED:20240823T084419Z
LAST-MODIFIED:20241113T195930Z
UID:10000659-1732554000-1732561200@alz.to
SUMMARY:U-First!® for Care Partners
DESCRIPTION:What is U-First!®  for Care Partners? \nU-First!® for Care Partners is a new education program for family and friends who are providing direct support to someone experiencing behaviour changes as a result of dementia or other cognitive impairment. \nThis 6 hour education program will help you to: \n\nEnhance well-being of care partners and of the person they are supporting who is experiencing behaviour changes\nReduce responsive behaviours by using the U-First!® framework\nImprove collaboration among all team members through a common knowledge\, language and approach to care.\n\nMandatory Session Dates:\nMonday\, November 18th from 5:00pm-7:00pm\nMonday\, November 25th from 5:00pm-7:00pm\nMonday\, December 2nd from 5:00pm-7:00pm \nOptional Session Date:\nMonday\, December 9th from 5:00pm-7:00pm \nWho should attend? \nU-First!® for Care Partners is for family and friends of people experiencing behaviour changes as a result of dementia or other cognitive impairment who provide direct support for that person in an unpaid role. \nWhat’s involved in the program? \n\nInteractive learning approach that has participants reflect on their experiences\, engage with new content\, practice using a variety of methods including case studies and plan for how they will implement what they have learned.\nLearners receive a Participant Workbook and a U-First!® Wheel to use during the program and keep as useful resources for applying their learning.\nLearners will also be invited to take part in an evaluation to better understand the effectiveness and outcomes of the program.  In addition\, a sample of participants will be invited to take part in an interview with the Evaluator. All learners will be invited to participate in evaluation activities but will not be excluded from the program if they choose not to participate in the evaluation.\n\nWhat’s the cost for the program? \nThere is no cost for participants of U-First!® for Care Partners. \nPlease note that there will be additional screening of all interested participants to ensure there is a fit between the program and participant. \nRegistration closes October 20th\, 2024.
URL:https://alz.to/calendar/u-first-for-care-partners-zoom-2/2024-11-25/
LOCATION:https://alz.to/calendar/u-first-for-care-partners-zoom-2/2024-11-25/
CATEGORIES:Workshops
ATTACH;FMTTYPE=image/jpeg:https://alz.to/wp-content/uploads/2024/08/Workshop_3__800X600.jpg
END:VEVENT
BEGIN:VEVENT
DTSTART;TZID=America/Toronto:20241125T110000
DTEND;TZID=America/Toronto:20241125T120000
DTSTAMP:20260422T031017
CREATED:20241019T233411Z
LAST-MODIFIED:20241113T195918Z
UID:10001004-1732532400-1732536000@alz.to
SUMMARY:Lewy Body Dementia
DESCRIPTION:This webinar will guide health care professionals through a review of Lewy Body Dementia. Learn about the signs and symptoms that are unique to Lewy Body Dementia\, and the way in which the disease alters the brain. Supportive care strategies and treatments options that can be used to support someone living with Lewy Body Dementia will be discussed. \nWorkshop for health care professionals. \n  \nTo REGISTER: Go to our online learning site at www.alzeducate.ca \nStep 1: Create an Account/Login \nStep 2: Select Education and then select the intended audience of the presentation. \nStep 3: Enrol in the webinar
URL:https://alz.to/calendar/lewy-body-dementia/
LOCATION:Alzeducate
CATEGORIES:Health Care Professionals,Workshops
ATTACH;FMTTYPE=image/jpeg:https://alz.to/wp-content/uploads/2024/08/Workshop__800X600.jpg
END:VEVENT
BEGIN:VEVENT
DTSTART;TZID=America/Toronto:20241121T103000
DTEND;TZID=America/Toronto:20241121T120000
DTSTAMP:20260422T031017
CREATED:20241019T230437Z
LAST-MODIFIED:20241113T195920Z
UID:10000991-1732185000-1732190400@alz.to
SUMMARY:Mindfulness and Meditation
DESCRIPTION:This hands-on\, interactive workshop is for care partners of people living with dementia. The overarching goal is for care partners to feel more relaxed and grounded at the end of the workshop\, and to learn 1 or more relaxation and meditation techniques to continue to use on their own. \nFor Family and Friends of people living with dementia. \nLearning Objectives: \n\nRecognize the impact of chronic stress on care partners.\nExplore how relaxation and meditation techniques can help reduce care partner stress and build resilience in the face of uncertainty.\nPractice some helpful relaxation and meditation techniques that you can continue to do on your own after the workshop.\nDevelop an understanding of how to connect with supportive services in your community.\n\n\n\nThis workshop will be held on Zoom.\n \nRegistration is required to receive the link.
URL:https://alz.to/calendar/mindfulness-and-meditation/
CATEGORIES:Workshops
ATTACH;FMTTYPE=image/jpeg:https://alz.to/wp-content/uploads/2024/10/Image_for_Relaxation_and_Meditation_800x600.jpg
LOCATION:https://alz.to/calendar/mindfulness-and-meditation/
END:VEVENT
BEGIN:VEVENT
DTSTART;TZID=America/Toronto:20241118T170000
DTEND;TZID=America/Toronto:20241118T190000
DTSTAMP:20260422T031017
CREATED:20240823T084419Z
LAST-MODIFIED:20241113T195930Z
UID:10000145-1731949200-1731956400@alz.to
SUMMARY:U-First!® for Care Partners
DESCRIPTION:What is U-First!®  for Care Partners? \nU-First!® for Care Partners is a new education program for family and friends who are providing direct support to someone experiencing behaviour changes as a result of dementia or other cognitive impairment. \nThis 6 hour education program will help you to: \n\nEnhance well-being of care partners and of the person they are supporting who is experiencing behaviour changes\nReduce responsive behaviours by using the U-First!® framework\nImprove collaboration among all team members through a common knowledge\, language and approach to care.\n\nMandatory Session Dates:\nMonday\, November 18th from 5:00pm-7:00pm\nMonday\, November 25th from 5:00pm-7:00pm\nMonday\, December 2nd from 5:00pm-7:00pm \nOptional Session Date:\nMonday\, December 9th from 5:00pm-7:00pm \nWho should attend? \nU-First!® for Care Partners is for family and friends of people experiencing behaviour changes as a result of dementia or other cognitive impairment who provide direct support for that person in an unpaid role. \nWhat’s involved in the program? \n\nInteractive learning approach that has participants reflect on their experiences\, engage with new content\, practice using a variety of methods including case studies and plan for how they will implement what they have learned.\nLearners receive a Participant Workbook and a U-First!® Wheel to use during the program and keep as useful resources for applying their learning.\nLearners will also be invited to take part in an evaluation to better understand the effectiveness and outcomes of the program.  In addition\, a sample of participants will be invited to take part in an interview with the Evaluator. All learners will be invited to participate in evaluation activities but will not be excluded from the program if they choose not to participate in the evaluation.\n\nWhat’s the cost for the program? \nThere is no cost for participants of U-First!® for Care Partners. \nPlease note that there will be additional screening of all interested participants to ensure there is a fit between the program and participant. \nRegistration closes October 20th\, 2024.
URL:https://alz.to/calendar/u-first-for-care-partners-zoom-2/2024-11-18/
LOCATION:https://alz.to/calendar/u-first-for-care-partners-zoom-2/2024-11-18/
CATEGORIES:Workshops
ATTACH;FMTTYPE=image/jpeg:https://alz.to/wp-content/uploads/2024/08/Workshop_3__800X600.jpg
END:VEVENT
BEGIN:VEVENT
DTSTART;TZID=America/Toronto:20241113T100000
DTEND;TZID=America/Toronto:20241113T120000
DTSTAMP:20260422T031017
CREATED:20241019T024103Z
LAST-MODIFIED:20241113T195936Z
UID:10000895-1731492000-1731499200@alz.to
SUMMARY:Putting You First for Care Partners
DESCRIPTION:This interactive 2-hour workshop will help participants reflect on all aspects of their well-being. Through this guided reflection process\, participants will identify opportunities for change and start creating a plan to attaining better balance in their lives. \nDate and Time:\nWednesday\, November 13th from 10:00am to 12:00pm \nWorkshop will be presented online via Zoom and In-Person at the AST Head Office \nRegistration is required to participate.
URL:https://alz.to/calendar/putting-you-first-for-care-partners/
LOCATION:Alzheimer Society of Toronto Head Office\, 20 Eglinton Ave West\, 16th floor\, Toronto\, Ontario\, M4R 1K8\, Canada
CATEGORIES:Workshops
ATTACH;FMTTYPE=image/jpeg:https://alz.to/wp-content/uploads/2024/10/BW___Dancing-800px.jpg
END:VEVENT
BEGIN:VEVENT
DTSTART;TZID=America/Toronto:20241112T110000
DTEND;TZID=America/Toronto:20241112T120000
DTSTAMP:20260422T031017
CREATED:20241019T022447Z
LAST-MODIFIED:20241113T195936Z
UID:10000893-1731409200-1731412800@alz.to
SUMMARY:Dementia Friendly Environments
DESCRIPTION:Learn how the symptoms of dementia can impact the way in which people engage and interact with their surrounding environment. This webinar will help to enhance your knowledge of what makes an environment dementia friendly\, and review strategies that can be implemented to support a person living with dementia in the place where they live. \nTo REGISTER: Go to our ONLINE LEARNING site at www.alzeducate.ca \nStep 1: Create an Account/Login \nStep 2: Select Education and then select the intended audience of the presentation. \nStep 3: Enrol in the webinar
URL:https://alz.to/calendar/dementia-friendly-environments/
LOCATION:Alzeducate
CATEGORIES:Health Care Professionals,Webinars
ATTACH;FMTTYPE=image/jpeg:https://alz.to/wp-content/uploads/2024/08/Webinar800X600.jpg
END:VEVENT
BEGIN:VEVENT
DTSTART;TZID=America/Toronto:20241107T103000
DTEND;TZID=America/Toronto:20241107T120000
DTSTAMP:20260422T031017
CREATED:20241018T225908Z
LAST-MODIFIED:20241113T195633Z
UID:10000875-1730975400-1730980800@alz.to
SUMMARY:Dementia Overview for Care Partners
DESCRIPTION:This workshop will provide care partners with an overview of Alzheimer’s disease focusing on the importance of early diagnosis and illustrates the progression of the disease. \nFor care partners related to a person living with dementia. \nTopics: \n\nGain a greater understanding of the process of diagnosis and medications available\nDevelop a better\, over-all understanding of dementia\nIncrease your knowledge of the stages and progression of Alzheimer’s disease\nBetter the caregiver’s insight into the person with dementia (PWD)\nLearn about community services and supports\n\nWorkshop will be presented using Zoom. Registration is required to receive the Zoom link to participate.
URL:https://alz.to/calendar/dementia-overview-for-care-partners/
CATEGORIES:Webinars,Workshops
ATTACH;FMTTYPE=image/jpeg:https://alz.to/wp-content/uploads/2024/08/Webinar800X600.jpg
LOCATION:https://alz.to/calendar/dementia-overview-for-care-partners/
END:VEVENT
END:VCALENDAR