
BEGIN:VCALENDAR
VERSION:2.0
PRODID:-//Alzheimers Society of Toronto - ECPv6.15.17.1//NONSGML v1.0//EN
CALSCALE:GREGORIAN
METHOD:PUBLISH
X-ORIGINAL-URL:https://alz.to
X-WR-CALDESC:Events for Alzheimers Society of Toronto
REFRESH-INTERVAL;VALUE=DURATION:PT1H
X-Robots-Tag:noindex
X-PUBLISHED-TTL:PT1H
BEGIN:VTIMEZONE
TZID:America/Toronto
BEGIN:DAYLIGHT
TZOFFSETFROM:-0500
TZOFFSETTO:-0400
TZNAME:EDT
DTSTART:20240310T070000
END:DAYLIGHT
BEGIN:STANDARD
TZOFFSETFROM:-0400
TZOFFSETTO:-0500
TZNAME:EST
DTSTART:20241103T060000
END:STANDARD
BEGIN:DAYLIGHT
TZOFFSETFROM:-0500
TZOFFSETTO:-0400
TZNAME:EDT
DTSTART:20250309T070000
END:DAYLIGHT
BEGIN:STANDARD
TZOFFSETFROM:-0400
TZOFFSETTO:-0500
TZNAME:EST
DTSTART:20251102T060000
END:STANDARD
BEGIN:DAYLIGHT
TZOFFSETFROM:-0500
TZOFFSETTO:-0400
TZNAME:EDT
DTSTART:20260308T070000
END:DAYLIGHT
BEGIN:STANDARD
TZOFFSETFROM:-0400
TZOFFSETTO:-0500
TZNAME:EST
DTSTART:20261101T060000
END:STANDARD
END:VTIMEZONE
BEGIN:VEVENT
DTSTART;TZID=America/Toronto:20250219T130000
DTEND;TZID=America/Toronto:20250219T150000
DTSTAMP:20260419T173643
CREATED:20240927T192147Z
LAST-MODIFIED:20250127T060156Z
UID:10000651-1739970000-1739977200@alz.to
SUMMARY:Minds in Motion (In-Person) 117 Bloor St E
DESCRIPTION:Minds in Motion® is an evidence-based program that includes physical activity\, socialization\, and mentally stimulating activities for people living with dementia and their care partners to participate in together. \nThis program runs once a week for 8 weeks In-Person at St-Andrew’s United Church located at 117 Bloor St. E\, Toronto\, On\, M4W 1A9. \nWednesdays from 1:00 PM – 3:00 PM from February 19th – April 9th 2025\nFeb 19th\, 26th\, March 5th\, 12th\, 19th\, 26th\, April 2nd\, & 9th 2025\n \nThis is a great environment to establish new friendships with others who are living with similar experiences. Combining physical\, mental\, and social stimulation improves brain health and may slow the disease progression.
URL:https://alz.to/calendar/minds-in-motion-in-person-117-bloor-st-e-2/2025-02-19/
LOCATION:St. Andrew’s United Church\, 117 Bloor St E\, Toronto\, Ontario\, M4W 1A9\, Canada
CATEGORIES:Active Living,Movement
ATTACH;FMTTYPE=image/png:https://alz.to/wp-content/uploads/2024/09/image-1.png
END:VEVENT
BEGIN:VEVENT
DTSTART;TZID=America/Toronto:20250221T133000
DTEND;TZID=America/Toronto:20250221T143000
DTSTAMP:20260419T173643
CREATED:20241124T221651Z
LAST-MODIFIED:20250127T055623Z
UID:10001538-1740144600-1740148200@alz.to
SUMMARY:Aquafit - Creative Movement Series
DESCRIPTION:Fridays from February 21st – March 28th\, 2025 (6-week program) from 1:30-2:30pm at Elms Pool located at 45 Golfdown Dr\, Etobicoke\, ON M9W 2H8 \nAquafit is not swimming\, it is a way to exercise in the water that can accommodate all ages\, fitness levels\, health considerations and abilities. It welcomes participants to choose their own intensity level\, speed and range of motion. The principles of water protect joints\, and build strength\, flexibility\, balance and endurance. Aquafit not only benefits the body\, it stimulates the mind and rejuvenates the spirit. \nCatherine Lyons-Bozzo is a WaterART Certified Master Trainer\, certified in Shallow/Deep\, Boot Camp\, Mind/Body\, Parent/Tot\, Arthritic\, Common Movement Disorders\, Running\, Master Trainer\, Senior H20 and Senior Land. She has many aquatic and sport certifications including being a Lifeguard\, Swim Instructor\, Swim Team Coach\, Figure Skating Coach and Gymnastics Coach. Over the past number of years\, Catherine has reinvented her career and has embarked on an Aquafit Journey with the City of Toronto\, Kimel Brain & Health Centre and private entities. Her enthusiasm\, creativity and cumulative experience are evidenced in the fun and diverse programs she delivers. \nThis program is for people living with mild to moderate dementia and/or cognitive impairments and their care partners\, who both have comfortability in the water. \nFor more information please contact Kristin Bartlett or by phone 416-389-6099.
URL:https://alz.to/calendar/aqua-fit-creative-movement-series/2025-02-21/
LOCATION:Elms Pool\, 45 Golfdown Dr.\, Etobicoke\, Ontario\, M9W 2H8\, Canada
CATEGORIES:Active Living,Movement
ATTACH;FMTTYPE=image/png:https://alz.to/wp-content/uploads/2024/11/Copy-of-Caregiver-Day-LinkedIn-1200-x-1000-px-960-x-540-px-9.png
END:VEVENT
BEGIN:VEVENT
DTSTART;TZID=America/Toronto:20250226T130000
DTEND;TZID=America/Toronto:20250226T150000
DTSTAMP:20260419T173643
CREATED:20240927T192147Z
LAST-MODIFIED:20250127T060156Z
UID:10000652-1740574800-1740582000@alz.to
SUMMARY:Minds in Motion (In-Person) 117 Bloor St E
DESCRIPTION:Minds in Motion® is an evidence-based program that includes physical activity\, socialization\, and mentally stimulating activities for people living with dementia and their care partners to participate in together. \nThis program runs once a week for 8 weeks In-Person at St-Andrew’s United Church located at 117 Bloor St. E\, Toronto\, On\, M4W 1A9. \nWednesdays from 1:00 PM – 3:00 PM from February 19th – April 9th 2025\nFeb 19th\, 26th\, March 5th\, 12th\, 19th\, 26th\, April 2nd\, & 9th 2025\n \nThis is a great environment to establish new friendships with others who are living with similar experiences. Combining physical\, mental\, and social stimulation improves brain health and may slow the disease progression.
URL:https://alz.to/calendar/minds-in-motion-in-person-117-bloor-st-e-2/2025-02-26/
LOCATION:St. Andrew’s United Church\, 117 Bloor St E\, Toronto\, Ontario\, M4W 1A9\, Canada
CATEGORIES:Active Living,Movement
ATTACH;FMTTYPE=image/png:https://alz.to/wp-content/uploads/2024/09/image-1.png
END:VEVENT
BEGIN:VEVENT
DTSTART;TZID=America/Toronto:20250228T133000
DTEND;TZID=America/Toronto:20250228T143000
DTSTAMP:20260419T173643
CREATED:20241124T221651Z
LAST-MODIFIED:20250127T055623Z
UID:10001539-1740749400-1740753000@alz.to
SUMMARY:Aquafit - Creative Movement Series
DESCRIPTION:Fridays from February 21st – March 28th\, 2025 (6-week program) from 1:30-2:30pm at Elms Pool located at 45 Golfdown Dr\, Etobicoke\, ON M9W 2H8 \nAquafit is not swimming\, it is a way to exercise in the water that can accommodate all ages\, fitness levels\, health considerations and abilities. It welcomes participants to choose their own intensity level\, speed and range of motion. The principles of water protect joints\, and build strength\, flexibility\, balance and endurance. Aquafit not only benefits the body\, it stimulates the mind and rejuvenates the spirit. \nCatherine Lyons-Bozzo is a WaterART Certified Master Trainer\, certified in Shallow/Deep\, Boot Camp\, Mind/Body\, Parent/Tot\, Arthritic\, Common Movement Disorders\, Running\, Master Trainer\, Senior H20 and Senior Land. She has many aquatic and sport certifications including being a Lifeguard\, Swim Instructor\, Swim Team Coach\, Figure Skating Coach and Gymnastics Coach. Over the past number of years\, Catherine has reinvented her career and has embarked on an Aquafit Journey with the City of Toronto\, Kimel Brain & Health Centre and private entities. Her enthusiasm\, creativity and cumulative experience are evidenced in the fun and diverse programs she delivers. \nThis program is for people living with mild to moderate dementia and/or cognitive impairments and their care partners\, who both have comfortability in the water. \nFor more information please contact Kristin Bartlett or by phone 416-389-6099.
URL:https://alz.to/calendar/aqua-fit-creative-movement-series/2025-02-28/
LOCATION:Elms Pool\, 45 Golfdown Dr.\, Etobicoke\, Ontario\, M9W 2H8\, Canada
CATEGORIES:Active Living,Movement
ATTACH;FMTTYPE=image/png:https://alz.to/wp-content/uploads/2024/11/Copy-of-Caregiver-Day-LinkedIn-1200-x-1000-px-960-x-540-px-9.png
END:VEVENT
END:VCALENDAR