
BEGIN:VCALENDAR
VERSION:2.0
PRODID:-//Alzheimers Society of Toronto - ECPv6.15.17.1//NONSGML v1.0//EN
CALSCALE:GREGORIAN
METHOD:PUBLISH
X-ORIGINAL-URL:https://alz.to
X-WR-CALDESC:Events for Alzheimers Society of Toronto
REFRESH-INTERVAL;VALUE=DURATION:PT1H
X-Robots-Tag:noindex
X-PUBLISHED-TTL:PT1H
BEGIN:VTIMEZONE
TZID:America/Toronto
BEGIN:DAYLIGHT
TZOFFSETFROM:-0500
TZOFFSETTO:-0400
TZNAME:EDT
DTSTART:20240310T070000
END:DAYLIGHT
BEGIN:STANDARD
TZOFFSETFROM:-0400
TZOFFSETTO:-0500
TZNAME:EST
DTSTART:20241103T060000
END:STANDARD
BEGIN:DAYLIGHT
TZOFFSETFROM:-0500
TZOFFSETTO:-0400
TZNAME:EDT
DTSTART:20250309T070000
END:DAYLIGHT
BEGIN:STANDARD
TZOFFSETFROM:-0400
TZOFFSETTO:-0500
TZNAME:EST
DTSTART:20251102T060000
END:STANDARD
BEGIN:DAYLIGHT
TZOFFSETFROM:-0500
TZOFFSETTO:-0400
TZNAME:EDT
DTSTART:20260308T070000
END:DAYLIGHT
BEGIN:STANDARD
TZOFFSETFROM:-0400
TZOFFSETTO:-0500
TZNAME:EST
DTSTART:20261101T060000
END:STANDARD
END:VTIMEZONE
BEGIN:VEVENT
DTSTART;TZID=America/Toronto:20250702T133000
DTEND;TZID=America/Toronto:20250702T150000
DTSTAMP:20260419T095013
CREATED:20250416T233818Z
LAST-MODIFIED:20250421T171034Z
UID:10002663-1751463000-1751468400@alz.to
SUMMARY:Growing Wild
DESCRIPTION:Do you love being in nature? Let your senses guide you to this 4-week program for the horticultural at heart. Join Active Living Program Coordinators – Kristin and Tracey – for Growing Wild\, a nature inspired program from June 4 to June 25\, 1:30 PM -3:00 PM at Trinity Bellwoods Community Center located at 155 Crawford Ave. \nOver the four weeks together we will chat about nature themed topics\, take a stroll to a nearby park\, enjoy some mindful moments in nature and get creative together\, using elements from the natural world around us as inspiration. \nThis program is intended for people living with Dementia along with their Care Partners
URL:https://alz.to/calendar/growing-wild/2025-07-02/
LOCATION:Trinity Bellwoods Recreation Centre\, 155 Crawford Street\, Toronto\, Ontario\, M6J1G3\, Canada
CATEGORIES:Active Living,Movement,Social,Wellness
ATTACH;FMTTYPE=image/jpeg:https://alz.to/wp-content/uploads/2025/04/pexels-mikhail-nilov-7676299-test-scaled.jpg
ORGANIZER;CN="Alzheimer Society of Toronto":MAILTO:info@alz.to
END:VEVENT
BEGIN:VEVENT
DTSTART;TZID=America/Toronto:20250703T110000
DTEND;TZID=America/Toronto:20250703T120000
DTSTAMP:20260419T095013
CREATED:20250304T204304Z
LAST-MODIFIED:20260205T152352Z
UID:10003693-1751540400-1751544000@alz.to
SUMMARY:Dance Fitness 2026
DESCRIPTION:This gentle low impact dance fitness class with Jenn uses diverse music and simple dance movements to create a dynamic and energizing aerobic workout. With easy to follow moves that can be done seated or standing\, this upbeat class is set to positive\, playful and uplifting music. You will be motivated by the joyful\, welcoming and supportive environment that encourages you to let go and have fun! No experience required. \nJenn Hicks is a Personal Trainer Size and Inclusive Fitness Specialist who has taught dance fitness classes for the past 17 years. She was named NOW Magazine’s Best Virtual Fitness Instructor for 2020. Jenn customizes routines for every class and helps attendees modify steps or movements whenever they need a little extra care. \nThis program will be held on Zoom. Registration is required to receive the Zoom link to participate. \nPLEASE NOTE: Dance Fitness will revert to starting at 11:00 am – 12:00 pm beginning January 8th
URL:https://alz.to/calendar/dance-fitness-2025-2/2025-07-03/
LOCATION:https://alz.to/calendar/dance-fitness-2025-2/2025-07-03/
CATEGORIES:Active Living,Movement
ATTACH;FMTTYPE=image/jpeg:https://alz.to/wp-content/uploads/2024/08/Jenn_2.jpg
ORGANIZER;CN="Alzheimer Society of Toronto":MAILTO:info@alz.to
END:VEVENT
BEGIN:VEVENT
DTSTART;TZID=America/Toronto:20250710T110000
DTEND;TZID=America/Toronto:20250710T120000
DTSTAMP:20260419T095013
CREATED:20250304T204304Z
LAST-MODIFIED:20260205T152352Z
UID:10003694-1752145200-1752148800@alz.to
SUMMARY:Dance Fitness 2026
DESCRIPTION:This gentle low impact dance fitness class with Jenn uses diverse music and simple dance movements to create a dynamic and energizing aerobic workout. With easy to follow moves that can be done seated or standing\, this upbeat class is set to positive\, playful and uplifting music. You will be motivated by the joyful\, welcoming and supportive environment that encourages you to let go and have fun! No experience required. \nJenn Hicks is a Personal Trainer Size and Inclusive Fitness Specialist who has taught dance fitness classes for the past 17 years. She was named NOW Magazine’s Best Virtual Fitness Instructor for 2020. Jenn customizes routines for every class and helps attendees modify steps or movements whenever they need a little extra care. \nThis program will be held on Zoom. Registration is required to receive the Zoom link to participate. \nPLEASE NOTE: Dance Fitness will revert to starting at 11:00 am – 12:00 pm beginning January 8th
URL:https://alz.to/calendar/dance-fitness-2025-2/2025-07-10/
LOCATION:https://alz.to/calendar/dance-fitness-2025-2/2025-07-10/
CATEGORIES:Active Living,Movement
ATTACH;FMTTYPE=image/jpeg:https://alz.to/wp-content/uploads/2024/08/Jenn_2.jpg
ORGANIZER;CN="Alzheimer Society of Toronto":MAILTO:info@alz.to
END:VEVENT
BEGIN:VEVENT
DTSTART;TZID=America/Toronto:20250717T110000
DTEND;TZID=America/Toronto:20250717T120000
DTSTAMP:20260419T095013
CREATED:20250304T204304Z
LAST-MODIFIED:20260205T152352Z
UID:10003695-1752750000-1752753600@alz.to
SUMMARY:Dance Fitness 2026
DESCRIPTION:This gentle low impact dance fitness class with Jenn uses diverse music and simple dance movements to create a dynamic and energizing aerobic workout. With easy to follow moves that can be done seated or standing\, this upbeat class is set to positive\, playful and uplifting music. You will be motivated by the joyful\, welcoming and supportive environment that encourages you to let go and have fun! No experience required. \nJenn Hicks is a Personal Trainer Size and Inclusive Fitness Specialist who has taught dance fitness classes for the past 17 years. She was named NOW Magazine’s Best Virtual Fitness Instructor for 2020. Jenn customizes routines for every class and helps attendees modify steps or movements whenever they need a little extra care. \nThis program will be held on Zoom. Registration is required to receive the Zoom link to participate. \nPLEASE NOTE: Dance Fitness will revert to starting at 11:00 am – 12:00 pm beginning January 8th
URL:https://alz.to/calendar/dance-fitness-2025-2/2025-07-17/
LOCATION:https://alz.to/calendar/dance-fitness-2025-2/2025-07-17/
CATEGORIES:Active Living,Movement
ATTACH;FMTTYPE=image/jpeg:https://alz.to/wp-content/uploads/2024/08/Jenn_2.jpg
ORGANIZER;CN="Alzheimer Society of Toronto":MAILTO:info@alz.to
END:VEVENT
BEGIN:VEVENT
DTSTART;TZID=America/Toronto:20250724T110000
DTEND;TZID=America/Toronto:20250724T120000
DTSTAMP:20260419T095013
CREATED:20250304T204304Z
LAST-MODIFIED:20260205T152352Z
UID:10003696-1753354800-1753358400@alz.to
SUMMARY:Dance Fitness 2026
DESCRIPTION:This gentle low impact dance fitness class with Jenn uses diverse music and simple dance movements to create a dynamic and energizing aerobic workout. With easy to follow moves that can be done seated or standing\, this upbeat class is set to positive\, playful and uplifting music. You will be motivated by the joyful\, welcoming and supportive environment that encourages you to let go and have fun! No experience required. \nJenn Hicks is a Personal Trainer Size and Inclusive Fitness Specialist who has taught dance fitness classes for the past 17 years. She was named NOW Magazine’s Best Virtual Fitness Instructor for 2020. Jenn customizes routines for every class and helps attendees modify steps or movements whenever they need a little extra care. \nThis program will be held on Zoom. Registration is required to receive the Zoom link to participate. \nPLEASE NOTE: Dance Fitness will revert to starting at 11:00 am – 12:00 pm beginning January 8th
URL:https://alz.to/calendar/dance-fitness-2025-2/2025-07-24/
LOCATION:https://alz.to/calendar/dance-fitness-2025-2/2025-07-24/
CATEGORIES:Active Living,Movement
ATTACH;FMTTYPE=image/jpeg:https://alz.to/wp-content/uploads/2024/08/Jenn_2.jpg
ORGANIZER;CN="Alzheimer Society of Toronto":MAILTO:info@alz.to
END:VEVENT
END:VCALENDAR