
BEGIN:VCALENDAR
VERSION:2.0
PRODID:-//Alzheimers Society of Toronto - ECPv6.15.17.1//NONSGML v1.0//EN
CALSCALE:GREGORIAN
METHOD:PUBLISH
X-ORIGINAL-URL:https://alz.to
X-WR-CALDESC:Events for Alzheimers Society of Toronto
REFRESH-INTERVAL;VALUE=DURATION:PT1H
X-Robots-Tag:noindex
X-PUBLISHED-TTL:PT1H
BEGIN:VTIMEZONE
TZID:America/Toronto
BEGIN:DAYLIGHT
TZOFFSETFROM:-0500
TZOFFSETTO:-0400
TZNAME:EDT
DTSTART:20240310T070000
END:DAYLIGHT
BEGIN:STANDARD
TZOFFSETFROM:-0400
TZOFFSETTO:-0500
TZNAME:EST
DTSTART:20241103T060000
END:STANDARD
BEGIN:DAYLIGHT
TZOFFSETFROM:-0500
TZOFFSETTO:-0400
TZNAME:EDT
DTSTART:20250309T070000
END:DAYLIGHT
BEGIN:STANDARD
TZOFFSETFROM:-0400
TZOFFSETTO:-0500
TZNAME:EST
DTSTART:20251102T060000
END:STANDARD
BEGIN:DAYLIGHT
TZOFFSETFROM:-0500
TZOFFSETTO:-0400
TZNAME:EDT
DTSTART:20260308T070000
END:DAYLIGHT
BEGIN:STANDARD
TZOFFSETFROM:-0400
TZOFFSETTO:-0500
TZNAME:EST
DTSTART:20261101T060000
END:STANDARD
END:VTIMEZONE
BEGIN:VEVENT
DTSTART;TZID=America/Toronto:20250814T110000
DTEND;TZID=America/Toronto:20250814T120000
DTSTAMP:20260419T081318
CREATED:20250304T204304Z
LAST-MODIFIED:20260205T152352Z
UID:10003697-1755169200-1755172800@alz.to
SUMMARY:Dance Fitness 2026
DESCRIPTION:This gentle low impact dance fitness class with Jenn uses diverse music and simple dance movements to create a dynamic and energizing aerobic workout. With easy to follow moves that can be done seated or standing\, this upbeat class is set to positive\, playful and uplifting music. You will be motivated by the joyful\, welcoming and supportive environment that encourages you to let go and have fun! No experience required. \nJenn Hicks is a Personal Trainer Size and Inclusive Fitness Specialist who has taught dance fitness classes for the past 17 years. She was named NOW Magazine’s Best Virtual Fitness Instructor for 2020. Jenn customizes routines for every class and helps attendees modify steps or movements whenever they need a little extra care. \nThis program will be held on Zoom. Registration is required to receive the Zoom link to participate. \nPLEASE NOTE: Dance Fitness will revert to starting at 11:00 am – 12:00 pm beginning January 8th
URL:https://alz.to/calendar/dance-fitness-2025-2/2025-08-14/
LOCATION:https://alz.to/calendar/dance-fitness-2025-2/2025-08-14/
CATEGORIES:Active Living,Movement
ATTACH;FMTTYPE=image/jpeg:https://alz.to/wp-content/uploads/2024/08/Jenn_2.jpg
ORGANIZER;CN="Alzheimer Society of Toronto":MAILTO:info@alz.to
END:VEVENT
BEGIN:VEVENT
DTSTART;TZID=America/Toronto:20250814T130000
DTEND;TZID=America/Toronto:20250814T140000
DTSTAMP:20260419T081318
CREATED:20250505T180248Z
LAST-MODIFIED:20250813T174105Z
UID:10002773-1755176400-1755180000@alz.to
SUMMARY:Fitness Friends
DESCRIPTION:Join us for Fitness Friends at our Mid-Scarborough Hub\, 2658 Eglinton Ave E. Scarborough. \nFind your groove with us as we engage with some gentle movement set to some great playlists! This 1-hour movement session will be offered standing\, with seated options available. Fitness Friends is intended for people living with dementia along with their care partners. Light refreshments available. \nContact: Please contact Tracey for more information or by phone at 647 456 6168
URL:https://alz.to/calendar/fitness-friends/
LOCATION:Mid-Scarborough Hub\, 2658 Eglinton Ave E\, Scarborough\, Ontario\, M1K 2S3\, Canada
CATEGORIES:Active Living,Movement,Wellness
ATTACH;FMTTYPE=image/jpeg:https://alz.to/wp-content/uploads/2025/05/AdobeStock_748113839-small.jpg
ORGANIZER;CN="Alzheimer Society of Toronto":MAILTO:info@alz.to
END:VEVENT
BEGIN:VEVENT
DTSTART;TZID=America/Toronto:20250821T110000
DTEND;TZID=America/Toronto:20250821T120000
DTSTAMP:20260419T081318
CREATED:20250304T204304Z
LAST-MODIFIED:20260205T152352Z
UID:10003698-1755774000-1755777600@alz.to
SUMMARY:Dance Fitness 2026
DESCRIPTION:This gentle low impact dance fitness class with Jenn uses diverse music and simple dance movements to create a dynamic and energizing aerobic workout. With easy to follow moves that can be done seated or standing\, this upbeat class is set to positive\, playful and uplifting music. You will be motivated by the joyful\, welcoming and supportive environment that encourages you to let go and have fun! No experience required. \nJenn Hicks is a Personal Trainer Size and Inclusive Fitness Specialist who has taught dance fitness classes for the past 17 years. She was named NOW Magazine’s Best Virtual Fitness Instructor for 2020. Jenn customizes routines for every class and helps attendees modify steps or movements whenever they need a little extra care. \nThis program will be held on Zoom. Registration is required to receive the Zoom link to participate. \nPLEASE NOTE: Dance Fitness will revert to starting at 11:00 am – 12:00 pm beginning January 8th
URL:https://alz.to/calendar/dance-fitness-2025-2/2025-08-21/
LOCATION:https://alz.to/calendar/dance-fitness-2025-2/2025-08-21/
CATEGORIES:Active Living,Movement
ATTACH;FMTTYPE=image/jpeg:https://alz.to/wp-content/uploads/2024/08/Jenn_2.jpg
ORGANIZER;CN="Alzheimer Society of Toronto":MAILTO:info@alz.to
END:VEVENT
BEGIN:VEVENT
DTSTART;TZID=America/Toronto:20250828T110000
DTEND;TZID=America/Toronto:20250828T120000
DTSTAMP:20260419T081318
CREATED:20250304T204304Z
LAST-MODIFIED:20260205T152352Z
UID:10003699-1756378800-1756382400@alz.to
SUMMARY:Dance Fitness 2026
DESCRIPTION:This gentle low impact dance fitness class with Jenn uses diverse music and simple dance movements to create a dynamic and energizing aerobic workout. With easy to follow moves that can be done seated or standing\, this upbeat class is set to positive\, playful and uplifting music. You will be motivated by the joyful\, welcoming and supportive environment that encourages you to let go and have fun! No experience required. \nJenn Hicks is a Personal Trainer Size and Inclusive Fitness Specialist who has taught dance fitness classes for the past 17 years. She was named NOW Magazine’s Best Virtual Fitness Instructor for 2020. Jenn customizes routines for every class and helps attendees modify steps or movements whenever they need a little extra care. \nThis program will be held on Zoom. Registration is required to receive the Zoom link to participate. \nPLEASE NOTE: Dance Fitness will revert to starting at 11:00 am – 12:00 pm beginning January 8th
URL:https://alz.to/calendar/dance-fitness-2025-2/2025-08-28/
LOCATION:https://alz.to/calendar/dance-fitness-2025-2/2025-08-28/
CATEGORIES:Active Living,Movement
ATTACH;FMTTYPE=image/jpeg:https://alz.to/wp-content/uploads/2024/08/Jenn_2.jpg
ORGANIZER;CN="Alzheimer Society of Toronto":MAILTO:info@alz.to
END:VEVENT
END:VCALENDAR