
BEGIN:VCALENDAR
VERSION:2.0
PRODID:-//Alzheimers Society of Toronto - ECPv6.15.17.1//NONSGML v1.0//EN
CALSCALE:GREGORIAN
METHOD:PUBLISH
X-ORIGINAL-URL:https://alz.to
X-WR-CALDESC:Events for Alzheimers Society of Toronto
REFRESH-INTERVAL;VALUE=DURATION:PT1H
X-Robots-Tag:noindex
X-PUBLISHED-TTL:PT1H
BEGIN:VTIMEZONE
TZID:America/Toronto
BEGIN:DAYLIGHT
TZOFFSETFROM:-0500
TZOFFSETTO:-0400
TZNAME:EDT
DTSTART:20250309T070000
END:DAYLIGHT
BEGIN:STANDARD
TZOFFSETFROM:-0400
TZOFFSETTO:-0500
TZNAME:EST
DTSTART:20251102T060000
END:STANDARD
BEGIN:DAYLIGHT
TZOFFSETFROM:-0500
TZOFFSETTO:-0400
TZNAME:EDT
DTSTART:20260308T070000
END:DAYLIGHT
BEGIN:STANDARD
TZOFFSETFROM:-0400
TZOFFSETTO:-0500
TZNAME:EST
DTSTART:20261101T060000
END:STANDARD
BEGIN:DAYLIGHT
TZOFFSETFROM:-0500
TZOFFSETTO:-0400
TZNAME:EDT
DTSTART:20270314T070000
END:DAYLIGHT
BEGIN:STANDARD
TZOFFSETFROM:-0400
TZOFFSETTO:-0500
TZNAME:EST
DTSTART:20271107T060000
END:STANDARD
END:VTIMEZONE
BEGIN:VEVENT
DTSTART;TZID=America/Toronto:20260428T100000
DTEND;TZID=America/Toronto:20260428T120000
DTSTAMP:20260421T054750
CREATED:20260331T173229Z
LAST-MODIFIED:20260331T173229Z
UID:10004134-1777370400-1777377600@alz.to
SUMMARY:Putting You First for Care Partners
DESCRIPTION:This interactive 2-hour workshop will help participants reflect on all aspects of their well-being. Through this guided reflection process\, participants will identify opportunities for change and start creating a plan to attaining better balance in their lives. \n  \nPlease note this workshop is only for informal care partners (friends\, family\, etc) of a person living with dementia. This workshop is NOT for healthcare professionals. \nWorkshop will be presented using Zoom\, registration required to receive link.
URL:https://alz.to/calendar/putting-you-first-for-care-partners-6/
LOCATION:https://alz.to/calendar/putting-you-first-for-care-partners-6/
CATEGORIES:Learn,Workshops
ATTACH;FMTTYPE=image/jpeg:https://alz.to/wp-content/uploads/2024/10/BW___Dancing-800px.jpg
ORGANIZER;CN="Alzheimer Society of Toronto":MAILTO:info@alz.to
END:VEVENT
BEGIN:VEVENT
DTSTART;TZID=America/Toronto:20260505T130000
DTEND;TZID=America/Toronto:20260505T143000
DTSTAMP:20260421T054750
CREATED:20260331T175746Z
LAST-MODIFIED:20260331T175827Z
UID:10004137-1777986000-1777991400@alz.to
SUMMARY:Understanding Behaviours and Supportive Communication
DESCRIPTION:This workshop provides an overview of behaviours in dementia and communicating in a supportive manner. It will focus on providing participants with the knowledge of how behaviours and communication can change over the course of the disease and ways to supportively communicate with a person living with dementia. \n  \nLearning Objectives: \n\nLearning how dementia impacts communication\nRecognizing that behaviour is a form of communication\nDiscussing how to identify the meaning of behaviours in dementia and ways to offer support\n\n  \nPlease note this workshop is only for informal care partners (friends\, family\, etc) of a person living with dementia. This workshop is NOT for healthcare professionals. \n\nWorkshop will be presented using Zoom\, registration required to receive link.
URL:https://alz.to/calendar/understanding-behaviours-and-supportive-communication-9/
LOCATION:https://alz.to/calendar/understanding-behaviours-and-supportive-communication-9/
CATEGORIES:Learn,Workshops
ATTACH;FMTTYPE=image/jpeg:https://alz.to/wp-content/uploads/2024/10/Drop_in_Long-Term_Care_Home_Caregiver_Support_Group-1.jpg
ORGANIZER;CN="Alzheimer Society of Toronto":MAILTO:info@alz.to
END:VEVENT
BEGIN:VEVENT
DTSTART;TZID=America/Toronto:20260511T140000
DTEND;TZID=America/Toronto:20260511T153000
DTSTAMP:20260421T054750
CREATED:20260331T175329Z
LAST-MODIFIED:20260331T175407Z
UID:10004136-1778508000-1778513400@alz.to
SUMMARY:Reframing Guilt and Anger in Caregiving
DESCRIPTION:This workshop is to help care partners recognize and identify the causes of guilt and anger in caregiving and developing coping strategies to reframe guilt\, anger and build resilience.\n\n\nLearning Objectives:  \n\nExploring the nature of emotions \n\n\nCreating space for difficult emotions such as anger and guilt in caregiving \n\n\nStrategies to cope with challenging emotions \n\n  \nPlease note this workshop is only for informal care partners (friends\, family\, etc) of a person living with dementia. This workshop is NOT for healthcare professionals.  \n  \nWorkshop will be presented using Zoom\, registration required to receive link. 
URL:https://alz.to/calendar/reframing-guilt-and-anger-in-caregiving-8/
LOCATION:https://alz.to/calendar/reframing-guilt-and-anger-in-caregiving-8/
CATEGORIES:Learn,Workshops
ATTACH;FMTTYPE=image/jpeg:https://alz.to/wp-content/uploads/2024/08/Spousal_SG_sm.jpg
ORGANIZER;CN="Alzheimer Society of Toronto":MAILTO:info@alz.to
END:VEVENT
BEGIN:VEVENT
DTSTART;TZID=America/Toronto:20260519T100000
DTEND;TZID=America/Toronto:20260519T113000
DTSTAMP:20260421T054750
CREATED:20260331T181330Z
LAST-MODIFIED:20260331T181359Z
UID:10004140-1779184800-1779190200@alz.to
SUMMARY:Unpacking Denial in Dementia
DESCRIPTION:The focus of the session will be on exploring the concept of denial and anosognosia\, how it impacts persons with dementia and their care partners\, and strategies for assisting families. \n  \nLearning Objectives: \n\nExploring the concept of denial and anosognosia\, particularly\, how they differ\nIdentifying how denial impacts persons with dementia and their care partners\nStrategies for supporting someone through denial or anosognosia\n\n  \nPlease note this workshop is only for informal care partners (friends\, family\, etc) of a person living with dementia. This workshop is NOT for healthcare professionals. \n  \nWorkshop will be presented using Zoom\, registration required to receive link.
URL:https://alz.to/calendar/unpacking-denial-in-dementia-6/
LOCATION:https://alz.to/calendar/unpacking-denial-in-dementia-6/
CATEGORIES:Learn,Workshops
ORGANIZER;CN="Alzheimer Society of Toronto":MAILTO:info@alz.to
END:VEVENT
BEGIN:VEVENT
DTSTART;TZID=America/Toronto:20260519T130000
DTEND;TZID=America/Toronto:20260519T143000
DTSTAMP:20260421T054750
CREATED:20260331T173849Z
LAST-MODIFIED:20260331T173931Z
UID:10004135-1779195600-1779201000@alz.to
SUMMARY:Dementia Overview for Care Partners
DESCRIPTION:This workshop is an introduction to dementia\, the different types of dementia\, symptoms and progression of dementia\, and the varying ways to support a person with dementia. \n  \nLearning Objectives: \n  \n\nUnderstanding dementia as an umbrella term\, and the most common types of dementia\nReviewing dementia warning signs and the 8 A’s of dementia\nCreating an understanding of ways to support a person with dementia through timely diagnosis\, medications and quality-of-life activities\nLearn about community services and supports\n\n  \nPlease note this workshop is only for informal care partners (friends\, family\, etc) of a person living with dementia. This workshop is NOT for healthcare professionals. \n\nWorkshop will be presented using Zoom\, registration required to receive link.
URL:https://alz.to/calendar/dementia-overview-for-care-partners-10/
LOCATION:https://alz.to/calendar/dementia-overview-for-care-partners-10/
CATEGORIES:Learn,Workshops
ATTACH;FMTTYPE=image/jpeg:https://alz.to/wp-content/uploads/2024/08/Webinar800X600.jpg
ORGANIZER;CN="Alzheimer Society of Toronto":MAILTO:info@alz.to
END:VEVENT
BEGIN:VEVENT
DTSTART;TZID=America/Toronto:20260521T140000
DTEND;TZID=America/Toronto:20260521T153000
DTSTAMP:20260421T054750
CREATED:20260331T181017Z
LAST-MODIFIED:20260331T181046Z
UID:10004139-1779372000-1779377400@alz.to
SUMMARY:Enhancing Family Dynamics
DESCRIPTION:The focus of the session will be on exploring significant sources of conflict for families dealing with dementia and strategies for assisting families\, building on strengths and resilience. \n  \nLearning Objectives: \n\nIdentifying family dynamics and their effects on families\nExploring significant sources of conflict for families dealing with dementia\nReviewing strategies for assisting families\, building on strength and resilience\n\n  \nPlease note this workshop is only for informal care partners (friends\, family\, etc) of a person living with dementia. This workshop is NOT for healthcare professionals. \n\nWorkshop will be presented using Zoom\, registration required to receive link.
URL:https://alz.to/calendar/enhancing-family-dynamics-5/
LOCATION:https://alz.to/calendar/enhancing-family-dynamics-5/
CATEGORIES:Learn,Workshops
ATTACH;FMTTYPE=image/jpeg:https://alz.to/wp-content/uploads/2024/09/about_header.jpg
ORGANIZER;CN="Alzheimer Society of Toronto":MAILTO:info@alz.to
END:VEVENT
BEGIN:VEVENT
DTSTART;TZID=America/Toronto:20260526T100000
DTEND;TZID=America/Toronto:20260526T120000
DTSTAMP:20260421T054750
CREATED:20260331T180644Z
LAST-MODIFIED:20260331T180644Z
UID:10004138-1779789600-1779796800@alz.to
SUMMARY:Coping with Death and Grief
DESCRIPTION:Losing someone who had dementia can be a unique and complex experience for those who cared for them. This presentation will explore these issues\, identify various approaches to grief\, and suggest ways for care partners to cope with loss. \n  \nThis workshop will incorporate a support group element. \n  \nPlease note this workshop is only for informal care partners (friends\, family\, etc) of a person living with dementia. This workshop is NOT for healthcare professionals. \n\nWorkshop will be presented using Zoom\, registration required to receive link.
URL:https://alz.to/calendar/coping-with-death-and-grief-7/
LOCATION:https://alz.to/calendar/coping-with-death-and-grief-7/
CATEGORIES:Learn,Workshops
ATTACH;FMTTYPE=image/jpeg:https://alz.to/wp-content/uploads/2024/10/Ambiguous_Loss800X600.jpg
END:VEVENT
BEGIN:VEVENT
DTSTART;TZID=America/Toronto:20260609T130000
DTEND;TZID=America/Toronto:20260609T143000
DTSTAMP:20260421T054750
CREATED:20260331T182300Z
LAST-MODIFIED:20260331T182326Z
UID:10004142-1781010000-1781015400@alz.to
SUMMARY:End of Life Care
DESCRIPTION:This workshop is for care partners of persons in the late stage of dementia. It provides an opportunity to discuss issues regarding changes in the late stage\, approaching the End-of-Life\, making difficult decisions for this stage\, grief and the need to take care of yourself. \n  \nPlease note this workshop is only for informal care partners (friends\, family\, etc) of a person living with dementia. This workshop is NOT for healthcare professionals. \n  \nWorkshop will be presented using Zoom\, registration required to receive link.
URL:https://alz.to/calendar/end-of-life-care-6/
LOCATION:https://alz.to/calendar/end-of-life-care-6/
CATEGORIES:Learn,Workshops
ATTACH;FMTTYPE=image/jpeg:https://alz.to/wp-content/uploads/2024/10/AdobeStock_438621431-scaled.jpeg
ORGANIZER;CN="Alzheimer Society of Toronto":MAILTO:info@alz.to
END:VEVENT
BEGIN:VEVENT
DTSTART;TZID=America/Toronto:20260616T100000
DTEND;TZID=America/Toronto:20260616T113000
DTSTAMP:20260421T054750
CREATED:20260331T181912Z
LAST-MODIFIED:20260331T181938Z
UID:10004141-1781604000-1781609400@alz.to
SUMMARY:Advance Care Planning
DESCRIPTION:This workshop will review the importance of Advance Care Planning\, and the steps involved in the process\, in the case where one becomes mentally incapable of making their health care decisions. \n  \nLearning Objectives: \n\nUnderstanding Advance Care Planning and why it is important\nLearning about the steps involved in Advance Care Planning\nUnderstanding what a Substitute Decision Maker is\, and how to appoint a Power of Attorney for Personal Health\, and a Power of Attorney for Property\nRecognizing what capacity and incapacity mean in Ontario\n\n  \nPlease note this workshop is only for informal care partners (friends\, family\, etc) of a person living with dementia. This workshop is NOT for healthcare professionals.  \n  \nWorkshop will be presented online using Zoom.\nRegistration is required to receive the Zoom link to participate.
URL:https://alz.to/calendar/advance-care-planning/
LOCATION:https://alz.to/calendar/advance-care-planning/
CATEGORIES:Learn,Workshops
ATTACH;FMTTYPE=image/jpeg:https://alz.to/wp-content/uploads/2024/10/404706d7a5e9c09761325981ac54af36.jpg
ORGANIZER;CN="Alzheimer Society of Toronto":MAILTO:info@alz.to
END:VEVENT
BEGIN:VEVENT
DTSTART;TZID=America/Toronto:20260630T110000
DTEND;TZID=America/Toronto:20260630T123000
DTSTAMP:20260421T054750
CREATED:20260331T182623Z
LAST-MODIFIED:20260331T182706Z
UID:10004143-1782817200-1782822600@alz.to
SUMMARY:Living with Mild Cognitive Impairment (MCI)
DESCRIPTION:The focus of the session will be on providing an overview of MCI and the differences between normal aging\, MCI and dementia. \n  \nLearning Objectives: \n\nIncrease knowledge of MCI and the differences between normal aging\, MCI and dementia\nExplore how MCI impacts individuals and families\nLearn how to optimize cognitive health\nDevelop an understanding of supportive services in the community\n\n  \nThis workshop is for people living with Mild Cognitive Impairment (MCI) and/or care partners of people living with MCI. \n  \nWorkshop will be presented using Zoom\, registration required to receive link.
URL:https://alz.to/calendar/living-with-mild-cognitive-impairment-mci-5/
LOCATION:https://alz.to/calendar/living-with-mild-cognitive-impairment-mci-5/
CATEGORIES:Learn,Workshops
ATTACH;FMTTYPE=image/jpeg:https://alz.to/wp-content/uploads/2024/08/Family_Dynamics_of_Caregiving800X600.jpg
ORGANIZER;CN="Alzheimer Society of Toronto":MAILTO:info@alz.to
END:VEVENT
END:VCALENDAR