
BEGIN:VCALENDAR
VERSION:2.0
PRODID:-//Alzheimers Society of Toronto - ECPv6.15.17.1//NONSGML v1.0//EN
CALSCALE:GREGORIAN
METHOD:PUBLISH
X-WR-CALNAME:Alzheimers Society of Toronto
X-ORIGINAL-URL:https://alz.to
X-WR-CALDESC:Events for Alzheimers Society of Toronto
REFRESH-INTERVAL;VALUE=DURATION:PT1H
X-Robots-Tag:noindex
X-PUBLISHED-TTL:PT1H
BEGIN:VTIMEZONE
TZID:America/Toronto
BEGIN:DAYLIGHT
TZOFFSETFROM:-0500
TZOFFSETTO:-0400
TZNAME:EDT
DTSTART:20230312T070000
END:DAYLIGHT
BEGIN:STANDARD
TZOFFSETFROM:-0400
TZOFFSETTO:-0500
TZNAME:EST
DTSTART:20231105T060000
END:STANDARD
BEGIN:DAYLIGHT
TZOFFSETFROM:-0500
TZOFFSETTO:-0400
TZNAME:EDT
DTSTART:20240310T070000
END:DAYLIGHT
BEGIN:STANDARD
TZOFFSETFROM:-0400
TZOFFSETTO:-0500
TZNAME:EST
DTSTART:20241103T060000
END:STANDARD
BEGIN:DAYLIGHT
TZOFFSETFROM:-0500
TZOFFSETTO:-0400
TZNAME:EDT
DTSTART:20250309T070000
END:DAYLIGHT
BEGIN:STANDARD
TZOFFSETFROM:-0400
TZOFFSETTO:-0500
TZNAME:EST
DTSTART:20251102T060000
END:STANDARD
BEGIN:DAYLIGHT
TZOFFSETFROM:-0500
TZOFFSETTO:-0400
TZNAME:EDT
DTSTART:20260308T070000
END:DAYLIGHT
BEGIN:STANDARD
TZOFFSETFROM:-0400
TZOFFSETTO:-0500
TZNAME:EST
DTSTART:20261101T060000
END:STANDARD
END:VTIMEZONE
BEGIN:VEVENT
DTSTART;TZID=America/Toronto:20250116T173000
DTEND;TZID=America/Toronto:20250116T190000
DTSTAMP:20260423T073225
CREATED:20241115T192527Z
LAST-MODIFIED:20250107T170234Z
UID:10001528-1737048600-1737054000@alz.to
SUMMARY:Frontotemporal Dementia Caregiver Support Group
DESCRIPTION:This monthly support group will provide an opportunity for care partners of individuals living with Frontotemporal dementia to come together to support each other through the caregiving experience.\n \nLearning Objectives:\n\nOpportunity to share insights with each other related to their personal caregiving experiences\nBecome familiar with this specific type of dementia\nDiscuss and share different strategies regarding self-care and care for the person they are supporting (including stress\, communication and responding to behaviours)\nLearn about how others are adjusting to their own changing relationship\nReceive updated information about the services available at the Alzheimer Society of Toronto\n\nEvery 3rd Thursday of the month from 5:30pm to 7:00pm online using Zoom.\n\n(Zoom information will be provided via email at least 24-48 hours prior to the date) \n*Disclaimer: Registration is required and closes at midnight (12am) the Monday prior to the session. Your registration for this session does not apply to future dates. Please check your junk/spam email box if you do not receive the registration confirmation email. If you’re having trouble registering\, please let us know by emailing: intake@alz.to \nPLEASE NOTE: THIS EVENT IS FOR INFORMAL CAREGIVERS/PARTNERS/FAMILY/FRIENDS. If you are a PAID Healthcare Provider\, please see program offerings here: https://alz.to/health-care-professionals/ \n 
URL:https://alz.to/calendar/frontotemporal-dementia-caregiver-support-group-3/
CATEGORIES:Support Groups
ATTACH;FMTTYPE=image/jpeg:https://alz.to/wp-content/uploads/2024/08/early_stage_2.jpg
ORGANIZER;CN="Alzheimer Society of Toronto":MAILTO:info@alz.to
LOCATION:https://alz.to/calendar/frontotemporal-dementia-caregiver-support-group-3/
END:VEVENT
BEGIN:VEVENT
DTSTART;TZID=America/Toronto:20250116T100000
DTEND;TZID=America/Toronto:20250116T113000
DTSTAMP:20260423T073225
CREATED:20241129T142208Z
LAST-MODIFIED:20241218T144313Z
UID:10001603-1737021600-1737027000@alz.to
SUMMARY:Learning to Live with Ambiguous Loss and Grief
DESCRIPTION:Explore the concept of ambiguous loss\, develop coping strategies and gain understanding of feelings of grief when caring for a person with dementia. \nFor care partners of individuals living with dementia in mid-to-late stages. \n  \nLearning Objectives: \n\nDescribe the concept of Ambiguous Loss\nRecognize the uniqueness and complexity of Ambiguous Loss\nExplore concepts for learning to live with Ambiguous Loss\nDevelop an understanding of supportive services in the community\n\n  \nWorkshop will be presented using Zoom.\nRegistration is required to receive the Zoom link to participate.
URL:https://alz.to/calendar/learning-to-live-with-ambiguous-loss-and-grief/
CATEGORIES:Learn,Workshops
ATTACH;FMTTYPE=image/jpeg:https://alz.to/wp-content/uploads/2024/08/Family_Dynamics_of_Caregiving800X600.jpg
ORGANIZER;CN="Alzheimer Society of Toronto":MAILTO:info@alz.to
LOCATION:https://alz.to/calendar/learning-to-live-with-ambiguous-loss-and-grief/
END:VEVENT
BEGIN:VEVENT
DTSTART;TZID=America/Toronto:20250114T100000
DTEND;TZID=America/Toronto:20250114T113000
DTSTAMP:20260423T073225
CREATED:20241128T140058Z
LAST-MODIFIED:20241128T142507Z
UID:10001599-1736848800-1736854200@alz.to
SUMMARY:BSO Self-Care Series - Session 2: Navigating Difficult Conversations
DESCRIPTION:This 4-session series explores the different issues Frontline Health Care Providers may experience when providing care to People Living with Dementia. In this series of workshops\, participants will receive information on a variety of self care topics in addition to learning tips and strategies on how to work better as a team with the aim of enhancing client care. \n\nThese workshops will be online using Zoom.\n\n \n\nSession 2: Navigating Difficult Conversations\nTuesday\, January 14th\, from 10:00am to 11:30am\n\nThis presentation will address why some reactive behaviors may happen. We will discuss how hurtful or negative comments can affect us.\nWe will review helpful strategies in building resilience for ourselves and ways to navigate these difficult conversations; increasing our sense of well-being.\n\n  \nOther sessions in the series:\nSession 1: Self-Care for Professionals Toolkit\nTuesday\, December 10th\, from 10:00am to 11:30am\nSession 3: Putting You First \nTuesday\, February 11th\, from 10:00am to 11:30am\nSession 4: Grief and Loss\nTuesday\, March 11th\, from 10:00am to 11:30am\n  \nPlease refer to our event calendar to sign up for the sessions of interest.\nRegistration is required to receive the Zoom link.
URL:https://alz.to/calendar/bso-self-care-series-session-2-navigating-difficult-conversations/
CATEGORIES:Health Care Professionals,Learn,Workshops
ORGANIZER;CN="Alzheimer Society of Toronto":MAILTO:info@alz.to
LOCATION:https://alz.to/calendar/bso-self-care-series-session-2-navigating-difficult-conversations/
END:VEVENT
BEGIN:VEVENT
DTSTART;TZID=America/Toronto:20250113T173000
DTEND;TZID=America/Toronto:20250113T190000
DTSTAMP:20260423T073225
CREATED:20241115T185009Z
LAST-MODIFIED:20250107T170102Z
UID:10001524-1736789400-1736794800@alz.to
SUMMARY:Lewy Body Dementia Caregiver Support Group
DESCRIPTION:This ongoing monthly support group provide an opportunity for care partners of individuals living with Lewy Body Dementia to come together to support each other through the caregiving experience. \nLearning Objectives: \n\nInteract with other group members caring for those with Lewy Body Dementia\nBecome familiar with the specific type of dementia\nOpportunity for therapeutic support as well as education information\nShare experiences and concerns and receive support from the group facilitator and other group members\n\nEvery 2nd Monday of the month from 5:30pm to 7:00pm online using Zoom\n(Zoom information will be provided via email at least 24-48 hours prior to the date) \n*Disclaimer: Registration is required and closes at midnight (12am) the Wednesday prior to the session. Your registration for this session does not apply to future dates. Please check your junk/spam email box if you do not receive the registration confirmation email. If you’re having trouble registering\, please let us know by emailing: intake@alz.to \nPLEASE NOTE: THIS EVENT IS FOR INFORMAL CAREGIVERS/PARTNERS/FAMILY/FRIENDS. If you are a PAID Healthcare Provider\, please see program offerings here: https://alz.to/health-care-professionals/ \n 
URL:https://alz.to/calendar/lewy-body-dementia-caregiver-support-group-3/
CATEGORIES:Support Groups
ORGANIZER;CN="Alzheimer Society of Toronto":MAILTO:info@alz.to
LOCATION:https://alz.to/calendar/lewy-body-dementia-caregiver-support-group-3/
END:VEVENT
BEGIN:VEVENT
DTSTART;TZID=America/Toronto:20250113T133000
DTEND;TZID=America/Toronto:20250113T150000
DTSTAMP:20260423T073225
CREATED:20241112T163005Z
LAST-MODIFIED:20241216T162337Z
UID:10001506-1736775000-1736780400@alz.to
SUMMARY:Art Therapy: Group Art Therapy Sessions
DESCRIPTION:Group Art Therapy with Kathleen Downie \nWeekly on Mondays from January 13th – February 24th (6-Week Series) from 1:30 – 3:00 P.M at AST located at 20 Eglinton Ave W\, 16th floor. \nJanuary 13th\, 20th\, 27th\, February 3rd\, 10th\, & 24th (skipping February 17th for Family Day) \nArt therapy is a mental health profession that combines the process of creative art expression with models of counselling and psychotherapy to enhance emotional\, physical\, and mental well-being. \nKathleen Downie has facilitated many engaging art programs for AST clients over the years and is now an art therapy student attending the Vancouver Art Therapy Institute (VATI) distance program. As part of her training\, Kathleen will be facilitating free art therapy group sessions. \nGroup art therapy sessions will provide participants with opportunities to work independently and with others to explore and express feelings and ideas that arise in the sessions. We will use a range of art materials and techniques including drawing\, painting\, and 2- and 3-D collage. Group art therapy offers unique opportunities for support and encouragement through the close and supportive connection of the group members. \nIf you have any questions\, contact Kathleen \n 
URL:https://alz.to/calendar/art-therapy-group-art-therapy-sessions/2025-01-13/
LOCATION:Alzheimer Society of Toronto Head Office\, 20 Eglinton Ave West\, 16th floor\, Toronto\, Ontario\, M4R 1K8\, Canada
CATEGORIES:Active Living,Art
ATTACH;FMTTYPE=image/jpeg:https://alz.to/wp-content/uploads/2024/11/thumbnail_IMG_1657.jpg
ORGANIZER;CN="Alzheimer Society of Toronto":MAILTO:info@alz.to
END:VEVENT
BEGIN:VEVENT
DTSTART;TZID=America/Toronto:20250107T140000
DTEND;TZID=America/Toronto:20250107T153000
DTSTAMP:20260423T073225
CREATED:20241129T135159Z
LAST-MODIFIED:20241218T144241Z
UID:10001602-1736258400-1736263800@alz.to
SUMMARY:Care Partner Stress and Building Resilience
DESCRIPTION:This workshop is to help care partners identify their sources of stress and develop coping strategies. The focus of the session will be on exploring the concept of resilience and ways to build care partner resilience.\n \nLearning Objectives:\n\n\nExplore the different types of stress care partners may experience and develop coping strategies to deal with the stress\nIncrease awareness of the importance of self-care for the care partner\nDevelop an understanding of supportive services in the community and where to seek those services\nDescribe the concept of resilience and why it is important for care partners\n\n\n \n \nWorkshop will be presented online using Zoom.\nRegistration is required to receive the Zoom link to participate.
URL:https://alz.to/calendar/care-partner-stress-and-building-resilience/
CATEGORIES:Learn,Workshops
ATTACH;FMTTYPE=image/jpeg:https://alz.to/wp-content/uploads/2024/08/Spousal_SG_sm.jpg
ORGANIZER;CN="Alzheimer Society of Toronto":MAILTO:info@alz.to
LOCATION:https://alz.to/calendar/care-partner-stress-and-building-resilience/
END:VEVENT
BEGIN:VEVENT
DTSTART;TZID=America/Toronto:20241219T173000
DTEND;TZID=America/Toronto:20241219T190000
DTSTAMP:20260423T073225
CREATED:20241114T202145Z
LAST-MODIFIED:20241114T202145Z
UID:10001519-1734629400-1734634800@alz.to
SUMMARY:Frontotemporal Dementia Caregiver Support Group
DESCRIPTION:This monthly support group will provide an opportunity for care partners of individuals living with Frontotemporal dementia to come together to support each other through the caregiving experience.\n \nLearning Objectives:\n– Opportunity to share insights with each other related to their personal caregiving experiences\n– Become familiar with this specific type of dementia\n– Discuss and share different strategies regarding self-care and care for the person they are supporting (including stress\, communication and responding to behaviours)\n– Learn about how others are adjusting to their own changing relationship\n– Receive updated information about the services available at the Alzheimer Society of Toronto\n \n \n\nEvery 3rd Thursday of the month from 5:30pm to 7:00pm online using Zoom.\n(Zoom information will be provided via email at least 24-48 hours prior to the date) \n  \n*Disclaimer: Registration is required and closes at midnight (12am) the Monday prior to the session. Your registration for this session does not apply to future dates. Please check your junk/spam email box if you do not receive the registration confirmation email. If you’re having trouble registering\, please let us know by emailing: intake@alz.to \nPLEASE NOTE: THIS EVENT IS FOR INFORMAL CAREGIVERS/PARTNERS/FAMILY/FRIENDS. If you are a PAID Healthcare Provider\, please see program offerings here: https://alz.to/health-care-professionals/ \n  \nPlease read and accept before registering for this group
URL:https://alz.to/calendar/frontotemporal-dementia-caregiver-support-group-2/
CATEGORIES:Support Groups
ATTACH;FMTTYPE=image/jpeg:https://alz.to/wp-content/uploads/2024/08/early_stage_2.jpg
ORGANIZER;CN="Alzheimer Society of Toronto":MAILTO:info@alz.to
LOCATION:https://alz.to/calendar/frontotemporal-dementia-caregiver-support-group-2/
END:VEVENT
BEGIN:VEVENT
DTSTART;TZID=America/Toronto:20241217T100000
DTEND;TZID=America/Toronto:20241217T110000
DTSTAMP:20260423T073225
CREATED:20241202T201130Z
LAST-MODIFIED:20241202T201313Z
UID:10001627-1734429600-1734433200@alz.to
SUMMARY:Frontotemporal Dementia
DESCRIPTION:This umbrella term refers to a group of rarer disorders that primarily results in changes in personality and language.\nJoin us to explore a deeper understanding of these dementias and learn of available resources. \n  \nTo register for this webinar\, visit:\nwww.alzeducate.ca \nYou must login/create an account in order to participate. \nTo find the session: \n\nHover over “Education”  and select the intended audience.\nSelect webinars\, then “Upcoming live webinars”.\nSelect your chosen topic\, then click “Enrol me” to register.
URL:https://alz.to/calendar/frontotemporal-dementia/
LOCATION:Alzeducate
CATEGORIES:Webinars
ATTACH;FMTTYPE=image/jpeg:https://alz.to/wp-content/uploads/2024/08/drop_in_adult_child_program_support_group.jpg
ORGANIZER;CN="Alzheimer Society of Toronto":MAILTO:info@alz.to
END:VEVENT
BEGIN:VEVENT
DTSTART;TZID=America/Toronto:20241210T140000
DTEND;TZID=America/Toronto:20241210T150000
DTSTAMP:20260423T073225
CREATED:20241202T200809Z
LAST-MODIFIED:20241202T201005Z
UID:10001626-1733839200-1733842800@alz.to
SUMMARY:Lewy Body Dementia and Parkinson's Disease Dementia
DESCRIPTION:This webinar will provide an overview of these two rarer types of dementia.\nIt will provide attendees the opportunity to understand the unique symptoms\, criteria for diagnosis and support needs for both the person living with these brain changes and their care partners. \n  \nTo register for this webinar\, visit:\nwww.alzeducate.ca \nYou must login/create an account in order to participate. \nTo find the session: \n\nHover over “Education”  and select the intended audience.\nSelect webinars\, then “Upcoming live webinars”.\nSelect your chosen topic\, then click “Enrol me” to register.
URL:https://alz.to/calendar/lewy-body-dementia-and-parkinsons-disease-dementia/
LOCATION:Alzeducate
CATEGORIES:Webinars
ATTACH;FMTTYPE=image/jpeg:https://alz.to/wp-content/uploads/2024/08/drop_in_adult_child_program_support_group.jpg
ORGANIZER;CN="Alzheimer Society of Toronto":MAILTO:info@alz.to
END:VEVENT
BEGIN:VEVENT
DTSTART;TZID=America/Toronto:20241210T100000
DTEND;TZID=America/Toronto:20241210T113000
DTSTAMP:20260423T073225
CREATED:20241112T182930Z
LAST-MODIFIED:20241128T142510Z
UID:10001514-1733824800-1733830200@alz.to
SUMMARY:BSO Self-Care Series - Session 1: Self-Care for Professionals Toolkit
DESCRIPTION:This 4-session series explores the different issues Frontline Health Care Providers may experience when providing care to People Living with Dementia. In this series of workshops\, participants will receive information on a variety of self care topics in addition to learning tips and strategies on how to work better as a team with the aim of enhancing client care. \n\nThese workshops will be online using Zoom.\n\n \nSession 1: Self-Care for Professionals Toolkit\nTuesday\, December 10th\, from 10:00am to 11:30am\nThis session will discuss the concept of Self Care and the important role it plays in managing the day-to-day stress associated with a Health Care Professional’s occupation.\nThis session will provide practical strategies for self care and encourage participants to create their own self care plan with examples of activities provided throughout.\n\n  \nOther sessions in the series:\nSession 2: Navigating Difficult Conversations\nTuesday\, January 14th\, from 10:00am to 11:30am\nSession 3: Putting You First \nTuesday\, February 11th\, from 10:00am to 11:30am\nSession 4: Grief and Loss\nTuesday\, March 11th\, from 10:00am to 11:30am\n  \nPlease refer to our event calendar to sign up for the sessions of interest.\nRegistration is required to receive the Zoom link.
URL:https://alz.to/calendar/bso-self-care-series-session-1-self-care-for-professionals-toolkit/
CATEGORIES:Health Care Professionals,Learn,Workshops
ORGANIZER;CN="Alzheimer Society of Toronto":MAILTO:info@alz.to
LOCATION:https://alz.to/calendar/bso-self-care-series-session-1-self-care-for-professionals-toolkit/
END:VEVENT
BEGIN:VEVENT
DTSTART;TZID=America/Toronto:20241209T173000
DTEND;TZID=America/Toronto:20241209T190000
DTSTAMP:20260423T073225
CREATED:20241113T195305Z
LAST-MODIFIED:20241114T201541Z
UID:10001516-1733765400-1733770800@alz.to
SUMMARY:Lewy Body Dementia Caregiver Support Group
DESCRIPTION:This ongoing monthly support group provide an opportunity for care partners of individuals living with Lewy Body Dementia to come together to support each other through the caregiving experience. \nLearning Objectives: \n\nInteract with other group members caring for those with Lewy Body Dementia\nBecome familiar with the specific type of dementia\nOpportunity for therapeutic support as well as education information\nShare experiences and concerns and receive support from the group facilitator and other group members\n\n  \nEvery 2nd Monday of the month from 5:30pm to 7:00pm online using Zoom\n(Zoom information will be provided via email at least 24-48 hours prior to the date) \n  \n*Disclaimer: Registration is required and closes at midnight (12am) the Wednesday prior to the session. Your registration for this session does not apply to future dates. Please check your junk/spam email box if you do not receive the registration confirmation email. If you’re having trouble registering\, please let us know by emailing: intake@alz.to \nPLEASE NOTE: THIS EVENT IS FOR INFORMAL CAREGIVERS/PARTNERS/FAMILY/FRIENDS. If you are a PAID Healthcare Provider\, please see program offerings here: https://alz.to/health-care-professionals/ \n  \nPlease read and accept before registering for this group
URL:https://alz.to/calendar/lewy-body-dementia-caregiver-support-group-2/
CATEGORIES:Support Groups
ORGANIZER;CN="Alzheimer Society of Toronto":MAILTO:info@alz.to
LOCATION:https://alz.to/calendar/lewy-body-dementia-caregiver-support-group-2/
END:VEVENT
BEGIN:VEVENT
DTSTART;TZID=America/Toronto:20241121T173000
DTEND;TZID=America/Toronto:20241121T190000
DTSTAMP:20260423T073225
CREATED:20241114T184714Z
LAST-MODIFIED:20241114T201138Z
UID:10001517-1732210200-1732215600@alz.to
SUMMARY:Frontotemporal Dementia Caregiver Support Group
DESCRIPTION:This monthly support group will provide an opportunity for care partners of individuals living with Frontotemporal dementia to come together to support each other through the caregiving experience.\n \nLearning Objectives:\n– Opportunity to share insights with each other related to their personal caregiving experiences\n– Become familiar with this specific type of dementia\n– Discuss and share different strategies regarding self-care and care for the person they are supporting (including stress\, communication and responding to behaviours)\n– Learn about how others are adjusting to their own changing relationship\n– Receive updated information about the services available at the Alzheimer Society of Toronto\n \n \n\nEvery 3rd Thursday of the month from 5:30pm to 7:00pm online using Zoom.\n(Zoom information will be provided via email at least 24-48 hours prior to the date) \n  \n*Disclaimer: Registration is required and closes at midnight (12am) the Monday prior to the session. Your registration for this session does not apply to future dates. Please check your junk/spam email box if you do not receive the registration confirmation email. If you’re having trouble registering\, please let us know by emailing: intake@alz.to \nPLEASE NOTE: THIS EVENT IS FOR INFORMAL CAREGIVERS/PARTNERS/FAMILY/FRIENDS. If you are a PAID Healthcare Provider\, please see program offerings here: https://alz.to/health-care-professionals/ \n  \nPlease read and accept before registering for this group
URL:https://alz.to/calendar/frontotemporal-dementia-caregiver-support-group/
CATEGORIES:Support Groups
ATTACH;FMTTYPE=image/jpeg:https://alz.to/wp-content/uploads/2024/08/early_stage_2.jpg
ORGANIZER;CN="Alzheimer Society of Toronto":MAILTO:info@alz.to
LOCATION:https://alz.to/calendar/frontotemporal-dementia-caregiver-support-group/
END:VEVENT
BEGIN:VEVENT
DTSTART;TZID=America/Toronto:20241120T150000
DTEND;TZID=America/Toronto:20241120T160000
DTSTAMP:20260423T073225
CREATED:20241112T173405Z
LAST-MODIFIED:20241113T195928Z
UID:10001512-1732114800-1732118400@alz.to
SUMMARY:The Emily & Bernice Early Stages Support Program
DESCRIPTION:These short-term support groups are for people living with early-stage memory loss\, mild cognitive impairment\, or dementia. These four-session support groups aim to improve quality of life by providing a space where people can share experiences\, discuss the emotional impact of a diagnosis and associated losses\, share coping strategies\, and support one another. \n\nThese groups are available in a virtual format (Zoom) and In-person. Each round consists of four weekly sessions that are 60 minutes long. Pre-screening with the person living with early-stage memory loss\, mild cognitive impairment\, or dementia is required for this group. \n\n\n\nInformation about this group: \nWhen: Wednesday November 20th\, November 27th\, December 4th\, and December 11th\nTime: 3:00pm – 4:00pm \nWhere: 20 Eglinton Ave West\, 16th Floor\, Toronto\n(Northwest corner of Yonge and Eglinton\, across the street from Yonge and Eglinton subway station. Our office tower is to the left of Metro Grocery) \nRegistration is required. Deadline to register is November 15th\, 2024. \n\n\n*Disclaimer: We kindly ask that you complete the registration form if you are interested in attending. Completion of this form does not guarantee a spot in this group. Please check your junk/spam email box if you do not receive a confirmation email. \nPlease read and accept before registering for this group
URL:https://alz.to/calendar/the-emily-bernice-early-stages-support-program/
LOCATION:Alzheimer Society of Toronto Head Office\, 20 Eglinton Ave West\, 16th floor\, Toronto\, Ontario\, M4R 1K8\, Canada
ATTACH;FMTTYPE=image/jpeg:https://alz.to/wp-content/uploads/2024/08/Support_Group_Image_3_.jpg
ORGANIZER;CN="Alzheimer Society of Toronto":MAILTO:info@alz.to
END:VEVENT
END:VCALENDAR