
BEGIN:VCALENDAR
VERSION:2.0
PRODID:-//Alzheimers Society of Toronto - ECPv6.15.17.1//NONSGML v1.0//EN
CALSCALE:GREGORIAN
METHOD:PUBLISH
X-WR-CALNAME:Alzheimers Society of Toronto
X-ORIGINAL-URL:https://alz.to
X-WR-CALDESC:Events for Alzheimers Society of Toronto
REFRESH-INTERVAL;VALUE=DURATION:PT1H
X-Robots-Tag:noindex
X-PUBLISHED-TTL:PT1H
BEGIN:VTIMEZONE
TZID:America/Toronto
BEGIN:DAYLIGHT
TZOFFSETFROM:-0500
TZOFFSETTO:-0400
TZNAME:EDT
DTSTART:20240310T070000
END:DAYLIGHT
BEGIN:STANDARD
TZOFFSETFROM:-0400
TZOFFSETTO:-0500
TZNAME:EST
DTSTART:20241103T060000
END:STANDARD
BEGIN:DAYLIGHT
TZOFFSETFROM:-0500
TZOFFSETTO:-0400
TZNAME:EDT
DTSTART:20250309T070000
END:DAYLIGHT
BEGIN:STANDARD
TZOFFSETFROM:-0400
TZOFFSETTO:-0500
TZNAME:EST
DTSTART:20251102T060000
END:STANDARD
BEGIN:DAYLIGHT
TZOFFSETFROM:-0500
TZOFFSETTO:-0400
TZNAME:EDT
DTSTART:20260308T070000
END:DAYLIGHT
BEGIN:STANDARD
TZOFFSETFROM:-0400
TZOFFSETTO:-0500
TZNAME:EST
DTSTART:20261101T060000
END:STANDARD
END:VTIMEZONE
BEGIN:VEVENT
DTSTART;TZID=America/Toronto:20250619T140000
DTEND;TZID=America/Toronto:20250619T154500
DTSTAMP:20260421T070848
CREATED:20250417T132330Z
LAST-MODIFIED:20250508T171712Z
UID:10002705-1750341600-1750347900@alz.to
SUMMARY:ROM Tour\, Talk & Tea
DESCRIPTION:This is a one-hour guided tour of a gallery at the Royal Ontario Museum (ROM) followed by a 45minute conversation over tea and cookies for people living with dementia and their caregivers. The tour and conversation is facilitated by an experienced ROM Docent and is assisted by Alzheimer Society of Toronto Staff and Volunteers. \n  \nPlease note: Your ticket will be valid for the rest of the day so please feel free to explore the museum after the guided tour.
URL:https://alz.to/calendar/rom-tour-talk-tea/
LOCATION:Royal Ontario Museum (ROM)\, 100 Queens Park\, Toronto\, Ontario\, M5S 2C6\, Canada
CATEGORIES:Active Living,Social,Wellness
ATTACH;FMTTYPE=image/jpeg:https://alz.to/wp-content/uploads/2025/04/ROMGallery_F1_Rotunda_Website_DC-2-1.jpg
ORGANIZER;CN="Alzheimer Society of Toronto":MAILTO:info@alz.to
END:VEVENT
END:VCALENDAR