
BEGIN:VCALENDAR
VERSION:2.0
PRODID:-//Alzheimers Society of Toronto - ECPv6.15.17.1//NONSGML v1.0//EN
CALSCALE:GREGORIAN
METHOD:PUBLISH
X-WR-CALNAME:Alzheimers Society of Toronto
X-ORIGINAL-URL:https://alz.to
X-WR-CALDESC:Events for Alzheimers Society of Toronto
REFRESH-INTERVAL;VALUE=DURATION:PT1H
X-Robots-Tag:noindex
X-PUBLISHED-TTL:PT1H
BEGIN:VTIMEZONE
TZID:America/Toronto
BEGIN:DAYLIGHT
TZOFFSETFROM:-0500
TZOFFSETTO:-0400
TZNAME:EDT
DTSTART:20250309T070000
END:DAYLIGHT
BEGIN:STANDARD
TZOFFSETFROM:-0400
TZOFFSETTO:-0500
TZNAME:EST
DTSTART:20251102T060000
END:STANDARD
BEGIN:DAYLIGHT
TZOFFSETFROM:-0500
TZOFFSETTO:-0400
TZNAME:EDT
DTSTART:20260308T070000
END:DAYLIGHT
BEGIN:STANDARD
TZOFFSETFROM:-0400
TZOFFSETTO:-0500
TZNAME:EST
DTSTART:20261101T060000
END:STANDARD
BEGIN:DAYLIGHT
TZOFFSETFROM:-0500
TZOFFSETTO:-0400
TZNAME:EDT
DTSTART:20270314T070000
END:DAYLIGHT
BEGIN:STANDARD
TZOFFSETFROM:-0400
TZOFFSETTO:-0500
TZNAME:EST
DTSTART:20271107T060000
END:STANDARD
END:VTIMEZONE
BEGIN:VEVENT
DTSTART;TZID=America/Toronto:20260421T130000
DTEND;TZID=America/Toronto:20260421T150000
DTSTAMP:20260421T071000
CREATED:20260129T203615Z
LAST-MODIFIED:20260202T162856Z
UID:10003757-1776776400-1776783600@alz.to
SUMMARY:Minds in Motion
DESCRIPTION:8-Week Series on Tuesdays – April 14th – June 2nd from 1:00 – 3:00 PM at St-Andrew’s United Church located at 117 Bloor St East. \nApril 14th\, 21st\, 28th\, May 5th\, 12th\, 19th\, 26th\, & June 2nd 2026 \nGive your mind and body a boost! \nMinds in Motion® is a program that combines physical activity and mental and social stimulation for individuals with early to mid-stage Alzheimer’s disease and other dementias\, and their care partners. This program is offered once a week for 8 weeks and offers a great environment to establish new friendships with others who are living with similar experiences. \nFor more information please contact Kristin Bartlett at kbartlett@alz.to or call 416-389-6099.
URL:https://alz.to/calendar/minds-in-motion-2/2026-04-21/
LOCATION:St. Andrew’s United Church\, 117 Bloor St E\, Toronto\, Ontario\, M4W 1A9\, Canada
CATEGORIES:Active Living,Movement,Wellness
ATTACH;FMTTYPE=image/png:https://alz.to/wp-content/uploads/2024/09/image-1.png
ORGANIZER;CN="Alzheimer Society of Toronto":MAILTO:info@alz.to
END:VEVENT
BEGIN:VEVENT
DTSTART;TZID=America/Toronto:20260525T133000
DTEND;TZID=America/Toronto:20260525T150000
DTSTAMP:20260421T071000
CREATED:20260326T164507Z
LAST-MODIFIED:20260331T123805Z
UID:10004106-1779715800-1779721200@alz.to
SUMMARY:Tuning In: Music & Mindfulness
DESCRIPTION:6-Week Series\, Mondays May 25th – June 29th from 1:30-3:00 PM at St-Andrew’s United Church located at 117 Bloor St East.  \nJoin us for an immersive and playful weekly series exploring music\, mindfulness\, and movement. Each session is crafted to cultivate joy\, support relaxation\, and promote both self-expression and community connection. This series welcomes participants living with mild to moderate dementia or Mild cognitive impairments along with their care team. Music Therapist and Registered Psychotherapist (Qualifying) Michaela Bekenn will highlight the ways music and mindfulness can support wellbeing across the realms of cognitive\, physical\, social\, emotional\, and spiritual health. Each session will feature an engaging and fun group music-making process including singing familiar and new tunes\, rhythm-games\, and improvised songwriting. Inclusive approaches will be taken to invite participants into mindfulness-based activities such as gentle movement\, accessible meditation\, and calm breathing. Participants will also experience the benefits of a soothing “Sound bath\,” featuring a live soundscape to offer nourishment and ease. Tune in to the song of your heart and let’s celebrate the music of life\, together!  \nPlease note: the content of this session does not intend to substitute for medical advice or formal therapy of any kind. Participants and care-partners assume full liability for their safety and wellbeing throughout each session.  \nMichaela Bekenn (she/they) is a Registered Psychotherapist (Qualifying) and Music Therapist based in Tkaronto (Toronto). Alongside her practice in healthcare\, she works as a certified sound therapy practitioner\, yoga instructor\, meditation guide\, and singer songwriter. Michaela is a certified facilitator of Compassion-Based Resilience Training and mindfulness for stress reduction\, addiction recovery\, and chronic pain. With an interdisciplinary background in theatre\, music\, dance\, and energy-work\, Michaela brings a holistic\, eclectic\, and playful energy to her practice. She supports people across the lifespan within both community and clinical settings including mental health care\, oncology\, long term care\, palliative care\, paediatric rehabilitation\, and classroom settings where she provides expressive arts programming for neurodiverse youth. Michaela is passionate for approaches to community care anchored within a framework of social justice and collective liberation. Michaela strives to create a welcoming space for folks of all identities to feel seen\, supported\, and nourished. 
URL:https://alz.to/calendar/tuning-in-music-mindfulness/2026-05-25/
LOCATION:St. Andrew’s United Church\, 117 Bloor St E\, Toronto\, Ontario\, M4W 1A9\, Canada
CATEGORIES:Active Living,Music,Wellness
ATTACH;FMTTYPE=image/jpeg:https://alz.to/wp-content/uploads/2026/03/Michaela-Bekenn-Headshot-2-scaled.jpg
ORGANIZER;CN="Alzheimer Society of Toronto":MAILTO:info@alz.to
END:VEVENT
BEGIN:VEVENT
DTSTART;TZID=America/Toronto:20261014T133000
DTEND;TZID=America/Toronto:20261014T150000
DTSTAMP:20260421T071000
CREATED:20260205T154932Z
LAST-MODIFIED:20260205T185245Z
UID:10003990-1791984600-1791990000@alz.to
SUMMARY:Golden Thread Choir
DESCRIPTION:6-Week Series on Wednesdays from October 14th – November 18th from 1:30 – 3:00 PM at St-Andrew’s United Church located at 117 Bloor St East. \nJoin the Golden Threads Choir for an enriching in-person singing series\, designed for individuals living with dementia and their care partners. Led by acclaimed musician Robin Dann\, this program explores the joy of making music together\, fostering connection and creativity. \nDuring our workshops\, you’ll experience: \n\nVocal warm-ups\nHarmonizing\nExploring vocal ranges\nThe energizing experience of singing as one collective voice\n\nNo prior singing or choral experience is necessary—just a willingness to express yourself! \nAbout Your Choir Leader:\nRobin Dann is a critically acclaimed singer and the leader of the band Bernice\, recognized internationally and nominated twice for Canada’s prestigious Polaris Prize. With over 15 years in Toronto’s vibrant music scene\, Robin brings passion and expertise to our choir.
URL:https://alz.to/calendar/golden-thread-choir/2026-10-14/
LOCATION:St. Andrew’s United Church\, 117 Bloor St E\, Toronto\, Ontario\, M4W 1A9\, Canada
CATEGORIES:Active Living,Music
ATTACH;FMTTYPE=image/png:https://alz.to/wp-content/uploads/2025/03/Golden-Threads-Small.png
ORGANIZER;CN="Alzheimer Society of Toronto":MAILTO:info@alz.to
END:VEVENT
BEGIN:VEVENT
DTSTART;TZID=America/Toronto:20261019T130000
DTEND;TZID=America/Toronto:20261019T150000
DTSTAMP:20260421T071000
CREATED:20260319T164142Z
LAST-MODIFIED:20260319T164142Z
UID:10004092-1792414800-1792422000@alz.to
SUMMARY:Minds in Motion
DESCRIPTION:8-Week Series on Mondays – October 19th – December 7th from 1:00 – 3:00 PM at St-Andrew’s United Church located at 117 Bloor St East.  \nOctober 19th\, 26th\, November 2nd\, 9th\, 16th\, 23rd\, 30th\, & December 7th 2026  \nGive your mind and body a boost!  \nMinds in Motion® is a program that combines physical activity and mental and social stimulation for individuals with early to mid-stage Alzheimer’s disease and other dementias\, and their care partners. This program is offered once a week for 8 weeks and offers a great environment to establish new friendships with others who are living with similar experiences.  \nFor more information please contact Kristin Bartlett at kbartlett@alz.to or call 416-389-6099. 
URL:https://alz.to/calendar/minds-in-motion-3/2026-10-19/
LOCATION:St. Andrew’s United Church\, 117 Bloor St E\, Toronto\, Ontario\, M4W 1A9\, Canada
CATEGORIES:Active Living,Movement,Social,Wellness
ATTACH;FMTTYPE=image/png:https://alz.to/wp-content/uploads/2024/10/MindsInMotion_AST_7_landing-page.png
ORGANIZER;CN="Alzheimer Society of Toronto":MAILTO:info@alz.to
END:VEVENT
END:VCALENDAR