
BEGIN:VCALENDAR
VERSION:2.0
PRODID:-//Alzheimers Society of Toronto - ECPv6.15.17.1//NONSGML v1.0//EN
CALSCALE:GREGORIAN
METHOD:PUBLISH
X-ORIGINAL-URL:https://alz.to
X-WR-CALDESC:Events for Alzheimers Society of Toronto
REFRESH-INTERVAL;VALUE=DURATION:PT1H
X-Robots-Tag:noindex
X-PUBLISHED-TTL:PT1H
BEGIN:VTIMEZONE
TZID:America/Toronto
BEGIN:DAYLIGHT
TZOFFSETFROM:-0500
TZOFFSETTO:-0400
TZNAME:EDT
DTSTART:20250309T070000
END:DAYLIGHT
BEGIN:STANDARD
TZOFFSETFROM:-0400
TZOFFSETTO:-0500
TZNAME:EST
DTSTART:20251102T060000
END:STANDARD
BEGIN:DAYLIGHT
TZOFFSETFROM:-0500
TZOFFSETTO:-0400
TZNAME:EDT
DTSTART:20260308T070000
END:DAYLIGHT
BEGIN:STANDARD
TZOFFSETFROM:-0400
TZOFFSETTO:-0500
TZNAME:EST
DTSTART:20261101T060000
END:STANDARD
BEGIN:DAYLIGHT
TZOFFSETFROM:-0500
TZOFFSETTO:-0400
TZNAME:EDT
DTSTART:20270314T070000
END:DAYLIGHT
BEGIN:STANDARD
TZOFFSETFROM:-0400
TZOFFSETTO:-0500
TZNAME:EST
DTSTART:20271107T060000
END:STANDARD
END:VTIMEZONE
BEGIN:VEVENT
DTSTART;TZID=America/Toronto:20261123T130000
DTEND;TZID=America/Toronto:20261123T150000
DTSTAMP:20260421T111227
CREATED:20260319T164142Z
LAST-MODIFIED:20260319T164142Z
UID:10004097-1795438800-1795446000@alz.to
SUMMARY:Minds in Motion
DESCRIPTION:8-Week Series on Mondays – October 19th – December 7th from 1:00 – 3:00 PM at St-Andrew’s United Church located at 117 Bloor St East.  \nOctober 19th\, 26th\, November 2nd\, 9th\, 16th\, 23rd\, 30th\, & December 7th 2026  \nGive your mind and body a boost!  \nMinds in Motion® is a program that combines physical activity and mental and social stimulation for individuals with early to mid-stage Alzheimer’s disease and other dementias\, and their care partners. This program is offered once a week for 8 weeks and offers a great environment to establish new friendships with others who are living with similar experiences.  \nFor more information please contact Kristin Bartlett at kbartlett@alz.to or call 416-389-6099. 
URL:https://alz.to/calendar/minds-in-motion-3/2026-11-23/
LOCATION:St. Andrew’s United Church\, 117 Bloor St E\, Toronto\, Ontario\, M4W 1A9\, Canada
CATEGORIES:Active Living,Movement,Social,Wellness
ATTACH;FMTTYPE=image/png:https://alz.to/wp-content/uploads/2024/10/MindsInMotion_AST_7_landing-page.png
ORGANIZER;CN="Alzheimer Society of Toronto":MAILTO:info@alz.to
END:VEVENT
BEGIN:VEVENT
DTSTART;TZID=America/Toronto:20261130T130000
DTEND;TZID=America/Toronto:20261130T150000
DTSTAMP:20260421T111227
CREATED:20260319T164142Z
LAST-MODIFIED:20260319T164142Z
UID:10004098-1796043600-1796050800@alz.to
SUMMARY:Minds in Motion
DESCRIPTION:8-Week Series on Mondays – October 19th – December 7th from 1:00 – 3:00 PM at St-Andrew’s United Church located at 117 Bloor St East.  \nOctober 19th\, 26th\, November 2nd\, 9th\, 16th\, 23rd\, 30th\, & December 7th 2026  \nGive your mind and body a boost!  \nMinds in Motion® is a program that combines physical activity and mental and social stimulation for individuals with early to mid-stage Alzheimer’s disease and other dementias\, and their care partners. This program is offered once a week for 8 weeks and offers a great environment to establish new friendships with others who are living with similar experiences.  \nFor more information please contact Kristin Bartlett at kbartlett@alz.to or call 416-389-6099. 
URL:https://alz.to/calendar/minds-in-motion-3/2026-11-30/
LOCATION:St. Andrew’s United Church\, 117 Bloor St E\, Toronto\, Ontario\, M4W 1A9\, Canada
CATEGORIES:Active Living,Movement,Social,Wellness
ATTACH;FMTTYPE=image/png:https://alz.to/wp-content/uploads/2024/10/MindsInMotion_AST_7_landing-page.png
ORGANIZER;CN="Alzheimer Society of Toronto":MAILTO:info@alz.to
END:VEVENT
BEGIN:VEVENT
DTSTART;TZID=America/Toronto:20261207T130000
DTEND;TZID=America/Toronto:20261207T150000
DTSTAMP:20260421T111228
CREATED:20260319T164142Z
LAST-MODIFIED:20260319T164142Z
UID:10004099-1796648400-1796655600@alz.to
SUMMARY:Minds in Motion
DESCRIPTION:8-Week Series on Mondays – October 19th – December 7th from 1:00 – 3:00 PM at St-Andrew’s United Church located at 117 Bloor St East.  \nOctober 19th\, 26th\, November 2nd\, 9th\, 16th\, 23rd\, 30th\, & December 7th 2026  \nGive your mind and body a boost!  \nMinds in Motion® is a program that combines physical activity and mental and social stimulation for individuals with early to mid-stage Alzheimer’s disease and other dementias\, and their care partners. This program is offered once a week for 8 weeks and offers a great environment to establish new friendships with others who are living with similar experiences.  \nFor more information please contact Kristin Bartlett at kbartlett@alz.to or call 416-389-6099. 
URL:https://alz.to/calendar/minds-in-motion-3/2026-12-07/
LOCATION:St. Andrew’s United Church\, 117 Bloor St E\, Toronto\, Ontario\, M4W 1A9\, Canada
CATEGORIES:Active Living,Movement,Social,Wellness
ATTACH;FMTTYPE=image/png:https://alz.to/wp-content/uploads/2024/10/MindsInMotion_AST_7_landing-page.png
ORGANIZER;CN="Alzheimer Society of Toronto":MAILTO:info@alz.to
END:VEVENT
END:VCALENDAR