
BEGIN:VCALENDAR
VERSION:2.0
PRODID:-//Alzheimers Society of Toronto - ECPv6.15.17.1//NONSGML v1.0//EN
CALSCALE:GREGORIAN
METHOD:PUBLISH
X-ORIGINAL-URL:https://alz.to
X-WR-CALDESC:Events for Alzheimers Society of Toronto
REFRESH-INTERVAL;VALUE=DURATION:PT1H
X-Robots-Tag:noindex
X-PUBLISHED-TTL:PT1H
BEGIN:VTIMEZONE
TZID:America/Toronto
BEGIN:DAYLIGHT
TZOFFSETFROM:-0500
TZOFFSETTO:-0400
TZNAME:EDT
DTSTART:20240310T070000
END:DAYLIGHT
BEGIN:STANDARD
TZOFFSETFROM:-0400
TZOFFSETTO:-0500
TZNAME:EST
DTSTART:20241103T060000
END:STANDARD
BEGIN:DAYLIGHT
TZOFFSETFROM:-0500
TZOFFSETTO:-0400
TZNAME:EDT
DTSTART:20250309T070000
END:DAYLIGHT
BEGIN:STANDARD
TZOFFSETFROM:-0400
TZOFFSETTO:-0500
TZNAME:EST
DTSTART:20251102T060000
END:STANDARD
BEGIN:DAYLIGHT
TZOFFSETFROM:-0500
TZOFFSETTO:-0400
TZNAME:EDT
DTSTART:20260308T070000
END:DAYLIGHT
BEGIN:STANDARD
TZOFFSETFROM:-0400
TZOFFSETTO:-0500
TZNAME:EST
DTSTART:20261101T060000
END:STANDARD
END:VTIMEZONE
BEGIN:VEVENT
DTSTART;TZID=America/Toronto:20250130T133000
DTEND;TZID=America/Toronto:20250130T150000
DTSTAMP:20260421T145331
CREATED:20241109T034321Z
LAST-MODIFIED:20241216T184101Z
UID:10001499-1738243800-1738249200@alz.to
SUMMARY:The Golden Thread Choir
DESCRIPTION:Golden Threads Choir \nJoin us for a transformative musical experience! \nJoin the Golden Threads Choir for an enriching in-person singing series\, designed for individuals living with dementia and their care partners. Led by acclaimed musician Robin Dann\, this program explores the joy of making music together\, fostering connection and creativity. \nDuring our workshops\, you’ll experience: \n\nVocal warm-ups\nHarmonizing\nExploring vocal ranges\nThe energizing experience of singing as one collective voice\n\nThis series will revolve around the theme of “time\,” culminating in an exciting multidisciplinary performance at the Tarragon Theatre in February 2025. No prior singing or choral experience is necessary—just a willingness to express yourself! \nAbout Your Choir Leader:\nRobin Dann is a critically acclaimed singer and the leader of the band Bernice recognized internationally and nominated twice for Canada’s prestigious Polaris Prize. With over 15 years in Toronto’s vibrant music scene\, Robin brings passion and expertise to our choir. \nChoir Workshop Dates:\nMondays & Thursdays from January 13th to January 30th\, 2025\nTime: 1:30 PM – 3:00 PM\nLocation: St. Andrew’s United Church\, 117 Bloor St East \nChoir Workshop Schedule:\nJanuary 13\, 16\, 20\, 23\, 27\, & 30\, 2025 \nChoir Rehearsals:\nDates: February 3rd – February 13th\, 2025\nLocation: St. Andrew’s United Church & Tarragon Theatre \nPerformance Dates:\nFebruary 14th\, 15th & 16th\, 2025\nLocation: Tarragon Theatre\, 30 Bridgman Ave\, M5R 1X3 \nFor more information\, please contact:\nTracey Adams-Thibaudeau\nPhone: 647-456-6168 \nWe can’t wait to sing with you! \n 
URL:https://alz.to/calendar/the-golden-thread-choir/2025-01-30/
LOCATION:St. Andrew’s United Church\, 117 Bloor St E\, Toronto\, Ontario\, M4W 1A9\, Canada
CATEGORIES:Active Living,Music
ATTACH;FMTTYPE=image/png:https://alz.to/wp-content/uploads/2024/11/Copy-of-Caregiver-Day-LinkedIn-1200-x-1000-px-960-x-540-px-10.png
END:VEVENT
BEGIN:VEVENT
DTSTART;TZID=America/Toronto:20250127T133000
DTEND;TZID=America/Toronto:20250127T150000
DTSTAMP:20260421T145331
CREATED:20241109T034321Z
LAST-MODIFIED:20241216T184101Z
UID:10001498-1737984600-1737990000@alz.to
SUMMARY:The Golden Thread Choir
DESCRIPTION:Golden Threads Choir \nJoin us for a transformative musical experience! \nJoin the Golden Threads Choir for an enriching in-person singing series\, designed for individuals living with dementia and their care partners. Led by acclaimed musician Robin Dann\, this program explores the joy of making music together\, fostering connection and creativity. \nDuring our workshops\, you’ll experience: \n\nVocal warm-ups\nHarmonizing\nExploring vocal ranges\nThe energizing experience of singing as one collective voice\n\nThis series will revolve around the theme of “time\,” culminating in an exciting multidisciplinary performance at the Tarragon Theatre in February 2025. No prior singing or choral experience is necessary—just a willingness to express yourself! \nAbout Your Choir Leader:\nRobin Dann is a critically acclaimed singer and the leader of the band Bernice recognized internationally and nominated twice for Canada’s prestigious Polaris Prize. With over 15 years in Toronto’s vibrant music scene\, Robin brings passion and expertise to our choir. \nChoir Workshop Dates:\nMondays & Thursdays from January 13th to January 30th\, 2025\nTime: 1:30 PM – 3:00 PM\nLocation: St. Andrew’s United Church\, 117 Bloor St East \nChoir Workshop Schedule:\nJanuary 13\, 16\, 20\, 23\, 27\, & 30\, 2025 \nChoir Rehearsals:\nDates: February 3rd – February 13th\, 2025\nLocation: St. Andrew’s United Church & Tarragon Theatre \nPerformance Dates:\nFebruary 14th\, 15th & 16th\, 2025\nLocation: Tarragon Theatre\, 30 Bridgman Ave\, M5R 1X3 \nFor more information\, please contact:\nTracey Adams-Thibaudeau\nPhone: 647-456-6168 \nWe can’t wait to sing with you! \n 
URL:https://alz.to/calendar/the-golden-thread-choir/2025-01-27/
LOCATION:St. Andrew’s United Church\, 117 Bloor St E\, Toronto\, Ontario\, M4W 1A9\, Canada
CATEGORIES:Active Living,Music
ATTACH;FMTTYPE=image/png:https://alz.to/wp-content/uploads/2024/11/Copy-of-Caregiver-Day-LinkedIn-1200-x-1000-px-960-x-540-px-10.png
END:VEVENT
BEGIN:VEVENT
DTSTART;TZID=America/Toronto:20250123T133000
DTEND;TZID=America/Toronto:20250123T150000
DTSTAMP:20260421T145331
CREATED:20241109T034321Z
LAST-MODIFIED:20241216T184101Z
UID:10001497-1737639000-1737644400@alz.to
SUMMARY:The Golden Thread Choir
DESCRIPTION:Golden Threads Choir \nJoin us for a transformative musical experience! \nJoin the Golden Threads Choir for an enriching in-person singing series\, designed for individuals living with dementia and their care partners. Led by acclaimed musician Robin Dann\, this program explores the joy of making music together\, fostering connection and creativity. \nDuring our workshops\, you’ll experience: \n\nVocal warm-ups\nHarmonizing\nExploring vocal ranges\nThe energizing experience of singing as one collective voice\n\nThis series will revolve around the theme of “time\,” culminating in an exciting multidisciplinary performance at the Tarragon Theatre in February 2025. No prior singing or choral experience is necessary—just a willingness to express yourself! \nAbout Your Choir Leader:\nRobin Dann is a critically acclaimed singer and the leader of the band Bernice recognized internationally and nominated twice for Canada’s prestigious Polaris Prize. With over 15 years in Toronto’s vibrant music scene\, Robin brings passion and expertise to our choir. \nChoir Workshop Dates:\nMondays & Thursdays from January 13th to January 30th\, 2025\nTime: 1:30 PM – 3:00 PM\nLocation: St. Andrew’s United Church\, 117 Bloor St East \nChoir Workshop Schedule:\nJanuary 13\, 16\, 20\, 23\, 27\, & 30\, 2025 \nChoir Rehearsals:\nDates: February 3rd – February 13th\, 2025\nLocation: St. Andrew’s United Church & Tarragon Theatre \nPerformance Dates:\nFebruary 14th\, 15th & 16th\, 2025\nLocation: Tarragon Theatre\, 30 Bridgman Ave\, M5R 1X3 \nFor more information\, please contact:\nTracey Adams-Thibaudeau\nPhone: 647-456-6168 \nWe can’t wait to sing with you! \n 
URL:https://alz.to/calendar/the-golden-thread-choir/2025-01-23/
LOCATION:St. Andrew’s United Church\, 117 Bloor St E\, Toronto\, Ontario\, M4W 1A9\, Canada
CATEGORIES:Active Living,Music
ATTACH;FMTTYPE=image/png:https://alz.to/wp-content/uploads/2024/11/Copy-of-Caregiver-Day-LinkedIn-1200-x-1000-px-960-x-540-px-10.png
END:VEVENT
BEGIN:VEVENT
DTSTART;TZID=America/Toronto:20250120T133000
DTEND;TZID=America/Toronto:20250120T150000
DTSTAMP:20260421T145331
CREATED:20241109T034321Z
LAST-MODIFIED:20241216T184101Z
UID:10001496-1737379800-1737385200@alz.to
SUMMARY:The Golden Thread Choir
DESCRIPTION:Golden Threads Choir \nJoin us for a transformative musical experience! \nJoin the Golden Threads Choir for an enriching in-person singing series\, designed for individuals living with dementia and their care partners. Led by acclaimed musician Robin Dann\, this program explores the joy of making music together\, fostering connection and creativity. \nDuring our workshops\, you’ll experience: \n\nVocal warm-ups\nHarmonizing\nExploring vocal ranges\nThe energizing experience of singing as one collective voice\n\nThis series will revolve around the theme of “time\,” culminating in an exciting multidisciplinary performance at the Tarragon Theatre in February 2025. No prior singing or choral experience is necessary—just a willingness to express yourself! \nAbout Your Choir Leader:\nRobin Dann is a critically acclaimed singer and the leader of the band Bernice recognized internationally and nominated twice for Canada’s prestigious Polaris Prize. With over 15 years in Toronto’s vibrant music scene\, Robin brings passion and expertise to our choir. \nChoir Workshop Dates:\nMondays & Thursdays from January 13th to January 30th\, 2025\nTime: 1:30 PM – 3:00 PM\nLocation: St. Andrew’s United Church\, 117 Bloor St East \nChoir Workshop Schedule:\nJanuary 13\, 16\, 20\, 23\, 27\, & 30\, 2025 \nChoir Rehearsals:\nDates: February 3rd – February 13th\, 2025\nLocation: St. Andrew’s United Church & Tarragon Theatre \nPerformance Dates:\nFebruary 14th\, 15th & 16th\, 2025\nLocation: Tarragon Theatre\, 30 Bridgman Ave\, M5R 1X3 \nFor more information\, please contact:\nTracey Adams-Thibaudeau\nPhone: 647-456-6168 \nWe can’t wait to sing with you! \n 
URL:https://alz.to/calendar/the-golden-thread-choir/2025-01-20/
LOCATION:St. Andrew’s United Church\, 117 Bloor St E\, Toronto\, Ontario\, M4W 1A9\, Canada
CATEGORIES:Active Living,Music
ATTACH;FMTTYPE=image/png:https://alz.to/wp-content/uploads/2024/11/Copy-of-Caregiver-Day-LinkedIn-1200-x-1000-px-960-x-540-px-10.png
END:VEVENT
BEGIN:VEVENT
DTSTART;TZID=America/Toronto:20250116T133000
DTEND;TZID=America/Toronto:20250116T150000
DTSTAMP:20260421T145331
CREATED:20241109T034321Z
LAST-MODIFIED:20241216T184101Z
UID:10001495-1737034200-1737039600@alz.to
SUMMARY:The Golden Thread Choir
DESCRIPTION:Golden Threads Choir \nJoin us for a transformative musical experience! \nJoin the Golden Threads Choir for an enriching in-person singing series\, designed for individuals living with dementia and their care partners. Led by acclaimed musician Robin Dann\, this program explores the joy of making music together\, fostering connection and creativity. \nDuring our workshops\, you’ll experience: \n\nVocal warm-ups\nHarmonizing\nExploring vocal ranges\nThe energizing experience of singing as one collective voice\n\nThis series will revolve around the theme of “time\,” culminating in an exciting multidisciplinary performance at the Tarragon Theatre in February 2025. No prior singing or choral experience is necessary—just a willingness to express yourself! \nAbout Your Choir Leader:\nRobin Dann is a critically acclaimed singer and the leader of the band Bernice recognized internationally and nominated twice for Canada’s prestigious Polaris Prize. With over 15 years in Toronto’s vibrant music scene\, Robin brings passion and expertise to our choir. \nChoir Workshop Dates:\nMondays & Thursdays from January 13th to January 30th\, 2025\nTime: 1:30 PM – 3:00 PM\nLocation: St. Andrew’s United Church\, 117 Bloor St East \nChoir Workshop Schedule:\nJanuary 13\, 16\, 20\, 23\, 27\, & 30\, 2025 \nChoir Rehearsals:\nDates: February 3rd – February 13th\, 2025\nLocation: St. Andrew’s United Church & Tarragon Theatre \nPerformance Dates:\nFebruary 14th\, 15th & 16th\, 2025\nLocation: Tarragon Theatre\, 30 Bridgman Ave\, M5R 1X3 \nFor more information\, please contact:\nTracey Adams-Thibaudeau\nPhone: 647-456-6168 \nWe can’t wait to sing with you! \n 
URL:https://alz.to/calendar/the-golden-thread-choir/2025-01-16/
LOCATION:St. Andrew’s United Church\, 117 Bloor St E\, Toronto\, Ontario\, M4W 1A9\, Canada
CATEGORIES:Active Living,Music
ATTACH;FMTTYPE=image/png:https://alz.to/wp-content/uploads/2024/11/Copy-of-Caregiver-Day-LinkedIn-1200-x-1000-px-960-x-540-px-10.png
END:VEVENT
BEGIN:VEVENT
DTSTART;TZID=America/Toronto:20250113T133000
DTEND;TZID=America/Toronto:20250113T150000
DTSTAMP:20260421T145331
CREATED:20241109T034321Z
LAST-MODIFIED:20241216T184101Z
UID:10001494-1736775000-1736780400@alz.to
SUMMARY:The Golden Thread Choir
DESCRIPTION:Golden Threads Choir \nJoin us for a transformative musical experience! \nJoin the Golden Threads Choir for an enriching in-person singing series\, designed for individuals living with dementia and their care partners. Led by acclaimed musician Robin Dann\, this program explores the joy of making music together\, fostering connection and creativity. \nDuring our workshops\, you’ll experience: \n\nVocal warm-ups\nHarmonizing\nExploring vocal ranges\nThe energizing experience of singing as one collective voice\n\nThis series will revolve around the theme of “time\,” culminating in an exciting multidisciplinary performance at the Tarragon Theatre in February 2025. No prior singing or choral experience is necessary—just a willingness to express yourself! \nAbout Your Choir Leader:\nRobin Dann is a critically acclaimed singer and the leader of the band Bernice recognized internationally and nominated twice for Canada’s prestigious Polaris Prize. With over 15 years in Toronto’s vibrant music scene\, Robin brings passion and expertise to our choir. \nChoir Workshop Dates:\nMondays & Thursdays from January 13th to January 30th\, 2025\nTime: 1:30 PM – 3:00 PM\nLocation: St. Andrew’s United Church\, 117 Bloor St East \nChoir Workshop Schedule:\nJanuary 13\, 16\, 20\, 23\, 27\, & 30\, 2025 \nChoir Rehearsals:\nDates: February 3rd – February 13th\, 2025\nLocation: St. Andrew’s United Church & Tarragon Theatre \nPerformance Dates:\nFebruary 14th\, 15th & 16th\, 2025\nLocation: Tarragon Theatre\, 30 Bridgman Ave\, M5R 1X3 \nFor more information\, please contact:\nTracey Adams-Thibaudeau\nPhone: 647-456-6168 \nWe can’t wait to sing with you! \n 
URL:https://alz.to/calendar/the-golden-thread-choir/2025-01-13/
LOCATION:St. Andrew’s United Church\, 117 Bloor St E\, Toronto\, Ontario\, M4W 1A9\, Canada
CATEGORIES:Active Living,Music
ATTACH;FMTTYPE=image/png:https://alz.to/wp-content/uploads/2024/11/Copy-of-Caregiver-Day-LinkedIn-1200-x-1000-px-960-x-540-px-10.png
END:VEVENT
END:VCALENDAR