
BEGIN:VCALENDAR
VERSION:2.0
PRODID:-//Alzheimers Society of Toronto - ECPv6.15.17.1//NONSGML v1.0//EN
CALSCALE:GREGORIAN
METHOD:PUBLISH
X-WR-CALNAME:Alzheimers Society of Toronto
X-ORIGINAL-URL:https://alz.to
X-WR-CALDESC:Events for Alzheimers Society of Toronto
REFRESH-INTERVAL;VALUE=DURATION:PT1H
X-Robots-Tag:noindex
X-PUBLISHED-TTL:PT1H
BEGIN:VTIMEZONE
TZID:America/Toronto
BEGIN:DAYLIGHT
TZOFFSETFROM:-0500
TZOFFSETTO:-0400
TZNAME:EDT
DTSTART:20240310T070000
END:DAYLIGHT
BEGIN:STANDARD
TZOFFSETFROM:-0400
TZOFFSETTO:-0500
TZNAME:EST
DTSTART:20241103T060000
END:STANDARD
BEGIN:DAYLIGHT
TZOFFSETFROM:-0500
TZOFFSETTO:-0400
TZNAME:EDT
DTSTART:20250309T070000
END:DAYLIGHT
BEGIN:STANDARD
TZOFFSETFROM:-0400
TZOFFSETTO:-0500
TZNAME:EST
DTSTART:20251102T060000
END:STANDARD
BEGIN:DAYLIGHT
TZOFFSETFROM:-0500
TZOFFSETTO:-0400
TZNAME:EDT
DTSTART:20260308T070000
END:DAYLIGHT
BEGIN:STANDARD
TZOFFSETFROM:-0400
TZOFFSETTO:-0500
TZNAME:EST
DTSTART:20261101T060000
END:STANDARD
END:VTIMEZONE
BEGIN:VEVENT
DTSTART;TZID=America/Toronto:20250412T130000
DTEND;TZID=America/Toronto:20250412T140000
DTSTAMP:20260421T070744
CREATED:20250131T172440Z
LAST-MODIFIED:20250131T172440Z
UID:10001871-1744462800-1744466400@alz.to
SUMMARY:Brain Health
DESCRIPTION:Join us at the Toronto Public Library – North York Central Library for an education session about Brain Health. \n  \nThis interactive presentation discusses the risk factors of dementia and how healthy lifestyle changes can help improve and maintain the health of the brain. \nLearning Objectives\n– Understand some of the research findings on reducing the risk of developing -dementia.\n– Recognize how lifestyle plays a role in a person’s risk of developing dementia.\n– Commit to take action to reduce the risk of developing dementia. \n  \nRegistration is encouraged.\nRegister via Eventbrite (registration is through the North York Central Library) \nTo learn more\, click here
URL:https://alz.to/calendar/brain-health-2/
LOCATION:Toronto Public Library – North York Central Library\, 5120 Yonge Street\, Toronto\, Ontario\, M2N 5N9\, Canada
CATEGORIES:Learn,Workshops in the City
ATTACH;FMTTYPE=image/jpeg:https://alz.to/wp-content/uploads/2024/10/PSW-EducationNight-5422-scaled.jpg
ORGANIZER;CN="Education Team at Alzheimer Society of Toronto":MAILTO:education@alz.to
END:VEVENT
END:VCALENDAR